Workbook

Sheet Overzicht
A2: AK | D2: DU | G2: ECO | J2: EN | M2: FA | P2: GS | S2: NAT | V2: NE | Y2: SK | AB2: TE | AE2: WI
A3: WK 35 | B3: =AK!H10 -> FALSE | D3: WK 35 | E3: =DU!H16 -> FALSE | G3: WK 35 | H3: =ECO!H16 -> FALSE | J3: WK 35 | K3: =EN!H16 -> FALSE | M3: WK 35 | N3: =FA!H16 -> FALSE | P3: WK 35 | Q3: =GS!H16 -> FALSE | S3: WK 35 | T3: =NAT!H16 -> FALSE | V3: WK 35 | W3: =NE!H16 -> FALSE | Y3: WK 35 | Z3: =SK!H16 -> FALSE | AB3: WK 35 | AC3: =TE!H16 -> FALSE | AE3: WK 35 | AF3: =WI!H16 -> FALSE
A4: WK 36 | B4: =AK!H16 -> FALSE | D4: WK 36 | E4: =DU!H22 -> FALSE | G4: WK 36 | H4: =ECO!H22 -> FALSE | J4: WK 36 | K4: =EN!H22 -> FALSE | M4: WK 36 | N4: =FA!H22 -> FALSE | P4: WK 36 | Q4: =GS!H22 -> FALSE | S4: WK 36 | T4: =NAT!H22 -> FALSE | V4: WK 36 | W4: =NE!H22 -> FALSE | Y4: WK 36 | Z4: =SK!H22 -> FALSE | AB4: WK 36 | AC4: =TE!H22 -> FALSE | AE4: WK 36 | AF4: =WI!H22 -> FALSE
A5: WK 37 | B5: =AK!H22 -> FALSE | D5: WK 37 | E5: =DU!H28 -> FALSE | G5: WK 37 | H5: =ECO!H28 -> FALSE | J5: WK 37 | K5: =EN!H28 -> FALSE | M5: WK 37 | N5: =FA!H28 -> FALSE | P5: WK 37 | Q5: =GS!H28 -> FALSE | S5: WK 37 | T5: =NAT!H28 -> FALSE | V5: WK 37 | W5: =NE!H28 -> FALSE | Y5: WK 37 | Z5: =SK!H28 -> FALSE | AB5: WK 37 | AC5: =TE!H28 -> FALSE | AE5: WK 37 | AF5: =WI!H28 -> FALSE
A6: WK 38 | B6: =AK!H28 -> FALSE | D6: WK 38 | E6: =DU!H35 | G6: WK 38 | H6: =ECO!H35 | J6: WK 38 | K6: =EN!H35 | M6: WK 38 | N6: =FA!H35 | P6: WK 38 | Q6: =GS!H35 | S6: WK 38 | T6: =NAT!H35 | V6: WK 38 | W6: =NE!H35 | Y6: WK 38 | Z6: =SK!H35 | AB6: WK 38 | AC6: =TE!H35 | AE6: WK 38 | AF6: =WI!H35
A7: WK 39 | B7: =AK!H34 -> FALSE | D7: WK 39 | E7: =DU!H41 | G7: WK 39 | H7: =ECO!H41 | J7: WK 39 | K7: =EN!H41 | M7: WK 39 | N7: =FA!H41 | P7: WK 39 | Q7: =GS!H41 | S7: WK 39 | T7: =NAT!H41 | V7: WK 39 | W7: =NE!H41 | Y7: WK 39 | Z7: =SK!H41 | AB7: WK 39 | AC7: =TE!H41 | AE7: WK 39 | AF7: =WI!H41
A8: WK 40 | B8: =AK!H40 -> FALSE | D8: WK 40 | E8: =DU!H47 | G8: WK 40 | H8: =ECO!H47 | J8: WK 40 | K8: =EN!H47 | M8: WK 40 | N8: =FA!H47 | P8: WK 40 | Q8: =GS!H47 | S8: WK 40 | T8: =NAT!H47 | V8: WK 40 | W8: =NE!H47 | Y8: WK 40 | Z8: =SK!H47 | AB8: WK 40 | AC8: =TE!H47 | AE8: WK 40 | AF8: =WI!H47
A9: WK 41 | B9: =AK!H46 -> FALSE | D9: WK 41 | E9: =DU!H54 | G9: WK 41 | H9: =ECO!H54 | J9: WK 41 | K9: =EN!H54 | M9: WK 41 | N9: =FA!H54 | P9: WK 41 | Q9: =GS!H54 | S9: WK 41 | T9: =NAT!H54 | V9: WK 41 | W9: =NE!H54 | Y9: WK 41 | Z9: =SK!H54 | AB9: WK 41 | AC9: =TE!H54 | AE9: WK 41 | AF9: =WI!H54
A10: WK 43 | B10: =AK!H53 -> FALSE | D10: WK 43 | E10: =DU!H60 | G10: WK 43 | H10: =ECO!H60 | J10: WK 43 | K10: =EN!H60 | M10: WK 43 | N10: =FA!H60 | P10: WK 43 | Q10: =GS!H60 | S10: WK 43 | T10: =NAT!H60 | V10: WK 43 | W10: =NE!H60 | Y10: WK 43 | Z10: =SK!H60 | AB10: WK 43 | AC10: =TE!H60 | AE10: WK 43 | AF10: =WI!H60

Sheet AK
B1: AARDRIJKSKUNDE (AK) | K1: PERIODE 1
A3: ALGEMENE INFORMATIE
A4: Welkomswoordje
A5: Wat gaan we deze periode doen? Wat is de Daltontaak? Wat houd de Daltontaak in?
A6: Welke boeken/spullen/materialen zijn er nodig?
A7: Wat moet je geleerd hebben na deze periode?
A9: VAKINHOUD | H9: IK HEB HET GEDAAN | I9: IK BEHEERS HET | J9: RUIMTE VOOR REFLECTIE
A10: WK35: 24 t/m 28 aug. | B10: TAKEN & OPDRACHTEN | H10: FALSE | I10: FALSE
A11: Lezen | B11: openingsfoto hoofdstuk 3 LB blz. 38-39 | G11: FALSE
A12: Maken | B12: startopdrachten hoofdstuk 3 WB blz 44 | G12: FALSE
A13: Keuzemenu | G13: FALSE
A14: Keuzemenu | G14: FALSE
A15: Keuzemenu | G15: FALSE
A16: WK36: 31 t/m 4 sep. | B16: TAKEN & OPDRACHTEN | H16: FALSE | I16: FALSE
A17: Lezen | B17: §3.1 Unieke ligging en droogte in Chili LB blz 40-41 | G17: FALSE
A18: Maken | B18: §3.1 WB blz 45-46 opg 1 t/m 5 | G18: FALSE
A19: Lezen | B19: Bijbehorende Basisboeknummers | G19: FALSE
A20: Keuzemenu | G20: FALSE
A21: Keuzemenu | G21: FALSE
A22: WK37: 7 t/m 11 sep. Examenreisweek | B22: TAKEN & OPDRACHTEN | H22: FALSE | I22: FALSE
A23: Lezen | B23: §3.1 El niño LB blz 41 | G23: FALSE
A24: Maken | B24: §3.1 WB blz 46-47 opg 6 t/m 10 | G24: FALSE
A25: Lezen | B25: Bijbehorende Basisboeknummers | G25: FALSE
A26: Keuzemenu | G26: FALSE
A27: Keuzemenu | G27: FALSE
A28: WK38: 14 t/m 18 sep. | B28: TAKEN & OPDRACHTEN | H28: FALSE | I28: FALSE
A29: Lezen | B29: §3.2 Zware bevingen LB blz 42 | G29: FALSE
A30: Maken | B30: §3.2 WB blz 48-49 opg. 1, 2, 4 en 5 | G30: FALSE
A31: Lezen | B31: §3.2 Wegduiken en Het Andesgebergte LB blz 43 | G31: FALSE
A32: Maken | B32: §3.2 WB blz 48-50 opg. 3, 6, 7 en 8. | G32: FALSE
A33: Leren | B33: Voorbereiden 1T begrippen §3.1 en §3.2 (alleen uit je leerboek) | G33: FALSE
A34: WK39: 21 t/m 25 sep. | B34: TAKEN & OPDRACHTEN | H34: FALSE | I34: FALSE
A35: Toets | B35: 1T begrippen §3.1 en §3.2 (alleen uit je leerboek) | G35: FALSE
A36: Lezen | B36: §3.3 Ontstaan van vulkanen en Explosieve vulkanen LB blz 44 | G36: FALSE
A37: Maken | B37: §3.3 WB blz 51-52 opg 1 t/m 5 | G37: FALSE
A38: Lezen | B38: Bijbehorende Basisboeknummers | G38: FALSE
A39: Keuzemenu | G39: FALSE
A40: WK40: 28 t/m 2 okt. | B40: TAKEN & OPDRACHTEN | H40: FALSE | I40: FALSE
A41: Lezen | B41: §3.3 Bijzondere eilanden blz 45 | G41: FALSE
A42: Maken | B42: §3.3 WB blz 52-53 opg 6 t/m 10 | G42: FALSE
A43: Lezen | B43: §3.4 economische ontwikkeling, koper en wijn blz 46 | G43: FALSE
A44: Maken | B44: §3.4 WB blz 54-55 opgaven 1 t/m 4 | G44: FALSE
A45: Lezen | B45: Bijbehorende Basisboeknummers | G45: FALSE
A46: WK41: 5 t/m 9 okt. Di. Brugklasdag | B46: TAKEN & OPDRACHTEN | H46: FALSE | I46: FALSE
A47: Lezen | B47: §3.4 viskweek, verstedelijking en bevolking blz 47 | G47: FALSE
A48: Maken | B48: §3.4 WB blz 55-56 opgaven 5-8 | G48: FALSE
A49: Lezen | B49: Bijbehorende Basisboeknummers | G49: FALSE
A50: Keuzemenu | G50: FALSE
A51: Keuzemenu | G51: FALSE
A52: WEEK 42 HERFSTVAKANTIE
A53: WK43: 19 t/m 23 okt. Vr. Daltondag | B53: TAKEN & OPDRACHTEN | H53: FALSE | I53: FALSE
A54: Leren | B54: Voorbereiden op de 4T Hoofdstuk 3 §1-4 | G54: FALSE
A55: Keuzemenu | G55: FALSE
A56: Keuzemenu | G56: FALSE
A57: Keuzemenu | G57: FALSE
A58: Keuzemenu | G58: FALSE
A59: WEEK 44 TOETSWEEK ONDERBOUW EN BOVENBOUW (MA. 26 OKT. T/M VR. 30 OKT.)
A61: UITDAGINGEN/EXTRA MOGELIJKHEDEN
A69: TOETS
A70: 4-Toets hst.3 (paragraaf 1 t/m 4) Chili
A72: De bijbehorende Basisboeknummers moet je ook kennen
A74: Geen topografie leren!

Sheet DU
B1: DUITS (DU) | K1: PERIODE 1
A3: ALGEMENE INFORMATIE
A4: Aan het begin van de les zie je de weekplanner op het bord en weet je precies wat we gaan doen!
A5: De eerste les van de week krijg je uitleg en weet je wat de "weektaak" wordt en je noteert dit in je DALTONPLANNER!
A6: De wekelijkse "planner" op het bord vind je ook terug in SOM / studiewijzer / Duitse taal / Planning
A7: Onderaan zie je wat er deze periode getoetst wordt
A9: VAKINHOUD | H9: IK HEB HET GEDAAN | I9: IK BEHEERS HET | J9: RUIMTE VOOR REFLECTIE
A10: WK35: 24 t/m 28 aug. | B10: TAKEN & OPDRACHTEN | H10: FALSE | I10: FALSE
A11: Informatie | B11: Informatie en introductie boek Neue Kontakte 3 havo / wat ga je leren / wat gaan we doen / Wörterkram testjes enz. | G11: FALSE
A12: Daltontaak (verplicht) | B12: Je hebt het boekje "Wiederholung Grammatik klas 2, les 1-2-3" af | G12: FALSE
A13: Keuzemenu | G13: FALSE
A14: Keuzemenu | G14: FALSE
A15: Keuzemenu | G15: FALSE
A16: WK36: 31 t/m 4 sep. | B16: TAKEN & OPDRACHTEN | H16: FALSE | I16: FALSE
A17: Nakijken | B17: Boekje "Wiederholung..." - wat ging goed, waar had je moeite mee? | G17: FALSE
A18: Kijken & Luisteren | B18: Start Kapitel 1 "Umgebung": S.17: Aufgabe 2 (zie S.51 Wörter A!) / 1 Sehen | G18: FALSE
A19: Woordenschat | B19: Wörter B - S.50 / Aufgabe 4 Hören | G19: FALSE
A20: Maken | B20: S.17ff: Aufgabe 3-9 (duo) | G20: FALSE
A21: Informatie | B21: Instructie "Daltontaak - Ich suche einen Partner" | G21: FALSE
A22: WK37: 7 t/m 11 sep. Examenreisweek | B22: TAKEN & OPDRACHTEN | H22: FALSE | I22: FALSE
A23: Daltontaak (verplicht) | B23: Werken aan "Daltontaak - Ich suche einen Partner" | G23: FALSE
A24: Keuzemenu | G24: FALSE
A25: Keuzemenu | G25: FALSE
A26: Keuzemenu | G26: FALSE
A27: Keuzemenu | G27: FALSE
A28: WK38: 14 t/m 18 sep. | B28: TAKEN & OPDRACHTEN | H28: FALSE | I28: FALSE
A29: Inleveren | B29: Je levert uiterlijk de eerste les je Daltontaak "Ich suche einen Partner" in | G29: FALSE
A30: Herhalen | B30: Leesopdrachten en teksten? Hoe pak je dat ook alweer aan? / (S.27) Aufgabe 14Lesen - info/maken/bespreken | G30: FALSE
A31: Luisteren | B31: S.22: Aufgabe 10 Hören | G31: FALSE
A32: Informatie | B32: Presentatie "Meine Ferien" instructie en informatie mondeling (MO - 2 toets - duo) / gebruik F Sprechen (S.34ff.) ter voorbereiding | G32: FALSE
A33: Daltontaak (verplicht) | B33: S.23ff: Je hebt Aufgaben 11-14 gemaakt / "Wörterkram 1" je leert de woordjes B-links S.50 en A&C S.51 | G33: FALSE
A34: WK39: 21 t/m 25 sep. | B34: TAKEN & OPDRACHTEN | H34: FALSE | I34: FALSE
A35: Nakijken | B35: Aufgabe 11-14 | G35: FALSE
A36: Test | B36: "Wörterkram 1" woordjestest | G36: FALSE
A37: Grammatica | B37: S.28ff: Werkwoorden vervoegen - verleden tijd [sein/haben] en - tegenwoordige tijd [werden] = Aufgaben 15-22 | G37: FALSE
A38: Daltontaak (optioneel) | B38: S. 34ff: Je kunt Aufgaben "F Sprechen" maken ter voorbereiding van de "presentatie" | G38: FALSE
A39: Daltontaak (verplicht) | B39: S. 28ff: Je hebt Aufgabe 15-22 gemaakt | G39: FALSE
A40: WK40: 28 t/m 2 okt. | B40: TAKEN & OPDRACHTEN | H40: FALSE | I40: FALSE
A41: Nakijken | B41: Aufgabe 19-27 | G41: FALSE
A42: Toets | B42: Presentaties "Meine Ferien" | G42: FALSE
A43: Schrijven | B43: S.40ff: Aufgabe 37- 41 | G43: FALSE
A44: Daltontaak (verplicht) | B44: "Wörterkram 2" = je leert de woordjes B-rechts S.50 en D&H S.51 | G44: FALSE
A45: Keuzemenu | G45: FALSE
A46: WK41: 5 t/m 9 okt. Di. Brugklasdag | B46: TAKEN & OPDRACHTEN | H46: FALSE | I46: FALSE
A47: Toets | B47: Presentaties "Meine Ferien" (slot) | G47: FALSE
A48: Test | B48: "Wörterkram 2" woordjestest | G48: FALSE
A49: Lezen | B49: S.44ff: Aufgabe 42 | G49: FALSE
A50: Doen | B50: Das Wörterbuch - woordenboekgebruik | G50: FALSE
A51: Informatie | B51: Informatie 4T / Toetsweek | G51: FALSE
A52: WEEK 42 HERFSTVAKANTIE
A53: WK43: 19 t/m 23 okt. Vr. Daltondag | B53: TAKEN & OPDRACHTEN | H53: FALSE | I53: FALSE
A54: Herhalen | B54: Voorbereiding TW1 | G54: FALSE
A55: Test jezelf | B55: Oefentoets maken en bespreken | G55: FALSE
A56: Leren | B56: Leren voor TW1 | G56: FALSE
A57: Keuzemenu | G57: FALSE
A58: Keuzemenu | G58: FALSE
A59: WEEK 44 TOETSWEEK ONDERBOUW EN BOVENBOUW (MA. 26 OKT. T/M VR. 30 OKT.)
A61: UITDAGINGEN/EXTRA MOGELIJKHEDEN
A69: TOETS
A70: 1. Woordjes/Wörterkram [gem 2T]: We delen de woordjes per hoofdstuk in tweeën en per periode krijg je ca. 3-4 woordjestesten, we noemen die "Wörterkram". Het gemiddelde cijfer van de testjes leidt tot een cijfer met weging 2 in SOM. Tijdens een grote toets in een toetsweek hoef je geen woordjes meer te leren, want dat doen we op deze manier apart. Je krijgt in de weekplanner te horen en zien wanneer er een Wörterkram-Test is!
A72: 2. Herhalen "Basisgrammatica & Leesvaardigheid" [4T]

Sheet ECO
B1: ECONOMIE (ECO) | K1: PERIODE 1
A3: ALGEMENE INFORMATIE
A4: Welkom bij de studiewijzer van het vak economie.
A5: Wat gaan we deze periode doen? We gaan in deze periode aan de slag met de eerste twee hoofdstukken van het boek. Dit is een rsutige start, zodat jullie lekker kunnen wennen aan de methode en het nieuwe vak. Wat is de Daltontaak? Je kunt leerkaarten maken of met je opdrachten verder gaan. Ook kun je de oefen toetsen doen in de online methode.
A6: Welke boeken/spullen/materialen zijn er nodig? Je hebt het boek nodig, een rekenmachine, een pen, potloof, schrift (voor je aantekeningen).
A7: Wat moet je geleerd hebben na deze periode?
A9: VAKINHOUD | H9: IK HEB HET GEDAAN | I9: IK BEHEERS HET | J9: RUIMTE VOOR REFLECTIE
A10: WK35: 24 t/m 28 aug. | B10: TAKEN & OPDRACHTEN | H10: FALSE | I10: FALSE
A11: Keuzemenu | B11: Kennismaking | G11: FALSE
A12: Maken & Nakijken | B12: Maak en kijk na paragraaf 1.1 | G12: FALSE
A13: Keuzemenu | G13: FALSE
A14: Daltontaak (optioneel) | B14: Maak in Quizlet je eigen flitskaarten of memoryspel van §1.1 | G14: FALSE
A15: Keuzemenu | G15: FALSE
A16: WK36: 31 t/m 4 sep. | B16: TAKEN & OPDRACHTEN | H16: FALSE | I16: FALSE
A17: Maken & Nakijken | B17: Maak en kijk na paragraaf 1.2 | G17: FALSE
A18: Maken & Nakijken | B18: Maak en kijk na paragraaf 1.3 opdracht 25 t/m 31 | G18: FALSE
A19: Keuzemenu | G19: FALSE
A20: Daltontaak (optioneel) | B20: Maak in Quizlet je eigen flitskaarten of memoryspel van §1.2 | G20: FALSE
A21: Keuzemenu | G21: FALSE
A22: WK37: 7 t/m 11 sep. Examenreisweek | B22: TAKEN & OPDRACHTEN | H22: FALSE | I22: FALSE
A23: Keuzemenu | G23: FALSE
A24: Keuzemenu | G24: FALSE
A25: Keuzemenu | G25: FALSE
A26: Daltontaak (verplicht) | B26: rekenopdracht hoofdstuk 1 | G26: FALSE
A27: Keuzemenu | G27: FALSE
A28: WK38: 14 t/m 18 sep. | B28: TAKEN & OPDRACHTEN | H28: FALSE | I28: FALSE
A29: Maken & Nakijken | B29: Maak en kijk na paragraaf 1.3 opdracht 32 t/m 35 | G29: FALSE
A30: Maken & Nakijken | B30: Maak en kijk na HO1 samenvattingsopdrachten | G30: FALSE
A31: Keuzemenu | G31: FALSE
A32: Daltontaak (optioneel) | B32: Maak in Quizlet je eigen flitskaarten of memoryspel van §1.3 | G32: FALSE
A33: Keuzemenu | G33: FALSE
A34: WK39: 21 t/m 25 sep. | B34: TAKEN & OPDRACHTEN | H34: FALSE | I34: FALSE
A35: Nakijken | B35: Herhalingsopdrachten HO1 | G35: FALSE
A36: Leren | B36: HO1 Jouw financiën | G36: FALSE
A37: Maken | B37: Maken paragraaf 2.1 | G37: FALSE
A38: Daltontaak (optioneel) | B38: Oefenen/leren met je eigen flitskaarten of memoryspel van hoofdstuk 1 in Quizlet | G38: FALSE
A39: Maken | B39: maken paragraaf 2.2 | G39: FALSE
A40: WK40: 28 t/m 2 okt. | B40: TAKEN & OPDRACHTEN | H40: FALSE | I40: FALSE
A41: Nakijken | B41: Nakijken paragraaf 2.1 | G41: FALSE
A42: Maken & Nakijken | B42: Nakijken paragraaf 2.2 | G42: FALSE
A43: Maken | B43: Maken paragraaf 2.3 | G43: FALSE
A44: Daltontaak (optioneel) | B44: Maak in Quizlet je eigen flitskaarten of memoryspel van §2.1 | G44: FALSE
A45: Keuzemenu | G45: FALSE
A46: WK41: 5 t/m 9 okt. Di. Brugklasdag | B46: TAKEN & OPDRACHTEN | H46: FALSE | I46: FALSE
A47: Nakijken | B47: Nakijken paragraaf 2.3 | G47: FALSE
A48: Maken & Nakijken | B48: Herhalingsopdrachten | G48: FALSE
A49: Keuzemenu | G49: FALSE
A50: Daltontaak (optioneel) | B50: Oefentoets hoofdstuk 1 en 2 in je online methode | G50: FALSE
A51: Maken | B51: rekenopgaven | G51: FALSE
A52: WEEK 42 HERFSTVAKANTIE
A53: WK43: 19 t/m 23 okt. Vr. Daltondag | B53: TAKEN & OPDRACHTEN | H53: FALSE | I53: FALSE
A54: Leren | B54: HO1 en HO2 | G54: FALSE
A55: Daltontaak (optioneel) | B55: oefentoetsen hoofdstuk 1 en hoofdstuk 2 digitaal | G55: FALSE
A56: Daltontaak (optioneel) | B56: slim stampen hoofdstuk 1 en hoofdstuk 2 | G56: FALSE
A57: Daltontaak (optioneel) | B57: samenvattingsoefening hoofdstuk 1 en hoofdstuk 2 | G57: FALSE
A58: Toets | B58: Oefentoets klassikaal hoofdstuk 1 en 2 als voorbereiding | G58: FALSE
A59: WEEK 44 TOETSWEEK ONDERBOUW EN BOVENBOUW (MA. 26 OKT. T/M VR. 30 OKT.)
A61: UITDAGINGEN/EXTRA MOGELIJKHEDEN
A69: TOETS
A70: Hoofdstuk 1 en 2 in de toetsweek

Sheet EN
B1: ENGELS (EN) | K1: PERIODE 1
A3: ALGEMENE INFORMATIE
A4: In period 1 the main focus is on your listening and speaking skills.
A5: You will study vocabulary (words), expressions and grammar using the book All right!
A6: Make sure to bring your English book (All right!), your English notebook, iPad and writing materials to each class.
A9: VAKINHOUD | H9: IK HEB HET GEDAAN | I9: IK BEHEERS HET | J9: RUIMTE VOOR REFLECTIE
A10: WK35: 24 t/m 28 aug. | B10: TAKEN & OPDRACHTEN | H10: FALSE | I10: FALSE
A11: Maken | B11: Weektaak: do Unit 1: lesson 1 Crossing Borders + Unit 1: lesson 2 Listening (part 1) | G11: FALSE
A12: Keuzemenu | G12: FALSE
A13: Leren | B13: Study box lesson 2 page 43-44 | G13: FALSE
A14: Daltontaak (verplicht) | B14: write your letter of introduction | G14: FALSE
A15: Keuzemenu | G15: FALSE
A16: WK36: 31 t/m 4 sep. | B16: TAKEN & OPDRACHTEN | H16: FALSE | I16: FALSE
A17: Maken | B17: Weektaak: do Unit 1: lesson 2 Listening (part 2) + Unit 1: lesson 3 Speaking | G17: FALSE
A18: Aantekening | B18: Grammar: Present perfect vs Present perfect continuous: Study box on page 44 | G18: FALSE
A19: Leren | B19: Study box on page 45-46 | G19: FALSE
A20: Daltontaak (verplicht) | B20: write your letter of introduction | G20: FALSE
A21: Onderzoeken | B21: receive information on 2test speaking and starting thinking about what country/city you'd like to present | G21: FALSE
A22: WK37: 7 t/m 11 sep. Examenreisweek | B22: TAKEN & OPDRACHTEN | H22: FALSE | I22: FALSE
A23: Maken | B23: Weektaak: Unit 1: lesson 4 Reading | G23: FALSE
A24: Aantekening | B24: Grammar: Past simple vs past continuous: Study box on page 48 | G24: FALSE
A25: Leren | B25: Study box on page 47-48 | G25: FALSE
A26: Inleveren | B26: deadline: hand in your letter of introduction | G26: FALSE
A27: Daltontaak (verplicht) | B27: Presentations: organise & present a trip to ... | G27: FALSE
A28: WK38: 14 t/m 18 sep. | B28: TAKEN & OPDRACHTEN | H28: FALSE | I28: FALSE
A29: Maken | B29: Weektaak: Unit 1: lesson 5 Writing | G29: FALSE
A30: Keuzemenu | B30: Woots listening uitleg | G30: FALSE
A31: Leren | B31: Study box on page 48-51 | G31: FALSE
A32: Aantekening | B32: Grammar: Who, whose, whom, which, that study box page 50 + Comparisons: Study box page 50-51 | G32: FALSE
A33: Daltontaak (verplicht) | B33: Presentations: organise & present a trip to ... | G33: FALSE
A34: WK39: 21 t/m 25 sep. | B34: TAKEN & OPDRACHTEN | H34: FALSE | I34: FALSE
A35: Maken | B35: Weektaak: Unit 1: lesson 6 Critical Thinking | G35: FALSE
A36: Herhalen | B36: Study boxes Unit 1 on pages 43-51 | G36: FALSE
A37: Kijken & Luisteren | B37: Woots listening uitleg & oefenen | G37: FALSE
A38: Maken | B38: in class: extra grammar practice | G38: FALSE
A39: Daltontaak (verplicht) | B39: Presentations: organise & present a trip to ... | G39: FALSE
A40: WK40: 28 t/m 2 okt. | B40: TAKEN & OPDRACHTEN | H40: FALSE | I40: FALSE
A41: Maken | B41: Weektaak: Unit 1: lesson 7 Literature: Jane Eyre + Unit 2: lesson 1 Crossing Borders | G41: FALSE
A42: Herhalen | B42: Study boxes Unit 1 on pages 43-51 | G42: FALSE
A43: Keuzemenu | G43: FALSE
A44: Daltontaak (verplicht) | B44: Woots listening | G44: FALSE
A45: Daltontaak (verplicht) | B45: Presentations: organise & present a trip to ... | G45: FALSE
A46: WK41: 5 t/m 9 okt. Di. Brugklasdag | B46: TAKEN & OPDRACHTEN | H46: FALSE | I46: FALSE
A47: Toets | B47: 2T speaking: Presentations (2 lessen + 1 daltonuur) | G47: FALSE
A48: Herhalen | B48: Study boxes Unit 1 on pages 43-51 | G48: FALSE
A49: Keuzemenu | G49: FALSE
A50: Daltontaak (verplicht) | B50: Woots listening | G50: FALSE
A51: Keuzemenu | G51: FALSE
A52: WEEK 42 HERFSTVAKANTIE
A53: WK43: 19 t/m 23 okt. Vr. Daltondag | B53: TAKEN & OPDRACHTEN | H53: FALSE | I53: FALSE
A54: Maken | B54: Weektaak: Unit 2: lesson 2 Listening (part 1) | G54: FALSE
A55: Kijken & Luisteren | B55: Woots listening | G55: FALSE
A56: Leren | B56: Study box on pages 88-89 | G56: FALSE
A57: Keuzemenu | G57: FALSE
A58: Keuzemenu | G58: FALSE
A59: WEEK 44 TOETSWEEK ONDERBOUW EN BOVENBOUW (MA. 26 OKT. T/M VR. 30 OKT.)
A61: UITDAGINGEN/EXTRA MOGELIJKHEDEN
A62: Extra oefenmateriaal vind je in de online omgeving: bij elke lesson van de unit staat 'versterk jezelf'.
A64: Test jezelf: Om te kijken of je alles goed beheerst, staat er bij alle hoofdvaardigheden (listening, speaking, reading, writing) een 'test jezelf'.
A66: Wil je je Engels nog sneller verbeteren? Lees dan eens een van de boeken uit de mediatheek. Er is een speciale boekenkast met boeken voor klas 3.
A69: TOETS
A70: 2TEST Speaking (week 41)
A72: 2TEST Listening Units 1&2 (testweek)

Sheet FA
B1: FRANS (FA) | K1: PERIODE 1
A3: ALGEMENE INFORMATIE
A4: Bienvenue! Je gaat Frans leren!
A5: Vanaf nu ga je actief aan de slag met REGARDER (kijken) , LIRE (lezen), GRAMMAIRE (grammatica), ÉCOUTER (luisteren), PARLER (spreken) en ÉCRIRE (schrijven). Vragen mag je altijd stellen!
A6: Unité 1 : Mon super été
A7: Wat neem je mee naar de les? Boek: Libre Service deel A. Opgeladen iPad. Oortjes/Koptelefoon. Schrift/Snelhechter voor aantekeningen.
A9: VAKINHOUD | H9: IK HEB HET GEDAAN | I9: IK BEHEERS HET | J9: RUIMTE VOOR REFLECTIE
A10: WK35: 24 t/m 28 aug. | B10: TAKEN & OPDRACHTEN | H10: FALSE | I10: FALSE
A11: Keuzemenu | B11: Start lessen Frans | G11: FALSE
A12: Herhalen | B12: Questions personnelles & herhalingsset A HV2 | G12: FALSE
A13: Leren | B13: voca Unité 1 liste A | G13: FALSE
A14: Keuzemenu | G14: FALSE
A15: Keuzemenu | G15: FALSE
A16: WK36: 31 t/m 4 sep. | B16: TAKEN & OPDRACHTEN | H16: FALSE | I16: FALSE
A17: Kijken & Luisteren | B17: REGARDER : exercices 1&2, page 10 | G17: FALSE
A18: Lezen | B18: LIRE : exercices 5&6, pages 12,13,14 | G18: FALSE
A19: Leren | B19: voca Unité 1 liste A | G19: FALSE
A20: Keuzemenu | G20: FALSE
A21: Keuzemenu | G21: FALSE
A22: WK37: 7 t/m 11 sep. Examenreisweek | B22: TAKEN & OPDRACHTEN | H22: FALSE | I22: FALSE
A23: Maken | B23: GRAMMAIRE I : 8B, pages 16,17 | G23: FALSE
A24: Leren | B24: Questions personnelles & herhalingssets A&B HV2 | G24: FALSE
A25: Toets | B25: Test cumulatif Unité 1 liste A | G25: FALSE
A26: Kijken & Luisteren | B26: Filmpje over het werkwoord avoir (Neem het lijstje van de vervoegingen over in je snelhechter/schrift). | G26: FALSE
A27: Kijken & Luisteren | B27: Filmpje over het werkwoord être (Neem het lijstje van de vervoegingen over in je snelhechter/schrift). | G27: FALSE
A28: WK38: 14 t/m 18 sep. | B28: TAKEN & OPDRACHTEN | H28: FALSE | I28: FALSE
A29: Leren | B29: voca Unité 1 liste B | G29: FALSE
A30: Luisteren | B30: ÉCOUTER Dialogues 1&2 (pages 19,20) | G30: FALSE
A31: Maken | B31: Exercices 11,12,13 (pages 20,21) | G31: FALSE
A32: Kijken & Luisteren | B32: Filmpje over werkwoorden op -er (Neem de drie stappen over in je snelhechter/schrift). | G32: FALSE
A33: Herhalen | B33: GRAMMAIRE II Exercices 16A (pages 23,24), 16C (page 25) | G33: FALSE
A34: WK39: 21 t/m 25 sep. | B34: TAKEN & OPDRACHTEN | H34: FALSE | I34: FALSE
A35: Oefenen | B35: PARLER Exercices 19,21,22 (pages 28,29,30) | G35: FALSE
A36: Schrijven | B36: ÉCRIRE Exercices 28,29 (page 35) | G36: FALSE
A37: Leren | B37: Voca Unité 1 liste B (Quizlet) | G37: FALSE
A38: Keuzemenu | G38: FALSE
A39: Keuzemenu | G39: FALSE
A40: WK40: 28 t/m 2 okt. | B40: TAKEN & OPDRACHTEN | H40: FALSE | I40: FALSE
A41: Herhalen | B41: - Grammaire I op p. 16/17. - Regelmatige werkwoorden op -er in de présent en de passé composé (§8.1, p.148) - Theorie + aantekeningen passé composé met avoir (§9.1, p. 157) - Werkwoorden avoir en être in de présent en passé composé (§8.5.2/4, p.150/151). | G41: FALSE
A42: Lezen | B42: LIRE EXTRA I (pages 42,43,44) | G42: FALSE
A43: Toets | B43: Test cumulatif Unité 1 liste B | G43: FALSE
A44: Keuzemenu | G44: FALSE
A45: Keuzemenu | G45: FALSE
A46: WK41: 5 t/m 9 okt. Di. Brugklasdag | B46: TAKEN & OPDRACHTEN | H46: FALSE | I46: FALSE
A47: Toets | B47: 0-meting ÉCOUTER | G47: FALSE
A48: Leren | B48: Voca Unité 1 liste C | G48: FALSE
A49: Lezen | B49: LIRE EXTRA II (pages 45,46) | G49: FALSE
A50: Keuzemenu | G50: FALSE
A51: Keuzemenu | G51: FALSE
A52: WEEK 42 HERFSTVAKANTIE
A53: WK43: 19 t/m 23 okt. Vr. Daltondag | B53: TAKEN & OPDRACHTEN | H53: FALSE | I53: FALSE
A54: Leren | B54: Voca Unité 1 liste C | G54: FALSE
A55: Maken | B55: GRAMMAIRE I EXTRA exercices 8D,8E,16E,16F (pages 47,48) | G55: FALSE
A56: Keuzemenu | G56: FALSE
A57: Keuzemenu | G57: FALSE
A58: Keuzemenu | G58: FALSE
A59: WEEK 44 TOETSWEEK ONDERBOUW EN BOVENBOUW (MA. 26 OKT. T/M VR. 30 OKT.)
A61: UITDAGINGEN/EXTRA MOGELIJKHEDEN
A69: TOETS
A70: test cumulatif Unité 1, listes A&B, 0-meting ÉCOUTER
A72: toetsweektoets: test cumulatif Unité 1 liste C & T2 écrire

Sheet GS
B1: GESCHIEDENIS (GS) | K1: PERIODE 1
A3: ALGEMENE INFORMATIE
A4: Welkom bij geschiedenis in HAVO3!
A5: We werken bij geschiedenis dit jaar helemaal vanuit Learnbeat, je hebt dus geen leerboek en geen werkboek, maar alles in geïntegreerd in Learnbeat. Dit zal wel even wennen zijn, want zowel de leerstof als de opdrachten staan dus bij elkaar. In de eerste helft van het schooljaar heb je 1 lesuur geschiedenis in de week, in de tweede helft van het schooljaar 2 lesuren.
A6: In HAVO3 behandelen we in één schooljaar de laatste twee tijdvakken van de geschiedenis: de tijd van wereldoorlogen (1900-1950) en de tijd van televisie en computer (1950-heden)
A7: In periode 1 beginnen we met een korte herhaling van de tijdvakken die je al hebt gehad in leerjaar 1 en 2 en doen we daarna een hoofdstuk over de Eerste Wereldoorlog
A9: VAKINHOUD | H9: IK HEB HET GEDAAN | I9: IK BEHEERS HET | J9: RUIMTE VOOR REFLECTIE
A10: WK35: 24 t/m 28 aug. | B10: TAKEN & OPDRACHTEN | H10: FALSE | I10: FALSE
A11: Keuzemenu | B11: Doornemen werkwijze HAVO3, kennismaken met het vak, koppelen Learnbeat met klascode | G11: FALSE
A12: Keuzemenu | G12: FALSE
A13: Keuzemenu | G13: FALSE
A14: Keuzemenu | G14: FALSE
A15: Keuzemenu | G15: FALSE
A16: WK36: 31 t/m 4 sep. | B16: TAKEN & OPDRACHTEN | H16: FALSE | I16: FALSE
A17: Oefenen | B17: Aan de slag in Learnbeat H1 Chronologisch overzicht | G17: FALSE
A18: Inleveren | B18: Maak t/m opdracht 2E en lever daarna je eigen overzicht van tijvakken, jaartallen en peioden in in Learnbeat | G18: FALSE
A19: Keuzemenu | G19: FALSE
A20: Keuzemenu | G20: FALSE
A21: Keuzemenu | G21: FALSE
A22: WK37: 7 t/m 11 sep. Examenreisweek | B22: TAKEN & OPDRACHTEN | H22: FALSE | I22: FALSE
A23: Nakijken | B23: Klassikaal bespreken we de ingeleverde opdracht van 2E en zorg je dat jouw overzicht geen fouten meer bevat | G23: FALSE
A24: Maken & Nakijken | B24: Maak de resterende opdrachten van §1.1 af in Learnbeat | G24: FALSE
A25: Leren | B25: Leer je eigen gemaakte overzicht van §1.1 opdracht 2E | G25: FALSE
A26: Keuzemenu | G26: FALSE
A27: Keuzemenu | G27: FALSE
A28: WK38: 14 t/m 18 sep. | B28: TAKEN & OPDRACHTEN | H28: FALSE | I28: FALSE
A29: Leren | B29: Leer je eigen gemaakte overzicht van §1.1 opdracht 2E | G29: FALSE
A30: Keuzemenu | G30: FALSE
A31: Keuzemenu | G31: FALSE
A32: Keuzemenu | G32: FALSE
A33: Keuzemenu | G33: FALSE
A34: WK39: 21 t/m 25 sep. | B34: TAKEN & OPDRACHTEN | H34: FALSE | I34: FALSE
A35: Toets | B35: 2-toets Chronologisch Overzicht. Kennen: de tien tijdvakken, de jaartallen en periode-aanduidingen. | G35: FALSE
A36: Keuzemenu | G36: FALSE
A37: Keuzemenu | G37: FALSE
A38: Keuzemenu | G38: FALSE
A39: Keuzemenu | G39: FALSE
A40: WK40: 28 t/m 2 okt. | B40: TAKEN & OPDRACHTEN | H40: FALSE | I40: FALSE
A41: Kijken & Luisteren | B41: Start H2 De Eerste Wereldoorlog: powerpoint met aantekeningen en filmpjes in de klas | G41: FALSE
A42: Maken & Nakijken | B42: §2.1 Oorzaken van de Eerste Wereldoorlog | G42: FALSE
A43: Keuzemenu | G43: FALSE
A44: Keuzemenu | G44: FALSE
A45: Keuzemenu | G45: FALSE
A46: WK41: 5 t/m 9 okt. Di. Brugklasdag | B46: TAKEN & OPDRACHTEN | H46: FALSE | I46: FALSE
A47: Herhalen | B47: Gezamelijk doornemen aantekeningen | G47: FALSE
A48: Maken & Nakijken | B48: §2.2 Het leven in de loopgraven | G48: FALSE
A49: Keuzemenu | G49: FALSE
A50: Keuzemenu | G50: FALSE
A51: Keuzemenu | G51: FALSE
A52: WEEK 42 HERFSTVAKANTIE
A53: WK43: 19 t/m 23 okt. Vr. Daltondag | B53: TAKEN & OPDRACHTEN | H53: FALSE | I53: FALSE
A54: Maken & Nakijken | B54: §2.3 De Totale Oorlog | G54: FALSE
A55: Herhalen | B55: Alle teksten uit §2.1 t/m 2.3 lezen | G55: FALSE
A56: Oefenen | B56: Heb je alle opdrachten van §2.1 t/m §2.3 gemaakt en nagekeken? Begrijp je alles? | G56: FALSE
A57: Keuzemenu | G57: FALSE
A58: Keuzemenu | G58: FALSE
A59: WEEK 44 TOETSWEEK ONDERBOUW EN BOVENBOUW (MA. 26 OKT. T/M VR. 30 OKT.)
A61: UITDAGINGEN/EXTRA MOGELIJKHEDEN
A69: TOETS
A70: 2-toets H1 Chronologisch overzicht
A72: 4-toets H2 De Eerste Wereldoorlog

Sheet NAT
B1: NATUURKUNDE (NAT) | K1: PERIODE 1
A3: ALGEMENE INFORMATIE
A4: Deze periode bespreken we Hoofdstuk 1 van de methode Overal Natuurkunde 3 havo
A5: Practica vinden in de les plaats. Wanneer je deze mist maak je zelf een afspraak met de TOA in 2.01 voor een nieuwe afspraak. (Dit mag in een Dalton-uur)
A6: In de standaard uitrusting voor de natuurkundeles heb je nodig: een ruitjesschrift (1x1 cm), een rekenmachine, geodriehoek, pen en potlood.
A7: Na deze periode heb je geleerd wat de invloed is van een kracht op de snelheid van een voorwerp.
A9: VAKINHOUD | H9: IK HEB HET GEDAAN | I9: IK BEHEERS HET | J9: RUIMTE VOOR REFLECTIE
A10: WK35: 24 t/m 28 aug. | B10: TAKEN & OPDRACHTEN | H10: FALSE | I10: FALSE
A11: Onderzoeken | B11: Natuurkunde in het algemeen | G11: FALSE
A12: Keuzemenu | G12: FALSE
A13: Onderzoeken | B13: Grootheden en eenheden | G13: FALSE
A14: Keuzemenu | G14: FALSE
A15: Practicum | B15: Roulatiepracticum Energiesoorten | G15: FALSE
A16: WK36: 31 t/m 4 sep. | B16: TAKEN & OPDRACHTEN | H16: FALSE | I16: FALSE
A17: Lezen | B17: van § 1.1 Kracht bij beweging de theorie op blz. 8 t/m 10. | G17: FALSE
A18: Maken & Nakijken | B18: van § 1.1 opdrachten 2 t/m 8 op blz. 11 t/m 12. | G18: FALSE
A19: Maken & Nakijken | B19: van § 1.1 opdrachten 9 t/m 14 op blz. 12 t/m 13. | G19: FALSE
A20: Daltontaak (verplicht) | B20: Controleer hoe goed je de vier leerdoelen van § 1.1 op blz. 13 beheerst, door te Maken & Nakijken: Gemengde opdrachten: 72, 73, 75, 76b & 81b op blz. 35 t/m 37. | G20: FALSE
A21: Keuzemenu | G21: FALSE
A22: WK37: 7 t/m 11 sep. Examenreisweek | B22: TAKEN & OPDRACHTEN | H22: FALSE | I22: FALSE
A23: Lezen | B23: van § 1.2 Soorten beweging de theorie op blz 14 t/m 17. | G23: FALSE
A24: Maken & Nakijken | B24: van § 1.2 opdrachten 17 t/m 24 op blz. 18 t/m 19. | G24: FALSE
A25: Maken & Nakijken | B25: van § 1.2 opdrachten 25 t/m 29 op blz. 19 t/m 20. | G25: FALSE
A26: Daltontaak (verplicht) | B26: Controleer hoe goed je de vier leerdoelen van § 1.2 op blz. 20 beheerst, door te Maken & Nakijken: Gemengde opdrachten: 74, 76a, 79 & 81c op blz. 35 t/m 37. | G26: FALSE
A27: Keuzemenu | G27: FALSE
A28: WK38: 14 t/m 18 sep. | B28: TAKEN & OPDRACHTEN | H28: FALSE | I28: FALSE
A29: Onderzoeken | B29: Beweging in de praktijk | G29: FALSE
A30: Lezen | B30: van § 1.3 Kracht en versnelling de theorie op blz 21 t/m 22. | G30: FALSE
A31: Maken & Nakijken | B31: van § 1.3 opdrachten 32 t/m 38 op blz. 23. | G31: FALSE
A32: Keuzemenu | G32: FALSE
A33: Keuzemenu | G33: FALSE
A34: WK39: 21 t/m 25 sep. | B34: TAKEN & OPDRACHTEN | H34: FALSE | I34: FALSE
A35: Maken & Nakijken | B35: van § 1.3 opdrachten 39 t/m 44 op blz. 23 t/m 24. | G35: FALSE
A36: Daltontaak (verplicht) | B36: Controleer hoe goed je de twee leerdoelen van § 1.3 op blz. 24 beheerst, door te Maken & Nakijken: Gemengde opdrachten: 78ab, 80 & 81d op blz. 36 t/m 37. | G36: FALSE
A37: Keuzemenu | G37: FALSE
A38: Keuzemenu | G38: FALSE
A39: Keuzemenu | G39: FALSE
A40: WK40: 28 t/m 2 okt. | B40: TAKEN & OPDRACHTEN | H40: FALSE | I40: FALSE
A41: Lezen | B41: Werken met tabellen, grafieken en formules in Excel: Zie Learnbeat. | G41: FALSE
A42: Oefenen | B42: Neem tijd om je voor te bereiden op de Praktische Opdracht. Deze opdracht maak je in groepjes van twee personen. | G42: FALSE
A43: Keuzemenu | G43: FALSE
A44: Toets | B44: 2-Toets Praktische Opdracht Beweging - Deel 1 | G44: FALSE
A45: Keuzemenu | G45: FALSE
A46: WK41: 5 t/m 9 okt. Di. Brugklasdag | B46: TAKEN & OPDRACHTEN | H46: FALSE | I46: FALSE
A47: Toets | B47: 2-Toets Praktische Opdracht Beweging - Deel 2 | G47: FALSE
A48: Keuzemenu | G48: FALSE
A49: Toets | B49: 2-Toets Praktische Opdracht Beweging - Deel 3: Verwerken in Excel. | G49: FALSE
A50: Keuzemenu | G50: FALSE
A51: Keuzemenu | G51: FALSE
A52: WEEK 42 HERFSTVAKANTIE
A53: WK43: 19 t/m 23 okt. Vr. Daltondag | B53: TAKEN & OPDRACHTEN | H53: FALSE | I53: FALSE
A54: Lezen | B54: § 1.5 Arbeid de theorie op blz 30 t/m 32. | G54: FALSE
A55: Maken & Nakijken | B55: van § 1.5 opdrachten 56 t/m 68 op blz. 33 t/m 34. | G55: FALSE
A56: Daltontaak (verplicht) | B56: Controleer hoe goed je de vier leerdoelen van § 1.5 op blz. 34 beheerst, door te Maken & Nakijken: Gemengde opdrachten: 77 & 78cd op blz. 36. | G56: FALSE
A57: Leren | B57: Zie hieronder bij TOETS het Kennen & Kunnen leerwerk voor de 4-Toets van Hoofdstuk 1 Kracht en beweging. | G57: FALSE
A58: Keuzemenu | G58: FALSE
A59: WEEK 44 TOETSWEEK ONDERBOUW EN BOVENBOUW (MA. 26 OKT. T/M VR. 30 OKT.)
A61: UITDAGINGEN/EXTRA MOGELIJKHEDEN
A69: TOETS
A70: 2T PO Hoofdstuk 1 Kracht en beweging • Deze Praktische Opdracht vindt plaats tijdens de lessen.
A72: 4T Hoofdstuk 1 Kracht en beweging • Alle lesstof, aantekeningen en gemaakte opdrachten van § 1.1 t/m § 1.3 en § 1.5; • Overzicht begrippen en formules op blz. 39, behalve de begrippen en formule van § 1.4; • De gemaakte Gemengde opdrachten 72 t/m 80 & 81bcd op blz. 35 t/m 37.

Sheet NE
B1: NEDERLANDS (NE) | K1: PERIODE 1
A3: ALGEMENE INFORMATIE
A4: h3 Welkom bij het vak Nederlands!
A5: We houden ons in deze periode bezig met fictie en taalverzorging (spelling, grammatica) Je leest een verhaal, maakt daar een boektoets over (handelingsdeel) In de toetsweek wordt taalverzorging getoetst. Als alles volgens planning gaat, starten we de laatste week voor de toetsweek met formuleren, par. 2.3
A6: Neem altijd je leerwerkboek A mee, je schrift (A4-formaat) pennen. Je iPad blijft in je tas, tenzij aangegeven wordt door de docent dat deze nodig is.
A7: Wat heb je geleerd aan het einde van deze periode? Je kunt werkwoorden als persoonsvorm, infinitief en voltooid deelwoord vervoegen. Ook kun je werkwoorden in een samengestelde zin vervoegen, en werkwoorden uit de Engelse taal vervoegen. Je kunt een trema toepassen en je hebt kennis van meervoudsvormen. Je weet wat enkelvoudige en samengestelde zinnen zijn. Je kent nevenschikking, onderschikking, voegwoorden en samentrekkingen. Ten slotte lees je een fragment en kunt er het volgende over vertellen: chronologie, hoofdpersonen, genre, titelverklaring.
A9: VAKINHOUD | H9: IK HEB HET GEDAAN | I9: IK BEHEERS HET | J9: RUIMTE VOOR REFLECTIE
A10: WK35: 24 t/m 28 aug. | B10: TAKEN & OPDRACHTEN | H10: FALSE | I10: FALSE
A11: Kijken & Luisteren | B11: Introductie vak Nederlands in 3h: wat ga je leren, welke toetsen krijg je, wat moet je meenemen? Het gebruik van deze studiewijzer | G11: FALSE
A12: Maken & Nakijken | B12: 1.2, Fictie: opdr. 3,4,6,7 | G12: FALSE
A13: Maken & Nakijken | B13: 2.2, spelling: opdr. 14, 15, 16, 17 | G13: FALSE
A14: Leren | B14: theorie op blz. 50 | G14: FALSE
A15: Keuzemenu | G15: FALSE
A16: WK36: 31 t/m 4 sep. | B16: TAKEN & OPDRACHTEN | H16: FALSE | I16: FALSE
A17: Lezen | B17: Verhaal lezen uit het boekje '3Pak' | G17: FALSE
A18: Maken & Nakijken | B18: 2.2, spelling: opdr. 18, 19, 20 | G18: FALSE
A19: Leren | B19: theorie op blz. 54 | G19: FALSE
A20: Keuzemenu | G20: FALSE
A21: Keuzemenu | G21: FALSE
A22: WK37: 7 t/m 11 sep. Examenreisweek | B22: TAKEN & OPDRACHTEN | H22: FALSE | I22: FALSE
A23: Lezen | B23: Verhaal lezen uit het boekje '3Pak' | G23: FALSE
A24: Maken & Nakijken | B24: 2.2, spelling, opdr. 22, 23, 24 | G24: FALSE
A25: Leren | B25: theorie op blz. 56 | G25: FALSE
A26: Test jezelf | B26: Maak de zelftoets in de online methode (2.2, spelling) | G26: FALSE
A27: Keuzemenu | G27: FALSE
A28: WK38: 14 t/m 18 sep. | B28: TAKEN & OPDRACHTEN | H28: FALSE | I28: FALSE
A29: Lezen | B29: Verhaal lezen uit het boekje '3Pak' | G29: FALSE
A30: Maken & Nakijken | B30: 4.1 grammatica: opdr. 7 t/m 11 | G30: FALSE
A31: Test jezelf | B31: Maak de zelftoets van 4.1 in de online methode | G31: FALSE
A32: Leren | B32: theorie van blz. 134, 135, 136, 138 | G32: FALSE
A33: Keuzemenu | G33: FALSE
A34: WK39: 21 t/m 25 sep. | B34: TAKEN & OPDRACHTEN | H34: FALSE | I34: FALSE
A35: Toets | B35: Handelingsdeel: boektoets over verhaal uit '3Pak' | G35: FALSE
A36: Maken & Nakijken | B36: 4.2 spelling, opdr. 12 t/m 16 | G36: FALSE
A37: Leren | B37: theorie van blz. 140, 142 | G37: FALSE
A38: Keuzemenu | G38: FALSE
A39: Keuzemenu | G39: FALSE
A40: WK40: 28 t/m 2 okt. | B40: TAKEN & OPDRACHTEN | H40: FALSE | I40: FALSE
A41: Leren | B41: theorie op blz. 144. 147 | G41: FALSE
A42: Maken & Nakijken | B42: 4.2, spelling: opdr. 17 t/m 22 | G42: FALSE
A43: Luisteren & Maken | B43: Fictie: verhaal lezen met begrippen | G43: FALSE
A44: Keuzemenu | G44: FALSE
A45: Keuzemenu | G45: FALSE
A46: WK41: 5 t/m 9 okt. Di. Brugklasdag | B46: TAKEN & OPDRACHTEN | H46: FALSE | I46: FALSE
A47: Test jezelf | B47: Maak de zelftoets van 4.2, spelling in de online methode | G47: FALSE
A48: Leren | B48: alle theorie van 2.2, 4.1, 4.2 , alleen bovengenoemde bladzijden in deze studiewijzer bij 'leren' | G48: FALSE
A49: Keuzemenu | G49: FALSE
A50: Keuzemenu | G50: FALSE
A51: Keuzemenu | G51: FALSE
A52: WEEK 42 HERFSTVAKANTIE
A53: WK43: 19 t/m 23 okt. Vr. Daltondag | B53: TAKEN & OPDRACHTEN | H53: FALSE | I53: FALSE
A54: Maken & Nakijken | B54: uitloop opdrachten van taalverzorging | G54: FALSE
A55: Maken & Nakijken | B55: start formuleren, par. 2.3, opdr. 26 en 27 | G55: FALSE
A56: Keuzemenu | G56: FALSE
A57: Keuzemenu | G57: FALSE
A58: Keuzemenu | G58: FALSE
A59: WEEK 44 TOETSWEEK ONDERBOUW EN BOVENBOUW (MA. 26 OKT. T/M VR. 30 OKT.)
A61: UITDAGINGEN/EXTRA MOGELIJKHEDEN
A69: TOETS
A70: handelingsdeel fictie (verhaal uit 3Pak) 4t taalverzorging: spelling en grammatica (toetsweek)

Sheet SK
B1: SCHEIKUNDE (SK) | K1: PERIODE 1
A3: ALGEMENE INFORMATIE
A4: Deze periode bespreken we Hoofdstuk 1 en 5 van de methode Chemie Overal (3 havo)
A5: Practica vinden in de les plaats. Wanneer je deze mist maak je zelf een afspraak met de TOA in kantoor 2.06 voor een nieuwe afspraak in een daltonuur.
A6: In de standaard uitrusting voor de scheikundeles heb je nodig: een ruitjesschrift, een rekenmachine, geodriehoek, pen en potlood.
A9: VAKINHOUD | H9: IK HEB HET GEDAAN | I9: IK BEHEERS HET | J9: RUIMTE VOOR REFLECTIE
A10: WK35: 24 t/m 28 aug. | B10: TAKEN & OPDRACHTEN | H10: FALSE | I10: FALSE
A11: Practicum | B11: Practicum 1.2: Hoe laat je magnesium veilig ontbranden met de brander? | G11: FALSE
A12: Lezen | B12: van § 1.2 Veiligheid de theorie op blz. 14 t/m 17. | G12: FALSE
A13: Maken & Nakijken | B13: van § 1.2 opdrachten 20a, 21, 23 t/m 25 & 27 op blz. 18 t/m 19. | G13: FALSE
A14: Daltontaak (verplicht) | B14: Controleer hoe goed je de vier leerdoelen van § 1.2 op blz. 19 beheerst, door te Maken & Nakijken: Gemengde opdrachten 1, 4a, 5bc & 9c op blz. 31 t/m 34. | G14: FALSE
A15: Doen | B15: Learnbeat paragraaf 1.1; En koop een A4 schrift met 'grote hokjes". | G15: FALSE
A16: WK36: 31 t/m 4 sep. | B16: TAKEN & OPDRACHTEN | H16: FALSE | I16: FALSE
A17: Onderzoeken | B17: Practicum 1.1: Wat is de dichtheid van zout en zoet water? | G17: FALSE
A18: Leren | B18: van § 1.1 Stofeigenschappen de theorie op blz. 8 t/m 11. In de lessen aanvullende aantekeningen over dichtheid. Je kunt dit nog terugkijken in de volgende 2 youtube video's. Rekenen met dichtheid en Dichtheidsformule ombouwen. | G18: FALSE
A19: Maken & Nakijken | B19: van § 1.1 opdrachten 2, 3, 5 t/m 14 & 16 op blz. 12 t/m 13. | G19: FALSE
A20: Daltontaak (verplicht) | B20: Controleer hoe goed je de drie leerdoelen van § 1.1 op blz. 13 beheerst, door te Maken & Nakijken: Gemengde opdrachten 4bc, 7, 9de & 10ef op blz. 32 t/m 35. | G20: FALSE
A21: Doen | B21: Learnbeat paragraaf 1.2 | G21: FALSE
A22: WK37: 7 t/m 11 sep. Examenreisweek | B22: TAKEN & OPDRACHTEN | H22: FALSE | I22: FALSE
A23: Maken | B23: Oefeningen algemeen in de les | G23: FALSE
A24: Keuzemenu | G24: FALSE
A25: Keuzemenu | G25: FALSE
A26: Keuzemenu | G26: FALSE
A27: Keuzemenu | G27: FALSE
A28: WK38: 14 t/m 18 sep. | B28: TAKEN & OPDRACHTEN | H28: FALSE | I28: FALSE
A29: Practicum | B29: Practicum 1.6: Hoe zie je bij het stollen van een stof of deze zuiver is? | G29: FALSE
A30: Lezen | B30: van § 1.3 Faseveranderingen de theorie op blz. 20 t/m 22. Aantekening in je schrift. | G30: FALSE
A31: Maken & Nakijken | B31: van § 1.3 opdrachten 28 t/m 39 op blz. 23 t/m 24. | G31: FALSE
A32: Daltontaak (verplicht) | B32: Controleer hoe goed je de vier leerdoelen van § 1.3 op blz. 24 beheerst, door te Maken & Nakijken: Gemengde opdrachten 2, 3, 5a, 8, 9ab, 10cdg & 11 op blz. 31 t/m 36. | G32: FALSE
A33: Doen | B33: Learnbeat paragraaf 1.3 | G33: FALSE
A34: WK39: 21 t/m 25 sep. | B34: TAKEN & OPDRACHTEN | H34: FALSE | I34: FALSE
A35: Oefenen | B35: Formatieve toets Hoofdstuk 1 in learnbeat. | G35: FALSE
A36: Doen | B36: Ga naar paragraaf 5.1 van Learnbeat. We doen een practicum dat vind je in paragraaf 5.1 | G36: FALSE
A37: Lezen | B37: van §5.1 Scheidingsmethoden de theorie op blz. 128 t/m 131 | G37: FALSE
A38: Maken & Nakijken | B38: van §5.1 opdrachten 2 t/m 9 | G38: FALSE
A39: Daltontaak (verplicht) | B39: Controleer hoe goed je de leerdoelen van § 5.1 beheerst door te maken en nakijken: Gemengde opdrachten 2abc, 12 op blz. 151 t/m 154 | G39: FALSE
A40: WK40: 28 t/m 2 okt. | B40: TAKEN & OPDRACHTEN | H40: FALSE | I40: FALSE
A41: Practicum | B41: 5.4 Waaruit bestaat rode wijn? | G41: FALSE
A42: Lezen | B42: van §5.2 Indampen en destilleren de theorie op blz. 134 t/m 136 | G42: FALSE
A43: Maken & Nakijken | B43: van §5.2 opdrachten 11 t/m 14 en 16 t/m 21 | G43: FALSE
A44: Daltontaak (verplicht) | B44: Controleer hoe goed je de leerdoelen van § 5.2 beheerst door te maken en nakijken: Gemengde opdrachten 1, 2d, 9, 13ac op blz. 151 t/m 154 | G44: FALSE
A45: Doen | B45: Learnbeat paragraaf 5.2 | G45: FALSE
A46: WK41: 5 t/m 9 okt. Di. Brugklasdag | B46: TAKEN & OPDRACHTEN | H46: FALSE | I46: FALSE
A47: Practicum | B47: 5.3 Zijn kleurstoffen in M&M's zuivere stoffen?
A48: Lezen | B48: van §5.3 Adsorberen en chromatograferen de theorie op blz. 139 t/m 142
A49: Maken & Nakijken | B49: van §5.3 opdrachten 22 t/m 30
A50: Daltontaak (verplicht) | B50: Controleer hoe goed je de leerdoelen van § 5.3 beheerst door te maken en nakijken: Gemengde opdrachten 5, 7, 13def op blz. 151 t/m 154
A51: Doen | B51: Learnbeat paragraaf 5.3 | G51: FALSE
A52: WEEK 42 HERFSTVAKANTIE
A53: WK43: 19 t/m 23 okt. Vr. Daltondag | B53: TAKEN & OPDRACHTEN | H53: FALSE | I53: FALSE
A54: Toets | B54: 2-Toets PO Scheidingsmethoden | G54: FALSE
A55: Leren | B55: Zie bij TOETS het leerwerk voor de 2-Toets van PO scheidingsmethoden | G55: FALSE
A56: Daltontaak (verplicht) | B56: Controleer hoe goed je de leerdoelen van § 5.1 en § 5.2 beheerst door te maken en nakijken: 1, 2, 9, 12, 13ac op blz. 151 t/m 154 | G56: FALSE
A57: Keuzemenu | G57: FALSE
A58: Doen | B58: Learnbeat paragraaf 5.4 | G58: FALSE
A59: WEEK 44 TOETSWEEK ONDERBOUW EN BOVENBOUW (MA. 26 OKT. T/M VR. 30 OKT.)
A61: UITDAGINGEN/EXTRA MOGELIJKHEDEN
A69: TOETS
A70: De toets gaat over hoofdstuk 1, paragraaf 1.1 t/m 1.3 van de methode Chemie Overal en Learnbeat hoofdstuk 1 + de aantekeningen die je hebt gemaakt in je schrift. Verder gaat de toets over hoofdstuk 5 van de methode Chemie Overal en Learnbeat hoofdstuk 5 + de aantekeningen die je hebt gemaakt in je schrift.
A72: Let op paragraaf 1.4 hoef je niet te leren van hoofdstuk 1.
A74: De toets gaat ook over hoofdstuk 5 de scheidingsmethoden en stofeigenschappen.

Sheet TE
B1: TEKENEN (TE) | K1: PERIODE 1
A3: ALGEMENE INFORMATIE
A4: Welkom bij de studiewijzer tekenen van Havo 3.
A5: We gaan beginnen met structuren, daarna komt hoofdstuk licht aan bod.
A9: VAKINHOUD | H9: IK HEB HET GEDAAN | I9: IK BEHEERS HET | J9: RUIMTE VOOR REFLECTIE
A10: WK35: 24 t/m 28 aug. | B10: TAKEN & OPDRACHTEN | H10: FALSE | I10: FALSE
A11: Luisteren | B11: Algemene afspraken | G11: FALSE
A12: Luisteren & Maken | B12: Ontwerpen map. Uitleg Beeldaspect Structuur | G12: FALSE
A13: Maken | B13: Illustratie van de naam op een map. Letters invullen met structuur. | G13: FALSE
A14: Keuzemenu | G14: FALSE
A15: Keuzemenu | G15: FALSE
A16: WK36: 31 t/m 4 sep. | B16: TAKEN & OPDRACHTEN | H16: FALSE | I16: FALSE
A17: Luisteren | B17: Uitleg Beeldaspect Licht. | G17: FALSE
A18: Maken | B18: Werkblad Licht (2T) De 2 bovenste vakjes afgerond | G18: FALSE
A19: Herhalen | B19: Je weet wat Plasticiteit is. | G19: FALSE
A20: Herhalen | B20: Je kunt licht en schaduw maken door met je potlood grijstinten en verloopjes te maken. | G20: FALSE
A21: Keuzemenu | G21: FALSE
A22: WK37: 7 t/m 11 sep. Examenreisweek | B22: TAKEN & OPDRACHTEN | H22: FALSE | I22: FALSE
A23: Maken | B23: Werkblad Licht (2T) De 2 middelste vakjes afgerond | G23: FALSE
A24: Keuzemenu | G24: FALSE
A25: Keuzemenu | G25: FALSE
A26: Keuzemenu | G26: FALSE
A27: Keuzemenu | G27: FALSE
A28: WK38: 14 t/m 18 sep. | B28: TAKEN & OPDRACHTEN | H28: FALSE | I28: FALSE
A29: Maken | B29: Werkblad Licht (2T) De 2 onderste vakjes afgerond | G29: FALSE
A30: Inleveren | B30: Werkblad Licht (2T) Alle vakjes zijn netjes ingevuld | G30: FALSE
A31: Keuzemenu | G31: FALSE
A32: Keuzemenu | G32: FALSE
A33: Keuzemenu | G33: FALSE
A34: WK39: 21 t/m 25 sep. | B34: TAKEN & OPDRACHTEN | H34: FALSE | I34: FALSE
A35: Luisteren | B35: Uitleg Eindwerk Licht: Schoen vol fantasie (4T ) | G35: FALSE
A36: Oefenen | B36: Observeren: Verhoudingen, close-up, stofuitdrukking, plasticiteit, details, naar de waarneming tekenen | G36: FALSE
A37: Maken | B37: Eindwerk Licht: Schoen vol fantasie (4T ) | G37: FALSE
A38: Keuzemenu | G38: FALSE
A39: Keuzemenu | G39: FALSE
A40: WK40: 28 t/m 2 okt. | B40: TAKEN & OPDRACHTEN | H40: FALSE | I40: FALSE
A41: Maken | B41: Eindwerk Licht: Schoen vol fantasie (4T ) | G41: FALSE
A42: Keuzemenu | B42: Je hebt de schoen in de basis opgezet. Klopt de verhouding? Past er een voet in? | G42: FALSE
A43: Keuzemenu | B43: Heb je de vetergaten geteld? Heb je gekeken hoe de veters precies lopen? | G43: FALSE
A44: Keuzemenu | B44: Welke details zie je in de zool of in de neus van de schoen. | G44: FALSE
A45: Keuzemenu | G45: FALSE
A46: WK41: 5 t/m 9 okt. Di. Brugklasdag | B46: TAKEN & OPDRACHTEN | H46: FALSE | I46: FALSE
A47: Maken | B47: Eindwerk Licht: Schoen vol fantasie (4T ) | G47: FALSE
A48: Keuzemenu | B48: Zijn er minimaal 5 grijswaarden te zien? Zijn de donkere plekken echt donker? Heb je de schaduw toegepast? | G48: FALSE
A49: Keuzemenu | B49: Bij een witte schoen: is het wit echt wit of eerder grijzig? | G49: FALSE
A50: Keuzemenu | G50: FALSE
A51: Keuzemenu | G51: FALSE
A52: WEEK 42 HERFSTVAKANTIE
A53: WK43: 19 t/m 23 okt. Vr. Daltondag | B53: TAKEN & OPDRACHTEN | H53: FALSE | I53: FALSE
A54: Maken | B54: Eindwerk Licht: Schoen vol fantasie (4T ) | G54: FALSE
A55: Keuzemenu | B55: Je gaat iets uit de schoen laten komen. Gebruik je fantasie. Bedenk iets verrassends! | G55: FALSE
A56: Keuzemenu | G56: FALSE
A57: Keuzemenu | G57: FALSE
A58: Keuzemenu | G58: FALSE
A59: WEEK 44 TOETSWEEK ONDERBOUW EN BOVENBOUW (MA. 26 OKT. T/M VR. 30 OKT.)
A61: UITDAGINGEN/EXTRA MOGELIJKHEDEN
A69: TOETS

Sheet WI
B1: WISKUNDE (WI) | K1: PERIODE 1
A3: ALGEMENE INFORMATIE
A4: Welkomswoordje
A5: Wat gaan we deze periode doen? Wat is de Daltontaak? Wat houd de Daltontaak in?
A6: Welke boeken/spullen/materialen zijn er nodig?
A7: Wat moet je geleerd hebben na deze periode?
A9: VAKINHOUD | H9: IK HEB HET GEDAAN | I9: IK BEHEERS HET | J9: RUIMTE VOOR REFLECTIE
A10: WK35: 24 t/m 28 aug. | B10: TAKEN & OPDRACHTEN | H10: FALSE | I10: FALSE
A11: Herhalen | B11: Introductieles wiskunde havo 3 | G11: FALSE
A12: Maken & Nakijken | B12: Vaardigheden 1: Opdracht 1 tm 5 (blz. 78) + Vaardigheden 3: Opdracht 10 en 11 (blz. 242) | G12: FALSE
A13: Maken & Nakijken | B13: Vaardigheden 1: Opdracht 8 tm 12 (blz. 79-80) | G13: FALSE
A14: Keuzemenu | G14: FALSE
A15: Keuzemenu | G15: FALSE
A16: WK36: 31 t/m 4 sep. | B16: TAKEN & OPDRACHTEN | H16: FALSE | I16: FALSE
A17: Maken & Nakijken | B17: Vaardigheden 1: Opdracht 13 tm 17 (blz. 80-81) | G17: FALSE
A18: Maken & Nakijken | B18: Vaardigheden 3: Opdracht 6 tm 9 (blz. 241) | G18: FALSE
A19: Toets | B19: 1-toets: Vaardigheden | G19: FALSE
A20: Keuzemenu | G20: FALSE
A21: Keuzemenu | G21: FALSE
A22: WK37: 7 t/m 11 sep. Examenreisweek | B22: TAKEN & OPDRACHTEN | H22: FALSE | I22: FALSE
A23: Maken & Nakijken | B23: H1 Voorkennis opdracht 1 tm 9 (blz. 8-9) | G23: FALSE
A24: Maken & Nakijken | B24: H1.1 opdracht 5 en 6 (blz.11-12) | G24: FALSE
A25: Maken & Nakijken | B25: H1.2 opdracht 10 tm 14 (blz. 14-16) | G25: FALSE
A26: Keuzemenu | G26: FALSE
A27: Keuzemenu | G27: FALSE
A28: WK38: 14 t/m 18 sep. | B28: TAKEN & OPDRACHTEN | H28: FALSE | I28: FALSE
A29: Maken & Nakijken | B29: H1.3 opdracht 17 tm 20 (blz. 19-20) | G29: FALSE
A30: Maken & Nakijken | B30: H1.4 opdracht 26 tm 30 (blz. 23-24) | G30: FALSE
A31: Maken & Nakijken | B31: H1.5 opdracht 33 tm 38 (blz. 27-28) | G31: FALSE
A32: Oefenen | B32: Gemengde opdrachten: opdracht 39 tm 46 (blz. 30-31) | G32: FALSE
A33: Keuzemenu | G33: FALSE
A34: WK39: 21 t/m 25 sep. | B34: TAKEN & OPDRACHTEN | H34: FALSE | I34: FALSE
A35: Maken & Nakijken | B35: H2 Voorkennis opdracht V1 tm V9 (blz. 42-43) | G35: FALSE
A36: Maken & Nakijken | B36: H2.1 opdracht 4 tm 9 (blz. 45-46) | G36: FALSE
A37: Maken & Nakijken | B37: H2.2 opdracht 14 tm 16 (blz. 50) | G37: FALSE
A38: Keuzemenu | G38: FALSE
A39: Keuzemenu | G39: FALSE
A40: WK40: 28 t/m 2 okt. | B40: TAKEN & OPDRACHTEN | H40: FALSE | I40: FALSE
A41: Oefenen | B41: H2 opdracht E4 tm E6 (blz. 68) | G41: FALSE
A42: Maken & Nakijken | B42: H2.3 opdracht 19, 20, 21, 23 (blz. 53-54) | G42: FALSE
A43: Maken & Nakijken | B43: H2.4 opdracht 28 tm 30 (blz. 57-58) | G43: FALSE
A44: Keuzemenu | G44: FALSE
A45: Keuzemenu | G45: FALSE
A46: WK41: 5 t/m 9 okt. Di. Brugklasdag | B46: TAKEN & OPDRACHTEN | H46: FALSE | I46: FALSE
A47: Maken & Nakijken | B47: H2.5 opdracht 32, 34, 35, 37 (blz. 61-62) | G47: FALSE
A48: Oefenen | B48: Gemengde opdrachten: opdracht 38 tm 44 (b;z. 64-65) | G48: FALSE
A49: Oefenen | B49: H1: Extra oefening: Opdracht E1 tm E15 (blz. 32-37) | G49: FALSE
A50: Maken & Nakijken | B50: H1 Oefenproefwerk (blz. 38-39) | G50: FALSE
A51: Keuzemenu | G51: FALSE
A52: WEEK 42 HERFSTVAKANTIE
A53: WK43: 19 t/m 23 okt. Vr. Daltondag | B53: TAKEN & OPDRACHTEN | H53: FALSE | I53: FALSE
A54: Oefenen | B54: H2: Extra oefening: Opdracht E1 tm E15 (blz. 66-71) | G54: FALSE
A55: Maken & Nakijken | B55: H2 Oefenproefwerk (blz. 72-73) | G55: FALSE
A56: Daltontaak | B56: Verdieping: Bruggen. Opdracht 1 tm 8 (blz. 82-85) | G56: FALSE
A57: Keuzemenu | G57: FALSE
A58: Keuzemenu | G58: FALSE
A59: WEEK 44 TOETSWEEK ONDERBOUW EN BOVENBOUW (MA. 26 OKT. T/M VR. 30 OKT.)
A61: UITDAGINGEN/EXTRA MOGELIJKHEDEN
A69: TOETS
A70: 1T Vaardigheden 1 en 3 4T Hoofdstuk 1 en Hoofdstuk 2
