Workbook

Sheet Overzicht
A2: AK | D2: BECO | G2: BI | J2: BTE | M2: CKV | P2: DU | S2: ECO | V2: EN | Y2: FA | AB2: GS | AE2: HAPGP_M_T | AH2: KUA | AK2: MU | AN2: NAT | AQ2: NE | AT2: NLT | AW2: SK | AZ2: SP | BC2: WISA | BF2: WISB
A3: WK 35 | B3: =AK!H10 -> FALSE | D3: WK 35 | E3: =BECO!H16 -> FALSE | G3: WK 35 | H3: =BI!H16 -> FALSE | J3: WK 35 | K3: =BTE!H16 -> FALSE | M3: WK 35 | N3: =CKV!H16 -> FALSE | P3: WK 35 | Q3: =DU!H16 -> FALSE | S3: WK 35 | T3: =ECO!H16 -> FALSE | V3: WK 35 | W3: =EN!H16 -> FALSE | Y3: WK 35 | Z3: =FA!H10 -> FALSE | AB3: WK 35 | AC3: =GS!H16 -> FALSE | AE3: WK 35 | AF3: =HAPGP_M_T!H10 -> FALSE | AH3: WK 35 | AI3: =KUA!H16 -> FALSE | AK3: WK 35 | AL3: =MU!H16 -> FALSE | AN3: WK 35 | AO3: =NAT!H16 -> FALSE | AQ3: WK 35 | AR3: =NE!H16 -> FALSE | AT3: WK 35 | AU3: =NLT!H16 -> FALSE | AW3: WK 35 | AX3: =SK!H16 -> FALSE | AZ3: WK 35 | BA3: =SP!H16 -> FALSE | BC3: WK 35 | BD3: =WISA!H16 -> FALSE | BF3: WK 35 | BG3: =WISB!H16 -> FALSE
A4: WK 36 | B4: =AK!H16 -> FALSE | D4: WK 36 | E4: =BECO!H22 -> FALSE | G4: WK 36 | H4: =BI!H22 -> FALSE | J4: WK 36 | K4: =BTE!H22 -> FALSE | M4: WK 36 | N4: =CKV!H22 -> FALSE | P4: WK 36 | Q4: =DU!H22 -> FALSE | S4: WK 36 | T4: =ECO!H22 -> FALSE | V4: WK 36 | W4: =EN!H22 -> FALSE | Y4: WK 36 | Z4: =FA!H16 -> FALSE | AB4: WK 36 | AC4: =GS!H22 -> FALSE | AE4: WK 36 | AF4: =HAPGP_M_T!H16 -> FALSE | AH4: WK 36 | AI4: =KUA!H22 -> FALSE | AK4: WK 36 | AL4: =MU!H22 -> FALSE | AN4: WK 36 | AO4: =NAT!H22 -> FALSE | AQ4: WK 36 | AR4: =NE!H22 -> FALSE | AT4: WK 36 | AU4: =NLT!H22 -> FALSE | AW4: WK 36 | AX4: =SK!H22 -> FALSE | AZ4: WK 36 | BA4: =SP!H22 -> FALSE | BC4: WK 36 | BD4: =WISA!H22 -> FALSE | BF4: WK 36 | BG4: =WISB!H22 -> FALSE
A5: WK 37 | B5: =AK!H22 -> FALSE | D5: WK 37 | E5: =BECO!H28 -> FALSE | G5: WK 37 | H5: =BI!H28 -> FALSE | J5: WK 37 | K5: =BTE!H28 -> FALSE | M5: WK 37 | N5: =CKV!H28 -> FALSE | P5: WK 37 | Q5: =DU!H28 -> FALSE | S5: WK 37 | T5: =ECO!H28 -> FALSE | V5: WK 37 | W5: =EN!H28 -> FALSE | Y5: WK 37 | Z5: =FA!H22 -> FALSE | AB5: WK 37 | AC5: =GS!H28 -> FALSE | AE5: WK 37 | AF5: =HAPGP_M_T!H22 -> FALSE | AH5: WK 37 | AI5: =KUA!H28 -> FALSE | AK5: WK 37 | AL5: =MU!H28 -> FALSE | AN5: WK 37 | AO5: =NAT!H28 -> FALSE | AQ5: WK 37 | AR5: =NE!H28 -> FALSE | AT5: WK 37 | AU5: =NLT!H28 -> FALSE | AW5: WK 37 | AX5: =SK!H28 -> FALSE | AZ5: WK 37 | BA5: =SP!H28 -> FALSE | BC5: WK 37 | BD5: =WISA!H28 -> FALSE | BF5: WK 37 | BG5: =WISB!H28 -> FALSE
A6: WK 38 | B6: =AK!H28 -> FALSE | D6: WK 38 | E6: =BECO!H35 | G6: WK 38 | H6: =BI!H35 | J6: WK 38 | K6: =BTE!H35 | M6: WK 38 | N6: =CKV!H35 | P6: WK 38 | Q6: =DU!H35 | S6: WK 38 | T6: =ECO!H35 | V6: WK 38 | W6: =EN!H35 | Y6: WK 38 | Z6: =FA!H28 -> FALSE | AB6: WK 38 | AC6: =GS!H35 | AE6: WK 38 | AF6: =HAPGP_M_T!H28 -> FALSE | AH6: WK 38 | AI6: =KUA!H35 | AK6: WK 38 | AL6: =MU!H35 | AN6: WK 38 | AO6: =NAT!H35 | AQ6: WK 38 | AR6: =NE!H35 | AT6: WK 38 | AU6: =NLT!H35 | AW6: WK 38 | AX6: =SK!H35 | AZ6: WK 38 | BA6: =SP!H35 | BC6: WK 38 | BD6: =WISA!H35 | BF6: WK 38 | BG6: =WISB!H35
A7: WK 39 | B7: =AK!H34 -> FALSE | D7: WK 39 | E7: =BECO!H41 | G7: WK 39 | H7: =BI!H41 | J7: WK 39 | K7: =BTE!H41 | M7: WK 39 | N7: =CKV!H41 | P7: WK 39 | Q7: =DU!H41 | S7: WK 39 | T7: =ECO!H41 | V7: WK 39 | W7: =EN!H41 | Y7: WK 39 | Z7: =FA!H34 -> FALSE | AB7: WK 39 | AC7: =GS!H41 | AE7: WK 39 | AF7: =HAPGP_M_T!H34 -> FALSE | AH7: WK 39 | AI7: =KUA!H41 | AK7: WK 39 | AL7: =MU!H41 | AN7: WK 39 | AO7: =NAT!H41 | AQ7: WK 39 | AR7: =NE!H41 | AT7: WK 39 | AU7: =NLT!H41 | AW7: WK 39 | AX7: =SK!H41 | AZ7: WK 39 | BA7: =SP!H41 | BC7: WK 39 | BD7: =WISA!H41 | BF7: WK 39 | BG7: =WISB!H41
A8: WK 40 | B8: =AK!H40 -> FALSE | D8: WK 40 | E8: =BECO!H47 | G8: WK 40 | H8: =BI!H47 | J8: WK 40 | K8: =BTE!H47 | M8: WK 40 | N8: =CKV!H47 | P8: WK 40 | Q8: =DU!H47 | S8: WK 40 | T8: =ECO!H47 | V8: WK 40 | W8: =EN!H47 | Y8: WK 40 | Z8: =FA!H40 -> FALSE | AB8: WK 40 | AC8: =GS!H47 | AE8: WK 40 | AF8: =HAPGP_M_T!H40 -> FALSE | AH8: WK 40 | AI8: =KUA!H47 | AK8: WK 40 | AL8: =MU!H47 | AN8: WK 40 | AO8: =NAT!H47 | AQ8: WK 40 | AR8: =NE!H47 | AT8: WK 40 | AU8: =NLT!H47 | AW8: WK 40 | AX8: =SK!H47 | AZ8: WK 40 | BA8: =SP!H47 | BC8: WK 40 | BD8: =WISA!H47 | BF8: WK 40 | BG8: =WISB!H47
A9: WK 41 | B9: =AK!H46 -> FALSE | D9: WK 41 | E9: =BECO!H54 | G9: WK 41 | H9: =BI!H54 | J9: WK 41 | K9: =BTE!H54 | M9: WK 41 | N9: =CKV!H54 | P9: WK 41 | Q9: =DU!H54 | S9: WK 41 | T9: =ECO!H54 | V9: WK 41 | W9: =EN!H54 | Y9: WK 41 | Z9: =FA!H46 -> FALSE | AB9: WK 41 | AC9: =GS!H54 | AE9: WK 41 | AF9: =HAPGP_M_T!H46 -> FALSE | AH9: WK 41 | AI9: =KUA!H54 | AK9: WK 41 | AL9: =MU!H54 | AN9: WK 41 | AO9: =NAT!H54 | AQ9: WK 41 | AR9: =NE!H54 | AT9: WK 41 | AU9: =NLT!H54 | AW9: WK 41 | AX9: =SK!H54 | AZ9: WK 41 | BA9: =SP!H54 | BC9: WK 41 | BD9: =WISA!H54 | BF9: WK 41 | BG9: =WISB!H54
A10: WK 43 | B10: =AK!H53 -> FALSE | D10: WK 43 | E10: =BECO!H60 | G10: WK 43 | H10: =BI!H60 | J10: WK 43 | K10: =BTE!H60 | M10: WK 43 | N10: =CKV!H60 | P10: WK 43 | Q10: =DU!H60 | S10: WK 43 | T10: =ECO!H60 | V10: WK 43 | W10: =EN!H60 | Y10: WK 43 | Z10: =FA!H53 -> FALSE | AB10: WK 43 | AC10: =GS!H60 | AE10: WK 43 | AF10: =HAPGP_M_T!H53 -> FALSE | AH10: WK 43 | AI10: =KUA!H60 | AK10: WK 43 | AL10: =MU!H60 | AN10: WK 43 | AO10: =NAT!H60 | AQ10: WK 43 | AR10: =NE!H60 | AT10: WK 43 | AU10: =NLT!H60 | AW10: WK 43 | AX10: =SK!H60 | AZ10: WK 43 | BA10: =SP!H60 | BC10: WK 43 | BD10: =WISA!H60 | BF10: WK 43 | BG10: =WISB!H60

Sheet AK
B1: AARDRIJKSKUNDE (AK) | K1: PERIODE 1
A3: ALGEMENE INFORMATIE
A4: Dit is de studiewijzer van de eerste periode met aardrijkskunde.
A5: We behandelen deze periode het boek overleven in Europa. We behandelen hierin de hoofdstukken 1 en 2.
A6: Zorg dat jullie altijd het boek Overleven in Europa, een schrift en een goed humeur mee hebben.
A7: In toetsweek 1 krijgen jullie een 4T die óók als 10%-toets in het PTA meetelt.
A9: VAKINHOUD | H9: IK HEB HET GEDAAN | I9: IK BEHEERS HET | J9: RUIMTE VOOR REFLECTIE
A10: WK35: 24 t/m 28 aug. | B10: TAKEN & OPDRACHTEN | H10: FALSE | I10: FALSE
A11: Daltontaak (verplicht) | B11: maken instaptoets hoofdstuk 1 (op blz 8 en 9) | G11: FALSE
A12: Kijken & Luisteren | B12: Hoe werkt het boek? Wat ik van jullie verwacht - wat jullie van mij mogen verwachten. | G12: FALSE
A13: Lezen | B13: §1.1 Het belang van de landbouw | G13: FALSE
A14: Maken | B14: §1.1 opgaven 1, 3 t/m 8 | G14: FALSE
A15: Keuzemenu | G15: FALSE
A16: WK36: 31 t/m 4 sep. | B16: TAKEN & OPDRACHTEN | H16: FALSE | I16: FALSE
A17: Lezen | B17: §1.2 Europees landbouwbeleid | G17: FALSE
A18: Maken | B18: §1.2 opdrachten 1 t/m 8 | G18: FALSE
A19: Daltontaak (verplicht) | B19: nakijken opgaven §1.1 | G19: FALSE
A20: Daltontaak (verplicht) | B20: Atlasvaardigheden | G20: FALSE
A21: Keuzemenu | G21: FALSE
A22: WK37: 7 t/m 11 sep. Examenreisweek | B22: TAKEN & OPDRACHTEN | H22: FALSE | I22: FALSE
A23: Keuzemenu | G23: FALSE
A24: Keuzemenu | G24: FALSE
A25: Keuzemenu | G25: FALSE
A26: Keuzemenu | G26: FALSE
A27: Keuzemenu | G27: FALSE
A28: WK38: 14 t/m 18 sep. | B28: TAKEN & OPDRACHTEN | H28: FALSE | I28: FALSE
A29: Lezen | B29: §1.3 Europese landbouw en de wereldmarkt | G29: FALSE
A30: Maken | B30: §1.3 opgaven 2 t/m 9 | G30: FALSE
A31: Daltontaak (verplicht) | B31: nakijken opgaven §1.2 | G31: FALSE
A32: Lezen | B32: §1.4 Klaar voor de toekomst? Hierbij hoef je geen vragen te maken. | G32: FALSE
A33: Daltontaak (verplicht) | B33: schaalniveaus en dimensies | G33: FALSE
A34: WK39: 21 t/m 25 sep. | B34: TAKEN & OPDRACHTEN | H34: FALSE | I34: FALSE
A35: Lezen | B35: §2.1 Kennismaking met het Middellandse Zeegebied | G35: FALSE
A36: Maken | B36: §2.1 opgaven 1 t/m 10 | G36: FALSE
A37: Daltontaak (verplicht) | B37: nakijken opgaven §1.3 | G37: FALSE
A38: Keuzemenu | G38: FALSE
A39: Keuzemenu | G39: FALSE
A40: WK40: 28 t/m 2 okt. | B40: TAKEN & OPDRACHTEN | H40: FALSE | I40: FALSE
A41: Lezen | B41: §2.2 Het Middellandse Zeeklimaat | G41: FALSE
A42: Maken | B42: §2.2 opgaven 1 t/m 3 en 5 t/m 10 | G42: FALSE
...

Sheet BECO
B1: BEDRIJFSECONOMIE (BECO) | K1: PERIODE 1
A3: ALGEMENE INFORMATIE
A4: Bij beco gebruiken we de digitale methode Cumulus. Deze methode heeft een werkboek en een digitale leeromgeving waar je een klassencode voor krijgt in het begin van het schooljaar.
A5: Het werkboek heb je elke les bij je. In het werkboek staat ook een samenvatting van de theorie.
A6: De docent gebruikt ook SOM. Daar vind je als jaarbijlagen het door de docent beschikbaar gestelde materiaal zoals powerpoints die hij gebruikt bij de uitleg van de stof.
A9: VAKINHOUD | H9: IK HEB HET GEDAAN | I9: IK BEHEERS HET | J9: RUIMTE VOOR REFLECTIE
A10: WK35: 24 t/m 28 aug. | B10: TAKEN & OPDRACHTEN | H10: FALSE | I10: FALSE
A11: Kijken & Luisteren | B11: Intoductie van het vak en les 1 en les 2 ontvangsten en uitgaven | G11: FALSE
A12: Daltontaak (optioneel) | B12: Bestudeer theorie van Ontvangsten en Uitgaven (blz. 10 t/m 14 werkboek) | G12: FALSE
A13: Maken & Nakijken | B13: Opg 1.1 (1.2 en 1.3 overslaan) | G13: FALSE
A14: Keuzemenu | G14: FALSE
A15: Keuzemenu | G15: FALSE
A16: WK36: 31 t/m 4 sep. | B16: TAKEN & OPDRACHTEN | H16: FALSE | I16: FALSE
A17: Kijken & Luisteren | B17: Ontvangsten en uitgaven les 4 verzekeren en les 5 procenten | G17: FALSE
A18: Maken & Nakijken | B18: Opg. 1.4, 1.5 | G18: FALSE
A19: Keuzemenu | B19: Bestudeer de theorie van Ontvangsten en Uitgaven (werkboek) | G19: FALSE
A20: Keuzemenu | G20: FALSE
A21: Keuzemenu | G21: FALSE
A22: WK37: 7 t/m 11 sep. Examenreisweek | B22: TAKEN & OPDRACHTEN | H22: FALSE | I22: FALSE
A23: Aantekening | B23: Deze week geen lessen Huisman ivm examenreis zelfstandig de weektaak doornemen (zie hieronder) | G23: FALSE
A24: Daltontaak (verplicht) | B24: Doornemen samenvatting 1.1 Ontvangsten en uitgaven (blz. 10 t/m 14) | G24: FALSE
A25: Maken & Nakijken | G25: FALSE
A26: Test jezelf | B26: Oefenen in digitale leeromgeving Cumulus H1.1 Ontvangsten en Uitgaven met begrippentrainer en test jezef | G26: FALSE
A27: Keuzemenu | G27: FALSE
A28: WK38: 14 t/m 18 sep. | B28: TAKEN & OPDRACHTEN | H28: FALSE | I28: FALSE
A29: Kijken & Luisteren | B29: 1.1 Ontvangsten en uitgaven les 6 Indexcijfers en 1.2 Consumptief krediet les 2 Persoonlijke lening | G29: FALSE
A30: Maken & Nakijken | B30: opg. 1.6 en 1.7 (let op is eerste opgave H1.2 Consumptief krediet) | G30: FALSE
A31: Test jezelf | B31: Oefenen in digitale leeromgeving Cumulus H1.1 Ontvangsten en Uitgaven met begrippentrainer en test jezef | G31: FALSE
A32: Keuzemenu | G32: FALSE
A33: Keuzemenu | G33: FALSE
A34: WK39: 21 t/m 25 sep. | B34: TAKEN & OPDRACHTEN | H34: FALSE | I34: FALSE
A35: Kijken & Luisteren | B35: Consumptief krediet les 3 Consumptief krediet en les 4 private lease | G35: FALSE
A36: Maken & Nakijken | B36: maken en nakijken 1.8 t/m 1.12 | G36: FALSE
A37: Daltontaak (optioneel) | B37: Bestuderen theorie 1.2 Consumptief krediet (blz.36 t/m 38) | G37: FALSE
A38: Daltontaak (optioneel) | B38: test jezelf 1.2 Consumptief krediet maken | G38: FALSE
A39: Daltontaak (optioneel) | B39: Extra oefenen 1.2 Consumptief krediet met opg. 1.13 t/m 1.15 (=werkles 5) | G39: FALSE
A40: WK40: 28 t/m 2 okt. | B40: TAKEN & OPDRACHTEN | H40: FALSE | I40: FALSE
A41: Kijken & Luisteren | B41: Hypotheken les 1 en 2, 3 Lineaire Hypotheek | G41: FALSE
A42: Maken & Nakijken | B42: Maken opg. 1.16, 1.17 en 1.20 en 1.21 | G42: FALSE
A43: Daltontaak (optioneel) | B43: Doornemen theorie 1.3 Hypotheken (blz. 52 t/m 59) | G43: FALSE
...

Sheet BI
B1: BIOLOGIE (BI) | K1: PERIODE 1
A3: ALGEMENE INFORMATIE
A4: Bij biologie gebruiken we de methode Biologie voor jou Max editie (uitgever Malmberg)
A5: Wij starten met Boek A, neem die elke les mee + een schrift om de antwoorden in te schrijven.
A6: In Somtoday in de bijlagen van biologie vind je zaken zoals de Powerpoints, antwoordmodellen en hulpstencils.
A7: Het is handig om een snelhechter of map mee te nemen voor alle stencils die je krijgt.
A9: VAKINHOUD | H9: IK HEB HET GEDAAN | I9: IK BEHEERS HET | J9: RUIMTE VOOR REFLECTIE
A10: WK35: 24 t/m 28 aug. | B10: TAKEN & OPDRACHTEN | H10: FALSE | I10: FALSE
A11: Kijken & Luisteren | B11: Hoe is het vak biologie opgebouwd in 4 havo? | G11: FALSE
A12: Test jezelf | B12: Instaptoets onderbouw voor het onderwerp Inleiding in de biologie | G12: FALSE
A13: Lezen | B13: §1.1 | G13: FALSE
A14: Maken | B14: Opdrachten van §1.1 | G14: FALSE
A15: Daltontaak (verplicht) | B15: Microscoop onderdelen en functies oefenen (blz. 62) - stencil invullen | G15: FALSE
A16: WK36: 31 t/m 4 sep. | B16: TAKEN & OPDRACHTEN | H16: FALSE | I16: FALSE
A17: Lezen | B17: §1.2 + §1.3 | G17: FALSE
A18: Maken | B18: Opdrachten van §1.2 | G18: FALSE
A19: Maken | B19: Opdrachten van §1.3 | G19: FALSE
A20: Practicum | B20: Preparaat maken en oefenen met vergrotingen | G20: FALSE
A21: Keuzemenu | G21: FALSE
A22: WK37: 7 t/m 11 sep. Examenreisweek | B22: TAKEN & OPDRACHTEN | H22: FALSE | I22: FALSE
A23: Lezen | B23: §1.4 | G23: FALSE
A24: Maken | B24: Opdrachten van §1.4 | G24: FALSE
A25: Practicum | B25: Preparaat maken en tekening maken dierlijke cel (wangslijmvlies, blz. 70) | G25: FALSE
A26: Daltontaak (optioneel) | B26: Invuloefening organellen dierlijke en plantaardige cel / spel 'organellen slang' | G26: FALSE
A27: Keuzemenu | G27: FALSE
A28: WK38: 14 t/m 18 sep. | B28: TAKEN & OPDRACHTEN | H28: FALSE | I28: FALSE
A29: Lezen | B29: §1.5 t/m blz. 42 | G29: FALSE
A30: Maken | B30: Opdrachten van §1.5 t/m blz.42 | G30: FALSE
A31: Practicum | B31: Preparaat maken en tekening maken plantaardige cel (ui, blz. 69) | G31: FALSE
A32: Test jezelf | B32: Formatieve toets §1.1 t/m §1.4 | G32: FALSE
A33: Keuzemenu | G33: FALSE
A34: WK39: 21 t/m 25 sep. | B34: TAKEN & OPDRACHTEN | H34: FALSE | I34: FALSE
A35: Lezen | B35: §1.5 vanaf blz. 42 | G35: FALSE
A36: Maken | B36: Opdrachten van §1.5 vanaf blz.42 | G36: FALSE
A37: Toets | B37: Praktische opdracht deel 1 (een derde van 2 toets cijfer) - tekening van plantencellen (waterpest) | G37: FALSE
A38: Onderzoeken | B38: Eieren ontschalen voor osmoseproef / zadenproef inzetten / verdunningsreeks maken / werking osmometer bestuderen (blz. 74) | G38: FALSE
A39: Keuzemenu | G39: FALSE
A40: WK40: 28 t/m 2 okt. | B40: TAKEN & OPDRACHTEN | H40: FALSE | I40: FALSE
A41: Lezen | B41: §1.6 | G41: FALSE
A42: Maken | B42: Opdrachten van §1.6 | G42: FALSE
...

Sheet BTE
B1: BEELDENDE VORMING - TEKENEN (BTE) | K1: PERIODE 1
A3: ALGEMENE INFORMATIE
A4: Welkomswoordje
A5: Wat gaan we deze periode doen? Wat is de Daltontaak? Wat houd de Daltontaak in?
A6: Welke boeken/spullen/materialen zijn er nodig?
A7: Wat moet je geleerd hebben na deze periode?
A9: VAKINHOUD | H9: IK HEB HET GEDAAN | I9: IK BEHEERS HET | J9: RUIMTE VOOR REFLECTIE
A10: WK35: 24 t/m 28 aug. | B10: TAKEN & OPDRACHTEN | H10: FALSE | I10: FALSE
A11: Kijken & Luisteren | B11: Uitleg/Instructies/Voorbeelden kijken = Stilleven | G11: FALSE
A12: Maken | B12: Teken 3 verschillende voorwerpen in 3 verschillende materialen (potlood,houtskool,krijt) | G12: FALSE
A13: Keuzemenu | G13: FALSE
A14: Keuzemenu | G14: FALSE
A15: Keuzemenu | G15: FALSE
A16: WK36: 31 t/m 4 sep. | B16: TAKEN & OPDRACHTEN | H16: FALSE | I16: FALSE
A17: Maken | B17: Teken 3 verschillende voorwerpen in 3 verschillende materialen = Stilleven | G17: FALSE
A18: Keuzemenu | G18: FALSE
A19: Keuzemenu | G19: FALSE
A20: Keuzemenu | G20: FALSE
A21: Keuzemenu | G21: FALSE
A22: WK37: 7 t/m 11 sep. Examenreisweek | B22: TAKEN & OPDRACHTEN | H22: FALSE | I22: FALSE
A23: Maken | B23: Teken 3 verschillende voorwerpen in 3 verschillende materialen = Stilleven | G23: FALSE
A24: Keuzemenu | G24: FALSE
A25: Keuzemenu | G25: FALSE
A26: Keuzemenu | G26: FALSE
A27: Keuzemenu | G27: FALSE
A28: WK38: 14 t/m 18 sep. | B28: TAKEN & OPDRACHTEN | H28: FALSE | I28: FALSE
A29: Kijken & Luisteren | B29: Uitleg compositie | G29: FALSE
A30: Maken | B30: Maak 2 verschillende, kleine (A6) composities studies van het stilleven | G30: FALSE
A31: Maken | B31: Maak een keuze en vergroot deze op A3, werk uit in gekozen materiaal | G31: FALSE
A32: Keuzemenu | G32: FALSE
A33: Keuzemenu | G33: FALSE
A34: WK39: 21 t/m 25 sep. | B34: TAKEN & OPDRACHTEN | H34: FALSE | I34: FALSE
A35: Maken | B35: Werk aan eindwerkstuk | G35: FALSE
A36: Keuzemenu | G36: FALSE
A37: Keuzemenu | G37: FALSE
A38: Keuzemenu | G38: FALSE
A39: Keuzemenu | G39: FALSE
A40: WK40: 28 t/m 2 okt. | B40: TAKEN & OPDRACHTEN | H40: FALSE | I40: FALSE
A41: Maken | B41: Werk aan eindwerkstuk | G41: FALSE
A42: Keuzemenu | G42: FALSE
...

Sheet CKV
B1: CULTURELE EN KUNSTZINNIGE VORMING (CKV) | K1: PERIODE 1
A3: ALGEMENE INFORMATIE
A4: Welkomswoordje
A5: Wat gaan we deze periode doen? Wat is de Daltontaak? Wat houd de Daltontaak in?
A6: Welke boeken/spullen/materialen zijn er nodig?
A7: Wat moet je geleerd hebben na deze periode?
A9: VAKINHOUD | H9: IK HEB HET GEDAAN | I9: IK BEHEERS HET | J9: RUIMTE VOOR REFLECTIE
A10: WK35: 24 t/m 28 aug. | B10: TAKEN & OPDRACHTEN | H10: FALSE | I10: FALSE
A11: Doen | G11: FALSE
A12: Keuzemenu | G12: FALSE
A13: Keuzemenu | G13: FALSE
A14: Keuzemenu | G14: FALSE
A15: Keuzemenu | G15: FALSE
A16: WK36: 31 t/m 4 sep. | B16: TAKEN & OPDRACHTEN | H16: FALSE | I16: FALSE
A17: Schrijven | B17: Conceptplan: Het landendossier | G17: FALSE
A18: Onderzoeken | B18: Historie van vrijheid | G18: FALSE
A19: Onderzoeken | B19: Visie van vrijheid | G19: FALSE
A20: Onderzoeken | B20: Voorbeelden van Vrijheid | G20: FALSE
A21: Onderzoeken | B21: Koppeling aan maatschappelijk thema | G21: FALSE
A22: WK37: 7 t/m 11 sep. Examenreisweek | B22: TAKEN & OPDRACHTEN | H22: FALSE | I22: FALSE
A23: Schrijven | B23: Conceptplan: Het landdossier | G23: FALSE
A24: Schrijven | B24: Historie van vrijheid | G24: FALSE
A25: Schrijven | B25: Visie van vrijheid | G25: FALSE
A26: Schrijven | B26: voorbeelden van vrijheid | G26: FALSE
A27: Schrijven | B27: koppeling aan maatschapelijk thema | G27: FALSE
A28: WK38: 14 t/m 18 sep. | B28: TAKEN & OPDRACHTEN | H28: FALSE | I28: FALSE
A29: Schrijven | B29: Conceptplan: andere stappen | G29: FALSE
A30: Schrijven | B30: De kernboodschap | G30: FALSE
A31: Schrijven | B31: De theatrale vertaling | G31: FALSE
A32: Schrijven | B32: Scene-opbouw+vormgeving en techniek | G32: FALSE
A33: Schrijven | B33: Taakverdeling | G33: FALSE
A34: WK39: 21 t/m 25 sep. | B34: TAKEN & OPDRACHTEN | H34: FALSE | I34: FALSE
A35: Inleveren | B35: Conceptplan inleveren | G35: FALSE
A36: Keuzemenu | G36: FALSE
A37: Keuzemenu | G37: FALSE
A38: Keuzemenu | G38: FALSE
A39: Keuzemenu | G39: FALSE
A40: WK40: 28 t/m 2 okt. | B40: TAKEN & OPDRACHTEN | H40: FALSE | I40: FALSE
A41: Maken | B41: Theatrale opdracht uitwerken | G41: FALSE
A42: Doen | B42: attributen bij elkaar halen | G42: FALSE
...

Sheet DU
B1: DUITS (DU) | K1: PERIODE 1
A3: ALGEMENE INFORMATIE
A4: Studiewijzer H4
A5: Wij gaan ons dit jaar vooral focusen op begrijpend lezen, idioom en literatuur.
A6: Jij hebt nodig, jouw boek Neue Kontakte, neem die altijd mee.
A7: Wat moet je geleerd hebben na deze periode? De weekplanner die wij op het bord laten zien zijn leidend.
A9: VAKINHOUD | H9: IK HEB HET GEDAAN | I9: IK BEHEERS HET | J9: RUIMTE VOOR REFLECTIE
A10: WK35: 24 t/m 28 aug. | B10: TAKEN & OPDRACHTEN | H10: FALSE | I10: FALSE
A11: Doen | B11: Welkom in het nieuwe schooljaar | G11: FALSE
A12: Extra!! Let op!! | B12: Uitdelen examen Idioom A | G12: FALSE
A13: Woordenschat en spreken | B13: Wie waren die Ferien und sich vorstellen (frei sprechen), S. 14 Nr. 7 | G13: FALSE
A14: Kijken & Luisteren | B14: S. 12+13 Nr, 2+3, | G14: FALSE
A15: Daltontaak (verplicht) | B15: leer de woorden: S. 57 A+B D-N, Brückenschlag (online): 1 Schule & Ausbildung Nr. 1tm 3 (bekijk ook de herhalingsgrammatica, kijk bij Hilfestellung , filmpjes) | G15: FALSE
A16: WK36: 31 t/m 4 sep. | B16: TAKEN & OPDRACHTEN | H16: FALSE | I16: FALSE
A17: Grammatica | B17: S. 20 tm 22 Nr. 16 tm 20 | G17: FALSE
A18: Woordenschat en spreken | B18: S. 25 + 26 Nr. 25 tm 29 + S. 27 Nr. 31 | G18: FALSE
A19: Kijken & Luisteren | B19: S. 28 Nr. 33 | G19: FALSE
A20: Lezen | B20: S. 18+19 Nr. 12 tm 15 (vertaal eerst alle vragen en antwoorden naar het NL) | G20: FALSE
A21: Daltontaak (verplicht) | B21: leer de woorden: S. 58 F+G D-N, herhaal S. 57 & Brückenschlag (online): 1 Schule & Ausbildung Nr. 4 tm 7 (bekijk ook de herhalingsgrammatica - kijk bij Hilfestellung, 3 filmpjes) | G21: FALSE
A22: WK37: 7 t/m 11 sep. Examenreisweek | B22: TAKEN & OPDRACHTEN | H22: FALSE | I22: FALSE
A23: Doen | B23: Examenreis | G23: FALSE
A24: Doen | B24: Examenreis | G24: FALSE
A25: Doen | B25: Examenreis | G25: FALSE
A26: Keuzemenu | G26: FALSE
A27: Keuzemenu | G27: FALSE
A28: WK38: 14 t/m 18 sep. | B28: TAKEN & OPDRACHTEN | H28: FALSE | I28: FALSE
A29: Lezen | B29: afronden: S. 18+19 Nr. 13 tm 15 | G29: FALSE
A30: Woordenschat en spreken | B30: S. 29 Nr. 34 | G30: FALSE
A31: Schrijven | B31: S. 30+31 Nr. 37 tm 40 | G31: FALSE
A32: Land und Kultur | B32: S. 32 +33 Nr. 1 tm 7 | G32: FALSE
A33: Daltontaak (verplicht) | B33: leer de woorden S. 58 D (N-D) + Brückenschlag (online): 2 Dienstleistung Nr. 1 tm 4 (bekijk ook de Hilfestellung- filmpjes) | G33: FALSE
A34: WK39: 21 t/m 25 sep. | B34: TAKEN & OPDRACHTEN | H34: FALSE | I34: FALSE
A35: Lezen | B35: S. 43+ 44 Nr. 41+42 | G35: FALSE
A36: Woordenschat en spreken | B36: S. 35 Nr. 44 (herhaling stof) | G36: FALSE
A37: Grammatica | B37: S. 41+ 42 Nr, 47 tm 49 | G37: FALSE
A38: Land und Kultur | B38: Land und Kultur | G38: FALSE
A39: Daltontaak (verplicht) | B39: herhaal alle woorden S. 57 tm 59 + Brückenschlag (online): 3 Freizeit Nr. 1 tm 4 (bekijk ook de Hilfestellung- filmpjes) Let op toets aanstaande week | G39: FALSE
A40: WK40: 28 t/m 2 okt. | B40: TAKEN & OPDRACHTEN | H40: FALSE | I40: FALSE
A41: Toets | B41: Woordentoets S. 57 tm 59: S. 57 + 58 A,B, F,G (Duits-> Nederlands) + S. 58+59 D, I (Nederlands-> Duits) let op de spelling en de hoofdletters | G41: FALSE
A42: Grammatica | B42: S. 43 Nr. 50 tm 53 + S. 45 Nr. 57 | G42: FALSE
...

Sheet ECO
B1: ECONOMIE (ECO) | K1: PERIODE 1
A3: ALGEMENE INFORMATIE
A4: Welkomswoordje
A5: Wat gaan we deze periode doen? Wat is de Daltontaak? Wat houd de Daltontaak in?
A6: Welke boeken/spullen/materialen zijn er nodig?
A7: Wat moet je geleerd hebben na deze periode?
A9: VAKINHOUD | H9: IK HEB HET GEDAAN | I9: IK BEHEERS HET | J9: RUIMTE VOOR REFLECTIE
A10: WK35: 24 t/m 28 aug. | B10: TAKEN & OPDRACHTEN | H10: FALSE | I10: FALSE
A11: Keuzemenu | B11: Kennismaken (NEEM LESBRIEF REKONOMIE MEE!) | G11: FALSE
A12: Maken & Nakijken | B12: Rekonomie 1.1 t/m 1.10 | G12: FALSE
A13: Keuzemenu | G13: FALSE
A14: Keuzemenu | G14: FALSE
A15: Daltontaak (optioneel) | B15: Uitwerken leerdoelen Rekonomie (en werken aan weektaak) | G15: FALSE
A16: WK36: 31 t/m 4 sep. | B16: TAKEN & OPDRACHTEN | H16: FALSE | I16: FALSE
A17: Maken & Nakijken | B17: Rekonomie 2.1 t/m 2.18 | G17: FALSE
A18: Keuzemenu | G18: FALSE
A19: Daltontaak (optioneel) | B19: Uitwerken leerdoelen Rekonomie (en werken aan weektaak) | G19: FALSE
A20: Keuzemenu | G20: FALSE
A21: Keuzemenu | G21: FALSE
A22: WK37: 7 t/m 11 sep. Examenreisweek | B22: TAKEN & OPDRACHTEN | H22: FALSE | I22: FALSE
A23: Maken & Nakijken | B23: Rekonomie 3.1 t/m 3.17 | G23: FALSE
A24: Keuzemenu | G24: FALSE
A25: Daltontaak (optioneel) | B25: Uitwerken leerdoelen Rekonomie (en werken aan weektaak) | G25: FALSE
A26: Keuzemenu | G26: FALSE
A27: Keuzemenu | G27: FALSE
A28: WK38: 14 t/m 18 sep. | B28: TAKEN & OPDRACHTEN | H28: FALSE | I28: FALSE
A29: Toets | B29: 2T - Rekonomie | G29: FALSE
A30: Maken & Nakijken | B30: Werk&Werkeloosheid 1.2 t/m 1.4 (NEEM LESBRIEF W&W mee!) | G30: FALSE
A31: Maken & Nakijken | B31: Werk&Werkeloosheid 1.5 t/m 1.16 | G31: FALSE
A32: Keuzemenu | G32: FALSE
A33: Daltontaak (optioneel) | B33: Uitwerken leerdoelen HO1 Werk&Werkeloosheid (en werken aan weektaak) | G33: FALSE
A34: WK39: 21 t/m 25 sep. | B34: TAKEN & OPDRACHTEN | H34: FALSE | I34: FALSE
A35: Maken & Nakijken | B35: Werk&Werkeloosheid 2.1 t/m 2.16 (2.12 overslaan) | G35: FALSE
A36: Keuzemenu | G36: FALSE
A37: Daltontaak (optioneel) | B37: Uitwerken leerdoelen HO2 Werk&Werkeloosheid (en werken aan weektaak) | G37: FALSE
A38: Keuzemenu | G38: FALSE
A39: Keuzemenu | G39: FALSE
A40: WK40: 28 t/m 2 okt. | B40: TAKEN & OPDRACHTEN | H40: FALSE | I40: FALSE
A41: Maken & Nakijken | B41: Werk&Werkeloosheid 3.1, 2, 7, 8, 9, 14, 15, 16, 18, 19, 20, 22 | G41: FALSE
A42: Keuzemenu | G42: FALSE
...

Sheet EN
B1: ENGELS (EN) | K1: PERIODE 1
A3: ALGEMENE INFORMATIE
A4: Period 1 - Newscast
A5: During the lesson series in period 1, you will practice your speaking and reading skills
A6: You will look again at the following grammar: questions and negations, future tense and word order
A7: For every lesson you need to bring a charged iPad, working earbuds/headphones, a pen and a notebook
A9: VAKINHOUD | H9: IK HEB HET GEDAAN | I9: IK BEHEERS HET | J9: RUIMTE VOOR REFLECTIE
A10: WK35: 24 t/m 28 aug. | B10: TAKEN & OPDRACHTEN | H10: FALSE | I10: FALSE
A11: Doen | B11: Overview and introduction of English and period 1 | G11: FALSE
A12: Maken & Nakijken | B12: Text 1 - The sky's the limit - read the text and answer the questions | G12: FALSE
A13: Daltontaak (verplicht) | B13: Work on the 4T - Newscast with your group. | G13: FALSE
A14: Daltontaak (verplicht) | B14: Go to the library to pick up a book that has a green sticker and is worth 1 point. | G14: FALSE
A15: Keuzemenu | G15: FALSE
A16: WK36: 31 t/m 4 sep. | B16: TAKEN & OPDRACHTEN | H16: FALSE | I16: FALSE
A17: Maken & Nakijken | B17: Text 1 - The sky's the limit - finish the vocab. and grammar exercises | G17: FALSE
A18: Daltontaak (verplicht) | B18: Work on the 4T - Newscast with your group. | G18: FALSE
A19: Daltontaak (verplicht) | B19: Go to the library to pick up a book that has a green sticker and is worth 1 point. | G19: FALSE
A20: Keuzemenu | G20: FALSE
A21: Keuzemenu | G21: FALSE
A22: WK37: 7 t/m 11 sep. Examenreisweek | B22: TAKEN & OPDRACHTEN | H22: FALSE | I22: FALSE
A23: Maken & Nakijken | B23: Text 2 - The future of food - read the text and answer the questions | G23: FALSE
A24: Maken & Nakijken | B24: Text 2 - The future of food - finish the vocab. and grammar exercises | G24: FALSE
A25: Daltontaak (verplicht) | B25: Read your book (should be finished at the end of period 2). We recommend that you sign up for at least one daltonperiod to read. | G25: FALSE
A26: Keuzemenu | G26: FALSE
A27: Keuzemenu | G27: FALSE
A28: WK38: 14 t/m 18 sep. | B28: TAKEN & OPDRACHTEN | H28: FALSE | I28: FALSE
A29: Daltontaak (verplicht) | B29: Work on the 4T - Newscast with your group. | G29: FALSE
A30: Maken & Nakijken | B30: Text 3 - Fungi fashion - read the text and answer the questions | G30: FALSE
A31: Daltontaak (verplicht) | B31: Read your book (should be finished at the end of period 2). We recommend that you sign up for at least one daltonperiod to read. | G31: FALSE
A32: Keuzemenu | G32: FALSE
A33: Keuzemenu | G33: FALSE
A34: WK39: 21 t/m 25 sep. | B34: TAKEN & OPDRACHTEN | H34: FALSE | I34: FALSE
A35: Maken & Nakijken | B35: Text 3 - Fungi fashion - finish the vocab. and grammar exercises | G35: FALSE
A36: Daltontaak (verplicht) | B36: Work on the 4T - Newscast with your group. | G36: FALSE
A37: Daltontaak (verplicht) | B37: Read your book (should be finished at the end of period 2). We recommend that you sign up for at least one daltonperiod to read. | G37: FALSE
A38: Keuzemenu | G38: FALSE
A39: Keuzemenu | G39: FALSE
A40: WK40: 28 t/m 2 okt. | B40: TAKEN & OPDRACHTEN | H40: FALSE | I40: FALSE
A41: Maken & Nakijken | B41: Text 4 or 5 (your choice) - finish the questions that belong to the text and the vocab. and grammar exercises | G41: FALSE
A42: Reflectie | B42: Peer-feedback session - Make sure you have a large part of the 4T - Newscast ready | G42: FALSE
...

Sheet FA
B1: FRANS (FA) | K1: PERIODE 1
A3: ALGEMENE INFORMATIE
A4: Wat neem je mee naar de les? Boek (Libre Service), snelhechter met lijntjespapier en 5 tabbladen, aantekeningen van vorig jaar, oortjes of koptelefoon en un bon humeur
A5: In periode 1 gaan we aan de slag met Unité 1 Contact et een deel van Unité 2
A6: Om succesvol te zijn, kom je voorbereid naar de lessen en hou je het leer-/oefenwerk goed bij.
A7: Je vindt de antwoordboeken in de jaarbijlage van Somtoday. Noteer bij het nakijken altijd je vragen en stel deze tijdens de les of in een daltonuur.
A9: VAKINHOUD | H9: IK HEB HET GEDAAN | I9: IK BEHEERS HET | J9: RUIMTE VOOR REFLECTIE
A10: WK35: 24 t/m 28 aug. | B10: TAKEN & OPDRACHTEN | H10: FALSE | I10: FALSE
A11: Lezen | B11: Opstarten Unité 1 | G11: FALSE
A12: Kijken | B12: Lees- en leerwerk bij Regarder unité 1 | G12: FALSE
A13: Lezen | B13: Lees- en leerwerk bij Lire unité 1 | G13: FALSE
A14: Leren | B14: Unité 1 (examen)vocabulaire bij Regarder en Lire (link Quizlet) | G14: FALSE
A15: Keuzemenu | G15: FALSE
A16: WK36: 31 t/m 4 sep. | B16: TAKEN & OPDRACHTEN | H16: FALSE | I16: FALSE
A17: Herhalen | B17: Unité 1 (examen)vocabulaire A (link Quizlet) | G17: FALSE
A18: Schrijven | B18: Opdrachten, lees- en leerwerk bij Écrire | G18: FALSE
A19: Doen | B19: Grammaire I | G19: FALSE
A20: Leren | B20: Unité 1 (examen)vocabulaire bij Écrire (link Quizlet) | G20: FALSE
A21: Keuzemenu | G21: FALSE
A22: WK37: 7 t/m 11 sep. Examenreisweek | B22: TAKEN & OPDRACHTEN | H22: FALSE | I22: FALSE
A23: Luisteren | B23: Lees- en leerwerk bij Écouter unité 1 | G23: FALSE
A24: Doen | B24: Grammaire II | G24: FALSE
A25: Herhalen | B25: Unité 1 (examen)vocabulaire bij Regarder en Lire en Écrire (link Quizlet) | G25: FALSE
A26: Leren | B26: Unité 1 (examen)vocabulaire bij Écouter(link Quizlet) | G26: FALSE
A27: Keuzemenu | G27: FALSE
A28: WK38: 14 t/m 18 sep. | B28: TAKEN & OPDRACHTEN | H28: FALSE | I28: FALSE
A29: Spreken | B29: Lees- en leerwerk bij Parler | G29: FALSE
A30: Doen | B30: Grammaire III | G30: FALSE
A31: Herhalen | B31: Unité 1 (examen)vocabulaire bij Regarder en Lire en Écrire en Écouter (link Quizlet) | G31: FALSE
A32: Leren | B32: Unité 1 (examen)vocabulaire bij Parler (link Quizlet) | G32: FALSE
A33: Keuzemenu | G33: FALSE
A34: WK39: 21 t/m 25 sep. | B34: TAKEN & OPDRACHTEN | H34: FALSE | I34: FALSE
A35: Toets | B35: Unité 1 (examen)vocabulaire (link Quizlet) en Grammaire I, II en III | G35: FALSE
A36: Kijken | B36: Unité 2 lees- en leerwerk bij Regarder | G36: FALSE
A37: Leren | B37: Unité 2 (examenvocabulaire) Regarder | G37: FALSE
A38: Keuzemenu | G38: FALSE
A39: Keuzemenu | G39: FALSE
A40: WK40: 28 t/m 2 okt. | B40: TAKEN & OPDRACHTEN | H40: FALSE | I40: FALSE
A41: Lezen | B41: Lees- en leerwerk bij Lire | G41: FALSE
A42: Doen | B42: Grammaire I | G42: FALSE
...

Sheet GS
B1: GESCHIEDENIS (GS) | K1: PERIODE 1
A3: ALGEMENE INFORMATIE
A4: Welkom in 4 havo! Deze periode ontdekken we de wereld tussen 1500 en 1700.
A5: We behandelen Tijdvak 5 & 6 en het thema 'Ontdekte Beschavingen' (Azteken & Inca's).
A6: Geschiedenislesboek + een fysieke snelhechter/map voor je Tijdvakdossier.
A7: Je kent de KA's van TV 5 & 6 en kunt bronnen beoordelen op standplaatsgebondenheid.
A9: VAKINHOUD | H9: IK HEB HET GEDAAN | I9: IK BEHEERS HET | J9: RUIMTE VOOR REFLECTIE
A10: WK35: 24 t/m 28 aug. | B10: TAKEN & OPDRACHTEN | H10: FALSE | I10: FALSE
A11: Luisteren | B11: Introductie 4 havo, uitleg 45-minuten ritme en de schriftelijke PTD-toets (90 min). | G11: FALSE
A12: Doen | B12: Richt je fysieke geschiedenismap/snelhechter in voor het Tijdvakdossier deze periode. | G12: FALSE
A13: Keuzemenu | G13: FALSE
A14: Keuzemenu | G14: FALSE
A15: Keuzemenu | G15: FALSE
A16: WK36: 31 t/m 4 sep. | B16: TAKEN & OPDRACHTEN | H16: FALSE | I16: FALSE
A17: Lezen | B17: Paragraaf Renaissance lezen en de bijbehorende kernbegrippen en het Kenmerkend Aspect (KA 18) noteren. | G17: FALSE
A18: Maken | B18: Werken aan de reguliere basisopdrachten 1,3,5,8 over de Renaissance | G18: FALSE
A19: Test jezelf | B19: Waarom zorgde de Renaissance voor een breuk met de middeleeuwse manier van denken? | G19: FALSE
A20: Daltontaak (verplicht) | B20: POGV model maken | G20: FALSE
A21: Keuzemenu | G21: FALSE
A22: WK37: 7 t/m 11 sep. Examenreisweek | B22: TAKEN & OPDRACHTEN | H22: FALSE | I22: FALSE
A23: Keuzemenu | G23: FALSE
A24: Keuzemenu | G24: FALSE
A25: Keuzemenu | G25: FALSE
A26: Keuzemenu | G26: FALSE
A27: Keuzemenu | G27: FALSE
A28: WK38: 14 t/m 18 sep. | B28: TAKEN & OPDRACHTEN | H28: FALSE | I28: FALSE
A29: Lezen | B29: Paragraaf over de Europese expansie lezen + kernbegrippen en het bijbehorende thema noteren. | G29: FALSE
A30: Maken | B30: Maken van de basisopdrachten en de bronopdrachten (2,4,7,10) over de conquistadores en de cultuur van de Azteken en Inca's. | G30: FALSE
A31: Test jezelf | B31: Waarom leidde de eerste Europese ontmoeting met de Azteken direct tot de snelle ondergang van hun rijk? | G31: FALSE
A32: Onderzoeken | B32: Dit is onderdeel van het Thema Ontdekte beschavingen. | G32: FALSE
A33: Daltontaak (verplicht) | B33: POVGG model maken | G33: FALSE
A34: WK39: 21 t/m 25 sep. | B34: TAKEN & OPDRACHTEN | H34: FALSE | I34: FALSE
A35: Lezen | B35: Paragraaf over de Reformatie en de splitsing van de christelijke kerk lezen + Begrippen/KA 21 noteren. | G35: FALSE
A36: Maken | B36: Maken van een schema waarin de verschillen tussen katholieken en protestanten worden uitgewerkt. Plus opdrachten 1,4,6,9 | G36: FALSE
A37: Test jezelf | B37: Was de splitsing van de kerk een plotselinge verandering of het gevolg van een langdurig proces? (Continuïteit) | G37: FALSE
A38: Daltontaak (verplicht) | B38: POVGG model maken | G38: FALSE
A39: Keuzemenu | G39: FALSE
A40: WK40: 28 t/m 2 okt. | B40: TAKEN & OPDRACHTEN | H40: FALSE | I40: FALSE
A41: Lezen | B41: Paragraaf over de Nederlandse Opstand (Tachtigjarige Oorlog) lezen + Begrippen/KA 22 noteren. | G41: FALSE
A42: Maken | B42: Maken van de basisopdrachten 2,5,8,11 | G42: FALSE
...

Sheet HAPGP_M_T
B1: HAVO-Pro (HAPGP_M_T) | K1: PERIODE 1
A3: ALGEMENE INFORMATIE
A4: Welkomswoordje
A5: Start met het nieuwe vak Havo-PGP
A6: We gebruiken Learnbeat in deze periode voor uitleg, maken en inleveren van opdrachten
A7: Je gaat in deze periode vooral veel vaardigheden leren die je nodig hebt om in de volgende perioden te gebruiken als je in contact komt met bedrijven en instanties
A9: VAKINHOUD | H9: IK HEB HET GEDAAN | I9: IK BEHEERS HET | J9: RUIMTE VOOR REFLECTIE
A10: WK35: 24 t/m 28 aug. | B10: TAKEN & OPDRACHTEN | H10: FALSE | I10: FALSE
A11: Kijken & Luisteren | B11: Introductie Havo-PGP | G11: FALSE
A12: Doen | B12: Beginnen in de les met "Opdracht 1: Ken jezelf en je groep" | G12: FALSE
A13: Keuzemenu | G13: FALSE
A14: Keuzemenu | G14: FALSE
A15: Keuzemenu | G15: FALSE
A16: WK36: 31 t/m 4 sep. | B16: TAKEN & OPDRACHTEN | H16: FALSE | I16: FALSE
A17: Doen | B17: Afronden "Opdracht 1: Ken jezelf en je groep" | G17: FALSE
A18: Doen | B18: Beginnen in de les met "Opdracht 2: Crazy 88" | G18: FALSE
A19: Keuzemenu | G19: FALSE
A20: Keuzemenu | G20: FALSE
A21: Keuzemenu | G21: FALSE
A22: WK37: 7 t/m 11 sep. Examenreisweek | B22: TAKEN & OPDRACHTEN | H22: FALSE | I22: FALSE
A23: Doen | B23: Uitvoeren: "Crazy 88" | G23: FALSE
A24: Onderzoeken | B24: Beginnen in de les met "Opdracht 3: Wie ben je, wat wil je" | G24: FALSE
A25: Keuzemenu | G25: FALSE
A26: Keuzemenu | G26: FALSE
A27: Keuzemenu | G27: FALSE
A28: WK38: 14 t/m 18 sep. | B28: TAKEN & OPDRACHTEN | H28: FALSE | I28: FALSE
A29: Onderzoeken | B29: Afronden "Opdracht 3: Wie ben je, wat wil je" | G29: FALSE
A30: Doen | B30: Beginnen in de les met "Opdracht 4: Verbeteren voor beginners"-ronde 1 | G30: FALSE
A31: Keuzemenu | G31: FALSE
A32: Keuzemenu | G32: FALSE
A33: Keuzemenu | G33: FALSE
A34: WK39: 21 t/m 25 sep. | B34: TAKEN & OPDRACHTEN | H34: FALSE | I34: FALSE
A35: Doen | B35: Verder gaan in de les met "Opdracht 4: Verbeteren voor beginners"-ronde 1 | G35: FALSE
A36: Onderzoeken | B36: Verder gaan in de les met "Opdracht 4: Verbeteren voor beginners"-ronde 2 | G36: FALSE
A37: Keuzemenu | G37: FALSE
A38: Keuzemenu | G38: FALSE
A39: Keuzemenu | G39: FALSE
A40: WK40: 28 t/m 2 okt. | B40: TAKEN & OPDRACHTEN | H40: FALSE | I40: FALSE
A41: Doen | B41: Verder gaan in de les met "Opdracht 4: Verbeteren voor beginners"-ronde 2 | G41: FALSE
A42: Doen | B42: Afronden "Opdracht 4: Verbeteren voor beginners"-defintieve versie | G42: FALSE
...

Sheet KUA
B1: KUNST ALGEMEEN (KUA) | K1: PERIODE 1
A3: ALGEMENE INFORMATIE
A4: Bij het vak kunst algemeen werken wij met de methode Bespiegeling. Deze methode heeft een informatieboek en werkboek waar je tot en met het examen mee werkt.
A5: Om de stof in te oefenen maken wij gebruik van de online omgeving waarin je begrippen kan drillen, maar vooral filmpjes en geluidframenten kunt analyseren.
A6: Presentaties en extra materiaal deel ik via SOM studiewijzer. Daarnaast krijg je een kunstwoordenboekje die je bij alle toetsen mag gebruiken.
A7: In periode 1 werken wij aan ' Voorstelling en vormgeving analyseren in de Beeldende kunst en Muziek
A9: VAKINHOUD | H9: IK HEB HET GEDAAN | I9: IK BEHEERS HET | J9: RUIMTE VOOR REFLECTIE
A10: WK35: 24 t/m 28 aug. | B10: TAKEN & OPDRACHTEN | H10: FALSE | I10: FALSE
A11: Kijken & Luisteren | B11: Kennismaking met het vak: Hoe kijken naar kunst? | G11: FALSE
A12: Oefenen | B12: Videoclipanalyse Voorstelling - Vormgeving | G12: FALSE
A13: Daltontaak (optioneel) | B13: Bekijk de filmpjes "Beeldaspecten" in Bespiegeling | G13: FALSE
A14: Keuzemenu | G14: FALSE
A15: Keuzemenu | G15: FALSE
A16: WK36: 31 t/m 4 sep. | B16: TAKEN & OPDRACHTEN | H16: FALSE | I16: FALSE
A17: Kijken & Luisteren | B17: Uitleg beeldaspecten en kunstanalyse | G17: FALSE
A18: Maken | B18: Maken mindmap van de beeldaspecten in kunstwoordenboekje | G18: FALSE
A19: Oefenen | B19: Oefenen met voorstelling en vormgeving muziek WB Bespiegeling | G19: FALSE
A20: Keuzemenu | G20: FALSE
A21: Keuzemenu | G21: FALSE
A22: WK37: 7 t/m 11 sep. Examenreisweek | B22: TAKEN & OPDRACHTEN | H22: FALSE | I22: FALSE
A23: Daltontaak (optioneel) | B23: Maak oefenopdrachten Beeldende kunst analyseren | G23: FALSE
A24: Daltontaak (optioneel) | B24: Bekijk de filmpjes "Beeldaspecten" in Bespiegeling | G24: FALSE
A25: Keuzemenu | G25: FALSE
A26: Keuzemenu | G26: FALSE
A27: Keuzemenu | G27: FALSE
A28: WK38: 14 t/m 18 sep. | B28: TAKEN & OPDRACHTEN | H28: FALSE | I28: FALSE
A29: Herhalen | B29: Herhaling beeldaspecten beeldende kunst | G29: FALSE
A30: Oefenen | B30: Oefenen met voorstelling-vormgeving beeldende kunst WB blz 151 Bespiegeling | G30: FALSE
A31: Daltontaak (verplicht) | B31: Maak oefenopdrachten : Beeldende kunst analyseren | G31: FALSE
A32: Keuzemenu | G32: FALSE
A33: Keuzemenu | G33: FALSE
A34: WK39: 21 t/m 25 sep. | B34: TAKEN & OPDRACHTEN | H34: FALSE | I34: FALSE
A35: Herhalen | B35: Herhaling beeldaspecten beeldende kunst | G35: FALSE
A36: Oefenen | B36: Oefenen met voorstelling-vormgeving beeldende kunst WB blz 151 Bespiegeling | G36: FALSE
A37: Daltontaak (verplicht) | B37: Maak oefenopdrachten : Beeldende kunst analyseren | G37: FALSE
A38: Keuzemenu | G38: FALSE
A39: Keuzemenu | G39: FALSE
A40: WK40: 28 t/m 2 okt. | B40: TAKEN & OPDRACHTEN | H40: FALSE | I40: FALSE
A41: Kijken & Luisteren | B41: Uitleg muziekgeschiedenis in vogelvlucht + muzikale aspecten | G41: FALSE
A42: Oefenen | B42: Oefenen met voorstelling en vormgeving muziek WB Bespiegeling | G42: FALSE
...

Sheet MU
B1: MUZIEK (MU) | K1: PERIODE 1
A3: ALGEMENE INFORMATIE
A4: Log in bij muziekmethode Beats'n Bits
A6: Hoofdstuk 9 Klassiekers
A9: VAKINHOUD | H9: IK HEB HET GEDAAN | I9: IK BEHEERS HET | J9: RUIMTE VOOR REFLECTIE
A10: WK35: 24 t/m 28 aug. | B10: TAKEN & OPDRACHTEN | H10: TRUE | I10: FALSE
A11: Maken & Nakijken | B11: Wat ga je leren? | G11: TRUE
A12: Maken & Nakijken | B12: Inleiding | G12: TRUE
A13: Maken & Nakijken | B13: Videoles: Toonduur | G13: TRUE
A14: Maken | B14: Noten en rusten | G14: TRUE
A15: Keuzemenu | G15: FALSE
A16: WK36: 31 t/m 4 sep. | B16: TAKEN & OPDRACHTEN | H16: FALSE | I16: FALSE
A17: Oefenen | B17: Skillz (notenwaarden en rusten) | G17: FALSE
A18: Maken & Nakijken | B18: Inleiding | G18: FALSE
A19: Maken & Nakijken | B19: Videoles: Toonduur | G19: FALSE
A20: Maken | B20: Noten en rusten | G20: FALSE
A21: Keuzemenu | G21: FALSE
A22: WK37: 7 t/m 11 sep. Examenreisweek | B22: TAKEN & OPDRACHTEN | H22: FALSE | I22: FALSE
A23: Kijken & Luisteren | B23: Videoles: Maatsoort | G23: FALSE
A24: Maken | B24: Maat | G24: FALSE
A25: Maken | B25: Ritme | G25: FALSE
A26: Keuzemenu | G26: FALSE
A27: Keuzemenu | G27: FALSE
A28: WK38: 14 t/m 18 sep. | B28: TAKEN & OPDRACHTEN | H28: FALSE | I28: FALSE
A29: Oefenen | B29: Skillz (notennamen) | G29: FALSE
A30: Keuzemenu | G30: FALSE
A31: Keuzemenu | G31: FALSE
A32: Keuzemenu | G32: FALSE
A33: Keuzemenu | G33: FALSE
A34: WK39: 21 t/m 25 sep. | B34: TAKEN & OPDRACHTEN | H34: FALSE | I34: FALSE
A35: Kijken & Luisteren | B35: Videoles: Vorm | G35: FALSE
A36: Maken | B36: Analyseren | G36: FALSE
A37: Inleveren | B37: Kings of Pop (indien niet tijdens de les ingeleverd) | G37: FALSE
A38: Keuzemenu | G38: FALSE
A39: Keuzemenu | G39: FALSE
A40: WK40: 28 t/m 2 okt. | B40: TAKEN & OPDRACHTEN | H40: FALSE | I40: FALSE
A41: Oefenen | B41: Skillz (instrumenten) | G41: FALSE
A42: Inleveren | B42: Kings of Pop (indien niet tijdens de les ingeleverd) | G42: FALSE
A43: Keuzemenu | G43: FALSE
A44: Keuzemenu | G44: FALSE
...

Sheet NAT
B1: NATUURKUNDE (NAT) | K1: PERIODE 1
A3: ALGEMENE INFORMATIE
A4: Deze periode beginnen we op wetenschapsschool.nl, daar ga je naar Leerjaar 4 en druk je op Basis. Hier vind je de stof en opgaven van het onderwerp Basisvaardigheden.
A5: Hier vind je ook antwoorden op de opgaven en een oefentoets.
A6: Daarna gaan we verder in het lesboek Overal Natuurkunde met Hoofdstuk 1.
A9: VAKINHOUD | H9: IK HEB HET GEDAAN | I9: IK BEHEERS HET | J9: RUIMTE VOOR REFLECTIE
A10: WK35: 24 t/m 28 aug. | B10: TAKEN & OPDRACHTEN | H10: FALSE | I10: FALSE
A11: Lezen | B11: Wetenschapsschool.nl Leerjaar 4 Basis: paragraaf 1 Grootheden en eenheden en paragraaf 2 Formules omschrijven | G11: FALSE
A12: Kijken | B12: https://www.youtube.com/embed/hvoYHYgklDc ; https://www.youtube.com/embed/7Bc5OhBAr2I ; https://www.youtube.com/embed/QsSQDfmgnpY ; https://www.youtube.com/embed/U4c0KYJ9STU ; | G12: FALSE
A13: Maken & Nakijken | B13: Wetenschapsschool.nl Leerjaar 4 Basis, Paragraaf 1: opgaven 1 t/m 9 | G13: FALSE
A14: Kijken | B14: https://www.youtube.com/embed/TroWSLPQHSk ; https://www.youtube.com/embed/UpiZvucF0m8 ; | G14: FALSE
A15: Maken & Nakijken | B15: Wetenschapsschool.nl Leerjaar 4 Basis: Paragraaf 2: opgaven 3 t/m 7 | G15: FALSE
A16: WK36: 31 t/m 4 sep. | B16: TAKEN & OPDRACHTEN | H16: FALSE | I16: FALSE
A17: Lezen | B17: Wetenschapsschool.nl Leerjaar 4 Basis: paragraaf 3 Dichtheid en paragraaf 4 Significantie | G17: FALSE
A18: Daltontaak (optioneel) | B18: Practicum: dichtheid | G18: FALSE
A19: Kijken | B19: https://www.youtube.com/embed/jFx5v3R-w68 ; https://www.youtube.com/embed/XJpXmmkxJe8 ; | G19: FALSE
A20: Maken & Nakijken | B20: Wetenschapsschool.nl Leerjaar 4 Basis: Paragraaf 3: opgaven 3 t/m 8 | G20: FALSE
A21: Maken & Nakijken | B21: Wetenschapsschool.nl Leerjaar 4 Basis: Paragraaf 4: opgaven 1 t/m 9 | G21: FALSE
A22: WK37: 7 t/m 11 sep. Examenreisweek | B22: TAKEN & OPDRACHTEN | H22: FALSE | I22: FALSE | J22: Deze week zijn er geen vaklessen natuurkunde. Zorg dat je de taken van deze week in de daltonuren / zelfstandig doorwerkt.
A23: Lezen | B23: Wetenschapsschool.nl Leerjaar 4 Basis: paragraaf 5 Eenheden afleiden en paragraaf 6 Afleiden | G23: FALSE
A24: Kijken | B24: https://www.youtube.com/embed/k-ZLxRfdqT0 ; | G24: FALSE
A25: Maken & Nakijken | B25: Wetenschapsschool.nl Leerjaar 4 Basis: Paragraaf 5: opgaven 6 t/m 8 | G25: FALSE
A26: Maken & Nakijken | B26: Wetenschapsschool.nl Leerjaar 4 Basis: Paragraaf 6: opgaven 1 t/m 5 | G26: FALSE
A27: Daltontaak (optioneel) | B27: Raak beter bekend met BiNaS: noteer voor jezelf in je schrif / in een document de handige tabelnummers en wat je daarin vindt | G27: FALSE
A28: WK38: 14 t/m 18 sep. | B28: TAKEN & OPDRACHTEN | H28: FALSE | I28: FALSE | J28: Deze week zijn er geen vaklessen natuurkunde. Zorg dat je de taken van deze week in de daltonuren / zelfstandig doorwerkt.
A29: Lezen | B29: Hoofdstuk 1 Boek: paragraaf 1.1 Bewegingen vastleggen | G29: FALSE
A30: Practicum | B30: Practicum: constante snelheid | G30: FALSE
A31: Kijken | B31: https://www.youtube.com/embed/UOciSke8owU ; https://www.youtube.com/embed/FgJFJ0ejskQ ; | G31: FALSE
A32: Daltontaak (optioneel) | B32: Bekijk van je lesboek eens pagina 200 en pagina 215. Deze kunnen je de rest van je schoolcariere van pas komen. | G32: FALSE
A33: Maken & Nakijken | B33: Hoofdstuk 1 Boek: Paragraaf 1.1 opgaven 1 t/m 7 | G33: FALSE
A34: WK39: 21 t/m 25 sep. | B34: TAKEN & OPDRACHTEN | H34: FALSE | I34: FALSE
A35: Lezen | B35: Hoofdstuk 1 Boek: paragraaf 1.2 Snelheidsgrafieken (deel 1) | G35: FALSE
A36: Kijken | B36: https://www.youtube.com/embed/36quVXedPKI ; | G36: FALSE
A37: Maken & Nakijken | B37: Hoofdstuk 1 Boek: Paragraaf 1.2 opgaven 15 t/m 18 | G37: FALSE
A38: Daltontaak (optioneel) | B38: Probeer eens een rechtlijnige beweging van ongeveer 10 seconden in een afstands-tijd en een snelheids-tijd grafiek om te zetten | G38: FALSE
A39: Keuzemenu | G39: FALSE
A40: WK40: 28 t/m 2 okt. | B40: TAKEN & OPDRACHTEN | H40: FALSE | I40: FALSE
A41: Lezen | B41: Hoofdstuk 1 Boek: paragraaf 1.2 Snelheidsgrafieken (deel 2) | G41: FALSE
A42: Kijken | B42: https://www.youtube.com/embed/Z-4k8DetwWQ | G42: FALSE
A43: Maken & Nakijken | B43: Hoofdstuk 1 Boek: Paragraaf 1.2 opgaven 20 t/m 22 | G43: FALSE
...

Sheet NE
B1: NEDERLANDS (NE) | K1: PERIODE 1
A3: ALGEMENE INFORMATIE
A5: Deze periode werk je aan literatuur door een boek te lezen en daarover ingesprek te gaan met elkaar. Dat doe je aan de hand van wat je leert over verteltheorie. Je houdt een logboek bij, dat doe je in een apart schrift.
A6: Daarnaast werken we vanuit het lesboek, waarin leesvaardigheid en taalverzorging worden behandeld.
A7: Je hebt je lesboek, twee schriften en je verteltheorieboekje nodig.
A9: VAKINHOUD | H9: IK HEB HET GEDAAN | I9: IK BEHEERS HET | J9: RUIMTE VOOR REFLECTIE
A10: WK35: 24 t/m 28 aug. | B10: TAKEN & OPDRACHTEN | H10: FALSE | I10: FALSE
A11: Doen | B11: Introductie, kennismaken, werkwijze dit jaar, leerdoelen doornemen periode 1. | G11: FALSE
A12: Doen | B12: Online dossier aanmaken met mapjes. | G12: FALSE
A13: Maken | B13: Opdracht 1 t/m 6, blz 9-15. | G13: FALSE
A14: Lezen | B14: Starten in gezamenlijk boek. | G14: FALSE
A15: Daltontaak (verplicht) | B15: 15 bladzijdes lezen in gezamenlijk boek. | G15: FALSE
A16: WK36: 31 t/m 4 sep. | B16: TAKEN & OPDRACHTEN | H16: FALSE | I16: FALSE | J16: -
A17: Lezen | B17: Teksten 'Leerdammetje', blz 16 en 'We hebben een soort rijbewijs voor het internet nodig', blz 20-21. | G17: FALSE
A18: Maken & Nakijken | B18: Opdracht 7 t/m 12, blz 16-19. | G18: FALSE
A19: Lezen | B19: Verteltheorieboekje, blz 1-3. | G19: FALSE
A20: Spreken | B20: In gesprek over het gezamenlijk boek. | G20: FALSE
A21: Daltontaak (verplicht) | B21: 15 bladzijdes lezen in gezamenlijk boek. | G21: FALSE
A22: WK37: 7 t/m 11 sep. Examenreisweek | B22: TAKEN & OPDRACHTEN | H22: FALSE | I22: FALSE
A23: Lezen | B23: Tekst 'De meest jongeren herkennen geen gesponsorde post', blz 23 en 'Emoji's verbeteren wel degelijk ons taalgevoel', blz 26-27 | G23: FALSE
A24: Maken & Nakijken | B24: Opdracht 13 t/m 16, blz 22-29. | G24: FALSE
A25: Lezen | B25: Verteltheorieboekje, blz 4-5. | G25: FALSE
A26: Doen | B26: Verteltheorie in groepjes toepassen op het gezamenlijk boek en loggen | G26: FALSE
A27: Daltontaak (verplicht) | B27: 20 bladzijdes lezen in gezamenlijk boek | G27: FALSE
A28: WK38: 14 t/m 18 sep. | B28: TAKEN & OPDRACHTEN | H28: FALSE | I28: FALSE
A29: Lezen | B29: Tekst 'Nooit meer niksdoen', blz 33-34. | G29: FALSE
A30: Maken & Nakijken | B30: Opdracht 17 t/m 20, blz 30-32. | G30: FALSE
A31: Doen | B31: Online dossier bijwerken (reflectie en eindopdracht, blz 31). | G31: FALSE
A32: Keuzemenu | B32: Verteltheorieboekje, blz 6-9. | G32: FALSE
A33: Daltontaak (verplicht) | B33: 20 bladzijdes lezen in gezamenlijk boek | G33: FALSE
A34: WK39: 21 t/m 25 sep. | B34: TAKEN & OPDRACHTEN | H34: FALSE | I34: FALSE
A35: Doen | B35: Introductie schrijven | G35: FALSE
A36: Maken & Nakijken | B36: Opdracht 1 t/m 6, blz 36-43 | G36: FALSE
A37: Lezen | B37: Verteltheorieboekje, blz 10-14. | G37: FALSE
A38: Spreken | B38: In gesprek over het gezamenlijk boek. | G38: FALSE
A39: Keuzemenu | G39: FALSE
A40: WK40: 28 t/m 2 okt. | B40: TAKEN & OPDRACHTEN | H40: FALSE | I40: FALSE
A41: Luisteren | B41: Instructie schrijfplan, schrijfopdracht en feedback | G41: FALSE
A42: Schrijven | B42: Feedback geven en ontvangen en schrijfproduct aanpassen. | G42: FALSE
A43: Lezen | B43: Gezamenlijk boek uitlezen. | G43: FALSE
...

Sheet NLT
B1: NATUUR, LEVEN EN TECHNIEK (NLT) | K1: PERIODE 1
A3: ALGEMENE INFORMATIE
A4: Welkom bij NLT. Elke periode krijg je een papieren module waaruit we werken
A9: VAKINHOUD | H9: IK HEB HET GEDAAN | I9: IK BEHEERS HET | J9: RUIMTE VOOR REFLECTIE
A10: WK35: 24 t/m 28 aug. | B10: TAKEN & OPDRACHTEN | H10: FALSE | I10: FALSE
A11: Maken | B11: opdracht 1 t/m 6 beste ei (module digitaal) | G11: FALSE
A12: Keuzemenu | G12: FALSE
A13: Keuzemenu | G13: FALSE
A14: Keuzemenu | G14: FALSE
A15: Daltontaak (verplicht) | B15: maken opdracht 7 programma van eisen en opdracht 8 ontwerpvoorstel | G15: FALSE
A16: WK36: 31 t/m 4 sep. | B16: TAKEN & OPDRACHTEN | H16: FALSE | I16: FALSE
A17: Maken | B17: maken ei opvangbak opdracht 10 | G17: FALSE
A18: Practicum | B18: testen eiopvangbak | G18: FALSE
A19: Keuzemenu | G19: FALSE
A20: Keuzemenu | G20: FALSE
A21: Daltontaak (verplicht) | B21: opdracht 10 inhalen test ei opvangbak | G21: FALSE
A22: WK37: 7 t/m 11 sep. Examenreisweek | B22: TAKEN & OPDRACHTEN | H22: FALSE | I22: FALSE
A23: Maken | B23: invulblad eidrukmeter stap 1 t/m 4 | G23: FALSE
A24: Doen | B24: start bouwen eidrukmeter | G24: FALSE
A25: Keuzemenu | G25: FALSE
A26: Keuzemenu | G26: FALSE
A27: Daltontaak (verplicht) | B27: maken opdracht 11 | G27: FALSE
A28: WK38: 14 t/m 18 sep. | B28: TAKEN & OPDRACHTEN | H28: FALSE | I28: FALSE
A29: Doen | B29: bouwen eidrukmeter | G29: FALSE
A30: Keuzemenu | G30: FALSE
A31: Keuzemenu | G31: FALSE
A32: Keuzemenu | G32: FALSE
A33: Daltontaak (optioneel) | B33: doorwerken aan de eidrukmeter en testen van het ontwerp | G33: FALSE
A34: WK39: 21 t/m 25 sep. | B34: TAKEN & OPDRACHTEN | H34: FALSE | I34: FALSE
A35: Doen | B35: opdrachten 12 en 13 (t/m 13.3) | G35: FALSE
A36: Keuzemenu | G36: FALSE
A37: Keuzemenu | G37: FALSE
A38: Keuzemenu | G38: FALSE
A39: Daltontaak (verplicht) | B39: werken aan verslag eidrukmeter. Ontwerp afronden indien noodzakelijk | G39: FALSE
A40: WK40: 28 t/m 2 okt. | B40: TAKEN & OPDRACHTEN | H40: FALSE | I40: FALSE
A41: Maken | B41: opdracht 14 en 16 | G41: FALSE
A42: Keuzemenu | B42: Verslag en ontwerp PO | G42: FALSE
A43: Keuzemenu | G43: FALSE
A44: Keuzemenu | G44: FALSE
A45: Daltontaak (optioneel) | B45: uitvoeren opdracht 15 versheid van het ei | G45: FALSE
...

Sheet SK
B1: SCHEIKUNDE (SK) | K1: PERIODE 1
A3: ALGEMENE INFORMATIE
A4: Welkomswoordje
A5: Wat gaan we deze periode doen? Wat is de Daltontaak? Wat houd de Daltontaak in?
A6: Welke boeken/spullen/materialen zijn er nodig?
A7: Wat moet je geleerd hebben na deze periode?
A9: VAKINHOUD | H9: IK HEB HET GEDAAN | I9: IK BEHEERS HET | J9: RUIMTE VOOR REFLECTIE
A10: WK35: 24 t/m 28 aug. | B10: TAKEN & OPDRACHTEN | H10: FALSE | I10: FALSE
A11: Lezen | B11: Boek 4 Havo: H1 paragraaf 1 | G11: FALSE
A12: Schrijven | B12: Aantekeningen maken in de les | G12: FALSE
A13: Maken | B13: A1, A2, B3, B5, B6, A7, B9, C11, B14 | G13: FALSE
A14: Doen | B14: Binas ophalen | G14: FALSE
A15: Daltontaak (verplicht) | G15: FALSE
A16: WK36: 31 t/m 4 sep. | B16: TAKEN & OPDRACHTEN | H16: FALSE | I16: FALSE
A17: Lezen | B17: Boek 4 Havo: H1 paragraaf 2 | G17: FALSE
A18: Spelen | B18: Binas quiz | G18: FALSE
A19: Maken | B19: H1: A16, B17, B18, B19 | G19: FALSE
A20: Nakijken | B20: Alle opgaven tot nu toe gemaakt. | G20: FALSE
A21: Daltontaak (verplicht) | G21: FALSE
A22: WK37: 7 t/m 11 sep. Examenreisweek | B22: TAKEN & OPDRACHTEN | H22: FALSE | I22: FALSE
A23: Aantekening | B23: Mol en rekenen | G23: FALSE
A24: Keuzemenu | G24: FALSE
A25: Keuzemenu | G25: FALSE
A26: Keuzemenu | G26: FALSE
A27: Keuzemenu | G27: FALSE
A28: WK38: 14 t/m 18 sep. | B28: TAKEN & OPDRACHTEN | H28: FALSE | I28: FALSE
A29: Lezen | B29: Boek 4 Havo H1 paragraaf 3 en 4 | G29: FALSE
A30: Practicum | B30: Verslag practicum chemische reactie | G30: FALSE
A31: Maken & Nakijken | B31: H 1: A27, B29, A32, B34, B36, B40, B41, B46, A48, B50, B53 | G31: FALSE
A32: Test jezelf | B32: Gemengde opgaven | G32: FALSE
A33: Nakijken | B33: Gemengde opgaven | G33: FALSE
A34: WK39: 21 t/m 25 sep. | B34: TAKEN & OPDRACHTEN | H34: FALSE | I34: FALSE
A35: Lezen | B35: Boek 4 Havo H1 (afronding) en H2 paragraaf 1 | G35: FALSE
A36: Schrijven | B36: Atoommodellen tekenen van natrium, koolstof, argon volgens Bohr | G36: FALSE
A37: Maken & Nakijken | B37: H2: A1, A2, A3, B6, A9, B11, C12 | G37: FALSE
A38: Kijken & Luisteren | B38: filmpjes in Classroom | G38: FALSE
A39: Daltontaak (optioneel) | G39: FALSE
A40: WK40: 28 t/m 2 okt. | B40: TAKEN & OPDRACHTEN | H40: FALSE | I40: FALSE
A41: Lezen | B41: Boek 4 Havo H2 paragraaf 2 en 3 | G41: FALSE
A42: Schrijven | B42: Aantekeningen maken in de les | G42: FALSE
...

Sheet SP
B1: SPAANS (SP) | K1: PERIODE 1
A3: ALGEMENE INFORMATIE
A4: Estimados alumnos, bienvenidos al período 1: Primeros contactos. Yo soy la profesora de Español: Femke Greiner. Mi correo electrónico: fd.greiner@tabor.nl (mail mij als je vragen hebt!)
A5: In deze periode staat het thema contact centraal: je eerste contact met Spaans in de bovenbouw. We leren elkaar kennen en je leert jezelf voorstellen (afkomst, interesses, eigenschappen). En we leggen een aantal Zuid-Amerikaanse landen onder de loep. Je verwerkt je opgedane kennis in ons Spaanse vriendenboek (PO, telt 2x), en in de toetsweek maak je een hoofdstuktoets (Con Gusto 1 unidad 1,2 en 3, telt 4x).
A6: We werken met het tekstboek van Con Gusto 1 (haal dit in je eerste week in de mediatheek). Opdrachten werk je uit in je map of schrift. Daarnaast heb je een opgeladen tablet nodig. Woorden (voca) leer je via quizlet.
A7: Aan het eind van periode 1 kun je jezelf voorstellen in het Spaans, praten over je afkomst, vragen naar en vertellen over interesses, en vergelijkingen maken. Je kent de 3 groepen regelmatige werkwoorden, het onregelmatige werkwoord TENER en SER, de belangrijkste vraagwoorden, de getallen van 0-100 en je weet welke letters er in het Spaanse alfabet anders zijn dan in het Nederlandse.
A9: VAKINHOUD | H9: IK HEB HET GEDAAN | I9: IK BEHEERS HET | J9: RUIMTE VOOR REFLECTIE
A10: WK35: 24 t/m 28 aug. | B10: TAKEN & OPDRACHTEN | H10: FALSE | I10: FALSE
A11: Onderzoeken | B11: Welke woorden ken je al in het Spaans? Welke klanken zijn anders dan in het Nederlands? Noteer deze. | G11: FALSE
A12: Maken | B12: Les 1: Unidad 1: Viaje a España. Eerste kennismaking. Wie ben je, en waarom wil je Spaans leren? Wat verwacht je van dit jaar? | G12: FALSE
A13: Maken | B13: Afmaken na de les: opg. 2 t/m. 5. Oefen hardop met de trabalenguas! | G13: FALSE
A14: Maken | B14: Les 2: Unidad 1 opg. 6 t/m. 8. (na de les evt. afmaken). Je leert vertellen wie je bent en waarom jij Spaans wilt leren. | G14: FALSE
A15: Leren | B15: Leer de uitgang van de werkwoorden op -ar zoals hablar en de persoonlijk voornaamwoorden in het Spaans. Ken zinnetjes onder Comunicación op pag. 18 (SN-NS) zodat je je kunt voorstellen. Leer voca unidad 1 deel 1. | G15: FALSE
A16: WK36: 31 t/m 4 sep. | B16: TAKEN & OPDRACHTEN | H16: FALSE | I16: FALSE
A17: Onderzoeken | B17: Huiswerk voor les 1: Welke taal is de basis van de Spaanse taal, en welke talen hebben invloed op het Spaans (gehad)? Welke talen spreek je zelf, en helpen die mee bij het leren van Spaans? Schrijf hierover een kort tekstje in het Nederlands (5-10 zinnen) | G17: FALSE
A18: Maken | B18: Les 1: la historia del español (unidad 1 pag. 14 opg. 9,10 en 11). Welke lidwoorden zijn er in het Spaans, en wanneer gebruik je ze? | G18: FALSE
A19: Leren | B19: De Spaanse lidwoorden en zelfstandig naamwoorden voor enkelvoud en meervoud (zie ook pag. 18), Leer voca unidad 1, deel 2, herhaal deel 1. | G19: FALSE
A20: Maken | B20: Les 2: Unidad 1 pag. 16 en 17. Je leert zoveel mogelijk zinnen op te schrijven, en we verkennen de Panamericana. Lever de tarea final in met je groepje. | G20: FALSE
A21: Kijken & Luisteren | B21: ¿Qué pasaría si recorres La Panamericana? | G21: FALSE
A22: WK37: 7 t/m 11 sep. Examenreisweek | B22: TAKEN & OPDRACHTEN | H22: FALSE | I22: FALSE
A23: Onderzoeken | B23: start Unidad 2: primeros contactos. Wat wil jij later worden, hoe heet dat in het Spaans en wat voor opleiding moet je ervoor doen? | G23: FALSE
A24: Maken | B24: Les 1: Oefenen met spellen van namen en het werkwoord SER. Maak oef. 1 t/m. 6. (pag. 20-21). | G24: FALSE
A25: Maken | B25: Les 2: Profesiones. maak oef. 7+8 (pag. 22-23). Hoe vertel je welk werk je zelf later wilt gaan doen? | G25: FALSE
A26: Leren | B26: unidad 2: voca deel 1. Herhaal ook de voca van unidad 1. Leer de vervoeging van SER, en de vragen om jezelf voor te stellen op pag. 28. | G26: FALSE
A27: Keuzemenu | G27: FALSE
A28: WK38: 14 t/m 18 sep. | B28: TAKEN & OPDRACHTEN | H28: FALSE | I28: FALSE
A29: Onderzoeken | B29: Unidad 2: información personal. | G29: FALSE
A30: Maken | B30: Les 1: Persoonlijke info vragen en geven. Maak opg. 9,10,11 pag. 23-24. Uitleg vervoeging en gebruik TENER. | G30: FALSE
A31: Maken | B31: Les 2: Un trabajo interesante. Maak opg. 12,13,14 pag. 24-25. Uitleg regelmatige werkwoorden op -er en -ir. | G31: FALSE
A32: Leren | B32: Unidad 2: herhaal voca deel 1, leer voca deel 2. Ken de vervoeging van het werkwoord TENER en het verschil in gebruik met SER. Ken de vervoeging en het gebruik van de werkwoorden op -er en -ir. | G32: FALSE
A33: Keuzemenu | G33: FALSE
A34: WK39: 21 t/m 25 sep. | B34: TAKEN & OPDRACHTEN | H34: FALSE | I34: FALSE
A35: Onderzoeken | B35: Unidad 2: En México. Waarmee associeer jij Mexico? Noteer tenminste 5 dingen die je weet over dit land. | G35: FALSE
A36: Maken | B36: Les 1: Herhalen persoonlijke vragen stellen: opg. 15,16 en 17. Lever de tarea final in bij je docent. | G36: FALSE
A37: Maken | B37: Les 2: Uitleg PO Libro de amistad (=Vriendenboek). Lezen: En México con Victor. Praten over identiteit en stereotypen. | G37: FALSE
A38: Leren | B38: Unidad 3: leer voca deel 1, herhaal de voca van unidad 2. Ken de vervoeging van de werkwoorden op -ar, -er en -ir en weet bij elk werkwoord een voorbeeld. Je kent ook gebruik en vevroeging van SER en -TENER. | G38: FALSE
A39: Keuzemenu | G39: FALSE
A40: WK40: 28 t/m 2 okt. | B40: TAKEN & OPDRACHTEN | H40: FALSE | I40: FALSE
A41: Onderzoeken | B41: Unidad 3: Me gusta mi gente. Wie ben jij? Noteer 5 woorden die jou omschrijven. Check de woordenlijst. | G41: FALSE
A42: Maken | B42: Les 1: Mi familia. Maak unidad 3 pag. 30-31 opg. 1,2,4,5. Maak een stamboom met 10 familieleden en hun relatie met jou in het Spaans. Noteer de juiste bezittelijk voornaamwoorden hierbij. | G42: FALSE
...

Sheet WISA
B1: WISKUNDE A (WISA) | K1: PERIODE 1
A3: ALGEMENE INFORMATIE
A4: Wat neem je mee: - 1 leerboek Deel I - Ruitjesschrift (A4, 1 cm ruit) - iPad (opgeladen) - Grafische Rekenmachine - Etui met daarin: Blauwe of zwarte pennen, potlood (HB) of vulpotlood, gum, geodriehoek, kleurpotloden en puntenslijper.
A9: VAKINHOUD | H9: IK HEB HET GEDAAN | I9: IK BEHEERS HET | J9: RUIMTE VOOR REFLECTIE
A10: WK35: 24 t/m 28 aug. | B10: TAKEN & OPDRACHTEN | H10: FALSE | I10: FALSE | J10: Geef aan in hoeverre je het leerdoel van deze week bereikt hebt.
A11: Maken & Nakijken | B11: Voorkennis H1 | G11: FALSE | J11: - Ik weet hoe je met een verhoudingstabel rekent | M11: 0
A12: Maken & Nakijken | B12: H1 §1, opgave 5 t/m 8 (blz 15-16) | G12: FALSE | J12: - Ik weet hoe je breuken optelt, aftrekt, vermenigvuldigt en deelt | M12: 0
