Workbook

Sheet Overzicht
A2: AK | D2: BECO | G2: BI | J2: DU | M2: ECO | P2: EN | S2: FA | V2: GS | Y2: HAPR (M) | AB2: HAPR (T) | AE2: KUA | AH2: KUBV | AK2: MU | AN2: NAT | AQ2: NE | AT2: NLT | AW2: SK | AZ2: SP | BC2: WISA | BF2: WISB
A3: WK 35 | B3: =AK!H10 -> FALSE | D3: WK 35 | E3: =BECO!H16 -> FALSE | G3: WK 35 | H3: =BI!H16 -> FALSE | J3: WK 35 | K3: =DU!H16 -> FALSE | M3: WK 35 | N3: =ECO!H16 -> FALSE | P3: WK 35 | Q3: =EN!H16 -> FALSE | S3: WK 35 | T3: =FA!H16 -> FALSE | V3: WK 35 | W3: =GS!H16 -> FALSE | Y3: WK 35 | Z3: ='HAPR (M)'!H16 -> FALSE | AB3: WK 35 | AC3: ='HAPR (T)'!H16 -> FALSE | AE3: WK 35 | AF3: =KUA!H16 -> FALSE | AH3: WK 35 | AI3: =KUBV!H16 -> FALSE | AK3: WK 35 | AL3: =MU!H16 -> FALSE | AN3: WK 35 | AO3: =NAT!H16 -> FALSE | AQ3: WK 35 | AR3: =NE!H16 -> FALSE | AT3: WK 35 | AU3: =NLT!H16 -> FALSE | AW3: WK 35 | AX3: =SK!H16 -> FALSE | AZ3: WK 35 | BA3: =SP!H16 -> FALSE | BC3: WK 35 | BD3: =WISA!H16 -> FALSE | BF3: WK 35 | BG3: =WISB!H16 -> FALSE
A4: WK 36 | B4: =AK!H16 -> FALSE | D4: WK 36 | E4: =BECO!H22 -> FALSE | G4: WK 36 | H4: =BI!H22 -> FALSE | J4: WK 36 | K4: =DU!H22 -> FALSE | M4: WK 36 | N4: =ECO!H22 -> FALSE | P4: WK 36 | Q4: =EN!H22 -> FALSE | S4: WK 36 | T4: =FA!H22 -> FALSE | V4: WK 36 | W4: =GS!H22 -> FALSE | Y4: WK 36 | Z4: ='HAPR (M)'!H22 -> FALSE | AB4: WK 36 | AC4: ='HAPR (T)'!H22 -> FALSE | AE4: WK 36 | AF4: =KUA!H22 -> FALSE | AH4: WK 36 | AI4: =KUBV!H22 -> FALSE | AK4: WK 36 | AL4: =MU!H22 -> FALSE | AN4: WK 36 | AO4: =NAT!H22 -> FALSE | AQ4: WK 36 | AR4: =NE!H22 -> FALSE | AT4: WK 36 | AU4: =NLT!H22 -> FALSE | AW4: WK 36 | AX4: =SK!H22 -> FALSE | AZ4: WK 36 | BA4: =SP!H22 -> FALSE | BC4: WK 36 | BD4: =WISA!H22 -> FALSE | BF4: WK 36 | BG4: =WISB!H22 -> FALSE
A5: WK 37 | B5: =AK!H22 -> FALSE | D5: WK 37 | E5: =BECO!H28 -> FALSE | G5: WK 37 | H5: =BI!H28 -> FALSE | J5: WK 37 | K5: =DU!H28 -> FALSE | M5: WK 37 | N5: =ECO!H28 -> FALSE | P5: WK 37 | Q5: =EN!H28 -> FALSE | S5: WK 37 | T5: =FA!H28 -> FALSE | V5: WK 37 | W5: =GS!H28 -> FALSE | Y5: WK 37 | Z5: ='HAPR (M)'!H28 -> FALSE | AB5: WK 37 | AC5: ='HAPR (T)'!H28 -> FALSE | AE5: WK 37 | AF5: =KUA!H28 -> FALSE | AH5: WK 37 | AI5: =KUBV!H28 -> FALSE | AK5: WK 37 | AL5: =MU!H28 -> FALSE | AN5: WK 37 | AO5: =NAT!H28 -> FALSE | AQ5: WK 37 | AR5: =NE!H28 -> FALSE | AT5: WK 37 | AU5: =NLT!H28 -> FALSE | AW5: WK 37 | AX5: =SK!H28 -> FALSE | AZ5: WK 37 | BA5: =SP!H28 -> FALSE | BC5: WK 37 | BD5: =WISA!H28 -> FALSE | BF5: WK 37 | BG5: =WISB!H28 -> FALSE
A6: WK 38 | B6: =AK!H28 -> FALSE | D6: WK 38 | E6: =BECO!H35 | G6: WK 38 | H6: =BI!H35 | J6: WK 38 | K6: =DU!H35 | M6: WK 38 | N6: =ECO!H35 | P6: WK 38 | Q6: =EN!H35 | S6: WK 38 | T6: =FA!H35 | V6: WK 38 | W6: =GS!H35 | Y6: WK 38 | Z6: ='HAPR (M)'!H35 | AB6: WK 38 | AC6: ='HAPR (T)'!H35 | AE6: WK 38 | AF6: =KUA!H35 | AH6: WK 38 | AI6: =KUBV!H35 | AK6: WK 38 | AL6: =MU!H35 | AN6: WK 38 | AO6: =NAT!H35 | AQ6: WK 38 | AR6: =NE!H35 | AT6: WK 38 | AU6: =NLT!H35 | AW6: WK 38 | AX6: =SK!H35 | AZ6: WK 38 | BA6: =SP!H35 | BC6: WK 38 | BD6: =WISA!H35 | BF6: WK 38 | BG6: =WISB!H35
A7: WK 39 | B7: =AK!H34 -> FALSE | D7: WK 39 | E7: =BECO!H41 | G7: WK 39 | H7: =BI!H41 | J7: WK 39 | K7: =DU!H41 | M7: WK 39 | N7: =ECO!H41 | P7: WK 39 | Q7: =EN!H41 | S7: WK 39 | T7: =FA!H41 | V7: WK 39 | W7: =GS!H41 | Y7: WK 39 | Z7: ='HAPR (M)'!H41 | AB7: WK 39 | AC7: ='HAPR (T)'!H41 | AE7: WK 39 | AF7: =KUA!H41 | AH7: WK 39 | AI7: =KUBV!H41 | AK7: WK 39 | AL7: =MU!H41 | AN7: WK 39 | AO7: =NAT!H41 | AQ7: WK 39 | AR7: =NE!H41 | AT7: WK 39 | AU7: =NLT!H41 | AW7: WK 39 | AX7: =SK!H41 | AZ7: WK 39 | BA7: =SP!H41 | BC7: WK 39 | BD7: =WISA!H41 | BF7: WK 39 | BG7: =WISB!H41
A8: WK 40 | B8: =AK!H40 -> FALSE | D8: WK 40 | E8: =BECO!H47 | G8: WK 40 | H8: =BI!H47 | J8: WK 40 | K8: =DU!H47 | M8: WK 40 | N8: =ECO!H47 | P8: WK 40 | Q8: =EN!H47 | S8: WK 40 | T8: =FA!H47 | V8: WK 40 | W8: =GS!H47 | Y8: WK 40 | Z8: ='HAPR (M)'!H47 | AB8: WK 40 | AC8: ='HAPR (T)'!H47 | AE8: WK 40 | AF8: =KUA!H47 | AH8: WK 40 | AI8: =KUBV!H47 | AK8: WK 40 | AL8: =MU!H47 | AN8: WK 40 | AO8: =NAT!H47 | AQ8: WK 40 | AR8: =NE!H47 | AT8: WK 40 | AU8: =NLT!H47 | AW8: WK 40 | AX8: =SK!H47 | AZ8: WK 40 | BA8: =SP!H47 | BC8: WK 40 | BD8: =WISA!H47 | BF8: WK 40 | BG8: =WISB!H47
A9: WK 41 | B9: =AK!H46 -> FALSE | D9: WK 41 | E9: =BECO!H54 | G9: WK 41 | H9: =BI!H54 | J9: WK 41 | K9: =DU!H54 | M9: WK 41 | N9: =ECO!H54 | P9: WK 41 | Q9: =EN!H54 | S9: WK 41 | T9: =FA!H54 | V9: WK 41 | W9: =GS!H54 | Y9: WK 41 | Z9: ='HAPR (M)'!H54 | AB9: WK 41 | AC9: ='HAPR (T)'!H54 | AE9: WK 41 | AF9: =KUA!H54 | AH9: WK 41 | AI9: =KUBV!H54 | AK9: WK 41 | AL9: =MU!H54 | AN9: WK 41 | AO9: =NAT!H54 | AQ9: WK 41 | AR9: =NE!H54 | AT9: WK 41 | AU9: =NLT!H54 | AW9: WK 41 | AX9: =SK!H54 | AZ9: WK 41 | BA9: =SP!H54 | BC9: WK 41 | BD9: =WISA!H54 | BF9: WK 41 | BG9: =WISB!H54
A10: WK 43 | B10: =AK!H53 -> FALSE | D10: WK 43 | E10: =BECO!H60 | G10: WK 43 | H10: =BI!H60 | J10: WK 43 | K10: =DU!H60 | M10: WK 43 | N10: =ECO!H60 | P10: WK 43 | Q10: =EN!H60 | S10: WK 43 | T10: =FA!H60 | V10: WK 43 | W10: =GS!H60 | Y10: WK 43 | Z10: ='HAPR (M)'!H60 | AB10: WK 43 | AC10: ='HAPR (T)'!H60 | AE10: WK 43 | AF10: =KUA!H60 | AH10: WK 43 | AI10: =KUBV!H60 | AK10: WK 43 | AL10: =MU!H60 | AN10: WK 43 | AO10: =NAT!H60 | AQ10: WK 43 | AR10: =NE!H60 | AT10: WK 43 | AU10: =NLT!H60 | AW10: WK 43 | AX10: =SK!H60 | AZ10: WK 43 | BA10: =SP!H60 | BC10: WK 43 | BD10: =WISA!H60 | BF10: WK 43 | BG10: =WISB!H60

Sheet AK
B1: AARDRIJKSKUNDE (AK) | K1: PERIODE 1
A3: ALGEMENE INFORMATIE
A4: We werken deze eerste periode met Systeem aarde.
A5: Zorg dat je dit boek dus mee hebt en een schrift voor aantekeningen en het maken van vragen.
A6: Aan het einde van de periode volgt een 25% toets over het GEHELE boek, dus ook over de stof uit 4havo.
A7: Wat moet je geleerd hebben na deze periode?
A9: VAKINHOUD | H9: IK HEB HET GEDAAN | I9: IK BEHEERS HET | J9: RUIMTE VOOR REFLECTIE
A10: WK35: 24 t/m 28 aug. | B10: TAKEN & OPDRACHTEN | H10: FALSE | I10: FALSE
A11: Luisteren | B11: introductie van hoofdstuk 3 | G11: FALSE
A12: Daltontaak (verplicht) | B12: instaptoets hoofdstuk 3: deze kun je vantevoren maken - blz 93-94 | G12: FALSE
A13: Lezen | B13: §3.1 en §3.2 (zeestromen) | G13: FALSE
A14: Maken | B14: §3.1 opgaven 1 t/m 5 | G14: FALSE
A15: Maken | B15: §3.2 opgaven 7 en 8 | G15: FALSE
A16: WK36: 31 t/m 4 sep. | B16: TAKEN & OPDRACHTEN | H16: FALSE | I16: FALSE
A17: Daltontaak (verplicht) | B17: nakijken opgaven §3.1 | G17: FALSE
A18: Aantekening | B18: klimaatsysteem volgens Köppen | G18: FALSE
A19: Lezen | B19: §3.2 restant | G19: FALSE
A20: Maken | B20: §3.2 opgaven 1 t/m 6 en 9 | G20: FALSE
A21: Daltontaak (verplicht) | B21: oefenen met klimaatgrafieken | G21: FALSE
A22: WK37: 7 t/m 11 sep. Examenreisweek | B22: TAKEN & OPDRACHTEN | H22: FALSE | I22: FALSE
A23: Keuzemenu | G23: FALSE
A24: Keuzemenu | G24: FALSE
A25: Keuzemenu | G25: FALSE
A26: Keuzemenu | G26: FALSE
A27: Keuzemenu | G27: FALSE
A28: WK38: 14 t/m 18 sep. | B28: TAKEN & OPDRACHTEN | H28: FALSE | I28: FALSE
A29: Lezen | B29: §3.3 | G29: FALSE
A30: Maken | B30: §3.3 opgaven 1 t/m 7 | G30: FALSE
A31: Daltontaak (optioneel) | B31: opzoeken in de atlas (herhaling) | G31: FALSE
A32: Daltontaak (verplicht) | B32: nakijken opgaven §3.2 en klimaatstencil | G32: FALSE
A33: Keuzemenu | G33: FALSE
A34: WK39: 21 t/m 25 sep. | B34: TAKEN & OPDRACHTEN | H34: FALSE | I34: FALSE
A35: Lezen | B35: §3.4 | G35: FALSE
A36: Maken | B36: §3.4 opgaven 1 t/m 9 | G36: FALSE
A37: Daltontaak (verplicht) | B37: nakijken opgaven §3.3 | G37: FALSE
A38: Kijken | B38: daltontaak: documentaire klimaatjagers | G38: FALSE
A39: Keuzemenu | G39: FALSE
A40: WK40: 28 t/m 2 okt. | B40: TAKEN & OPDRACHTEN | H40: FALSE | I40: FALSE
A41: Daltontaak (verplicht) | B41: maken instaptoets hoofdstuk 4 blz 147 | G41: FALSE
A42: Lezen | B42: §4.1 | G42: FALSE
A43: Maken | B43: §4.1 opgaven 2 t/m 7 | G43: FALSE
A44: Daltontaak (optioneel) | B44: stencil schaalniveaus en dimensies - herhaling | G44: FALSE
A45: Daltontaak (verplicht) | B45: nakijken opgaven §3.4 | G45: FALSE
A46: WK41: 5 t/m 9 okt. Di. Brugklasdag | B46: TAKEN & OPDRACHTEN | H46: FALSE | I46: FALSE
A47: Lezen | B47: §4.2 en §4.3 | G47: FALSE
A48: Maken | B48: §4.2 opgaven 1 t/m 6 en 8 | G48: FALSE
A49: Keuzemenu | G49: FALSE
A50: Keuzemenu | G50: FALSE
A51: Keuzemenu | G51: FALSE
A52: WEEK 42 HERFSTVAKANTIE
A53: WK43: 19 t/m 23 okt. Vr. Daltondag | B53: TAKEN & OPDRACHTEN | H53: FALSE | I53: FALSE
A54: Daltontaak (verplicht) | B54: nakijken opgaven hoofdstuk 4 | G54: FALSE
A55: Herhalen | B55: H1, H2, (H3 en H4). | G55: FALSE
A56: Maken & Nakijken | B56: examentrainingen aan het einde van ieder hoofdstuk | G56: FALSE
A57: Keuzemenu | G57: FALSE
A58: Keuzemenu | G58: FALSE
A59: WEEK 44 TOETSWEEK ONDERBOUW EN BOVENBOUW (MA. 26 OKT. T/M VR. 30 OKT.)
A61: UITDAGINGEN/EXTRA MOGELIJKHEDEN
A69: TOETS
A70: PTA-toets Systeem aarde over het gehele boek. Deze toets telt 25% mee voor het schoolexamen.

Sheet BECO
B1: BEDRIJFSECONOMIE (BECO) | K1: PERIODE 1
A3: ALGEMENE INFORMATIE
A4: Bij beco hebben we een werkboek Cumulus waarin je mag schrijven en dit voor jou is. Verder is er digitale ondersteuning met antwoorden, powerpoints lesstof, test jezelf en begrippentrainer per hoofdstuk.
A5: Het werkboek heb je elke les bij je. Opbouw werkboek. Start met theorie. Beknopt opgenomen en daarna opgaven.
A6: De docent maakt ook een studiewijzer in Som per klas. Daarin staan de powerpoints van cumulus aangevuld met extra uitleg van Huisman
A9: VAKINHOUD | H9: IK HEB HET GEDAAN | I9: IK BEHEERS HET | J9: RUIMTE VOOR REFLECTIE
A10: WK35: 24 t/m 28 aug. | B10: TAKEN & OPDRACHTEN | H10: FALSE | I10: FALSE
A11: Kijken & Luisteren | B11: Opstarten, boeken uitdelen, koppelen klassen en 4.1 Investeringsselectie Les 1 t/m 4 | G11: FALSE
A12: Maken & Nakijken | B12: O 4.1 t/m 4.7 | G12: FALSE
A13: Daltontaak (verplicht) | B13: Doornemen theorie 4.1 Investeringsselectie (blz. 102 t/m 105) | G13: FALSE
A14: Daltontaak (optioneel) | B14: Maken test jezelf en begrippentrainer 4.1 investeringsselectie in digitale leeromgeving Cumulus | G14: FALSE
A15: Keuzemenu | G15: FALSE
A16: WK36: 31 t/m 4 sep. | B16: TAKEN & OPDRACHTEN | H16: FALSE | I16: FALSE
A17: Kijken & Luisteren | B17: 4.2 Organisatie les 1 t/m 4 | G17: FALSE
A18: Maken & Nakijken | B18: O 4.8 t/m 4.11 | G18: FALSE
A19: Daltontaak (verplicht) | B19: Doornemen theorie 4.2 Organisaties (blz. 117 t/m 120) | G19: FALSE
A20: Daltontaak (optioneel) | B20: Maken test jezelf en begrippentrainer 4.2 organisaties in digitale leeromgeving Cumulus | G20: FALSE
A21: Keuzemenu | G21: FALSE
A22: WK37: 7 t/m 11 sep. Examenreisweek | B22: TAKEN & OPDRACHTEN | H22: FALSE | I22: FALSE
A23: Aantekening | B23: Mensen die niet meegaan. Of extra oefenen met test jezelf en begrippentrainer 4.1 en 4.2 of starten met 4.3 Personeel (doornemen theorie en starten met opgaven 4.12 en verder) | G23: FALSE
A24: Keuzemenu | G24: FALSE
A25: Keuzemenu | G25: FALSE
A26: Keuzemenu | G26: FALSE
A27: Keuzemenu | G27: FALSE
A28: WK38: 14 t/m 18 sep. | B28: TAKEN & OPDRACHTEN | H28: FALSE | I28: FALSE
A29: Kijken & Luisteren | B29: 4.3 Personeel Les 1 t/m 3 | G29: FALSE
A30: Maken & Nakijken | B30: O 4.12 t/m 4.18 | G30: FALSE
A31: Daltontaak (verplicht) | B31: Doornemen theorie 4.3 Personeel (blz. 129 t/m 138) | G31: FALSE
A32: Keuzemenu | G32: FALSE
A33: Keuzemenu | G33: FALSE
A34: WK39: 21 t/m 25 sep. | B34: TAKEN & OPDRACHTEN | H34: FALSE | I34: FALSE
A35: Kijken & Luisteren | B35: 4.3 Personeel Les 4 t/m 6 | G35: FALSE
A36: Maken & Nakijken | B36: O 4.19 t/m 4.25 | G36: FALSE
A37: Daltontaak (verplicht) | B37: Doornemen theorie 4.3 Personeel (blz. 129 t/m 138) | G37: FALSE
A38: Daltontaak (optioneel) | B38: Maken test jezelf en begrippentrainer 4.3 Personeel in digitale leeromgeving Cumulus | G38: FALSE
A39: Keuzemenu | G39: FALSE
A40: WK40: 28 t/m 2 okt. | B40: TAKEN & OPDRACHTEN | H40: FALSE | I40: FALSE
A41: Kijken & Luisteren | B41: 4.4 BEA Les 1 t/m 3 | G41: FALSE
A42: Maken & Nakijken | B42: O 4.30 t/m 4.34 | G42: FALSE
A43: Daltontaak (verplicht) | B43: Doornemen theorie 4.4 (blz. 171 t/m 177) | G43: FALSE
A44: Keuzemenu | G44: FALSE
A45: Keuzemenu | G45: FALSE
A46: WK41: 5 t/m 9 okt. Di. Brugklasdag | B46: TAKEN & OPDRACHTEN | H46: FALSE | I46: FALSE
A47: Kijken & Luisteren | B47: 4.4 BEA Les 4 t/m 7 | G47: FALSE
A48: Maken & Nakijken | B48: O 4.35 t/m 4.41 | G48: FALSE
A49: Daltontaak (verplicht) | B49: Doornemen theorie 4.4 (blz. 171 t/m 177) | G49: FALSE
A50: Daltontaak (optioneel) | B50: Maken test jezelf en begrippentrainer 4.4 Break-even analyse in digitale leeromgeving Cumulus | G50: FALSE
A51: Keuzemenu | G51: FALSE
A52: WEEK 42 HERFSTVAKANTIE
A53: WK43: 19 t/m 23 okt. Vr. Daltondag | B53: TAKEN & OPDRACHTEN | H53: FALSE | I53: FALSE
A54: Kijken & Luisteren | B54: Opmerkingen over komende toets H4.1 t/m H4.4 | G54: FALSE
A55: Leren | B55: Theorie H4.1 t/m 4.4 | G55: FALSE
A56: Test jezelf | B56: H 4.1 t/m 4.4 (zie digitale leeromgeving Cumulus en maak ze meerdere keren =effectief (leer van je eerder gemaakte fouten) | G56: FALSE
A57: Leren | B57: Begrippentrainer digitale leeromgeving Cumulus. Meer toepassen bij theorie hoofdstukken 4.2 en 4.3. | G57: FALSE
A58: Keuzemenu | G58: FALSE
A59: WEEK 44 TOETSWEEK ONDERBOUW EN BOVENBOUW (MA. 26 OKT. T/M VR. 30 OKT.)
A61: UITDAGINGEN/EXTRA MOGELIJKHEDEN
A69: TOETS
A70: Toets in TP1 gaat over 4.1 Investeringsselectie, 4.2 Organisatie, 4.3 Personeel en 4.4 Breakeven-analyse. De weging is 25% en toets is herkansbaar.

Sheet BI
B1: BIOLOGIE (BI) | K1: PERIODE 1
A3: ALGEMENE INFORMATIE
A4: Bij biologie gebruiken we de methode Biologie voor jou Max editie (uitgever Malmberg)
A5: Wij starten met Boek 5A, neem die elke les mee. En een map of snelhechter is handig.
A6: In Somtoday in de bijlagen van biologie vind je zaken zoals de Powerpoints, antwoordmodellen en hulpstencils.
A7: We behandelen deze periode Thema 8: Stofwisseling en Thema 10: Voeding en vertering
A9: VAKINHOUD | H9: IK HEB HET GEDAAN | I9: IK BEHEERS HET | J9: RUIMTE VOOR REFLECTIE
A10: WK35: 24 t/m 28 aug. | B10: TAKEN & OPDRACHTEN | H10: FALSE | I10: FALSE
A11: Lezen | B11: §8.1 | G11: FALSE
A12: Maken | B12: Opdrachten van §8.1 | G12: FALSE
A13: Oefenen | B13: Invulopdracht: Organisch - Anorganisch | G13: FALSE
A14: Oefenen | B14: RTTI invulopdracht: Energie - ATP vorming | G14: FALSE
A15: Daltontaak (verplicht) | B15: Afmaken oefenodrachten org/anorg en energie/atp | G15: FALSE
A16: WK36: 31 t/m 4 sep. | B16: TAKEN & OPDRACHTEN | H16: FALSE | I16: FALSE
A17: Lezen | B17: §8.2 en §8.3 | G17: FALSE
A18: Maken | B18: Opdrachten van §8.2 | G18: FALSE
A19: Maken | B19: Opdrachten van §8.3 | G19: FALSE
A20: Oefenen | B20: Werkbladen enzymwerking onder invloed van temperatuur | G20: FALSE
A21: Practicum | B21: Invloed van temperatuur op het enzym peroxidase | G21: FALSE
A22: WK37: 7 t/m 11 sep. Examenreisweek | B22: TAKEN & OPDRACHTEN | H22: FALSE | I22: FALSE
A23: Keuzemenu | G23: FALSE
A24: Keuzemenu | G24: FALSE
A25: Keuzemenu | G25: FALSE
A26: Keuzemenu | G26: FALSE
A27: Keuzemenu | G27: FALSE
A28: WK38: 14 t/m 18 sep. | B28: TAKEN & OPDRACHTEN | H28: FALSE | I28: FALSE
A29: Lezen | B29: §8.4 en §8.5 | G29: FALSE
A30: Maken | B30: Opdrachten van §8.4 | G30: FALSE
A31: Maken | B31: Opdrachten van §8.5 | G31: FALSE
A32: Oefenen | B32: Expertopdrachten koolstofassimilatie, voortgezette assimilatie, dissimilatie | G32: FALSE
A33: Leren | B33: Leren begrippen van §8.1 t/m §8.5 | G33: FALSE
A34: WK39: 21 t/m 25 sep. | B34: TAKEN & OPDRACHTEN | H34: FALSE | I34: FALSE
A35: Lezen | B35: §8.6 en §10.1 | G35: FALSE
A36: Maken | B36: Opdrachten van §8.6 | G36: FALSE
A37: Maken | B37: Opdrachten van §10.1 | G37: FALSE
A38: Oefenen | B38: Kaartjes fotosynthese/verbranding / opdracht fotosynthese intensiteit | G38: FALSE
A39: Daltontaak (verplicht) | B39: Lezen en maken Samenhang van thema 8 Stofwisseling blz. 50 | G39: FALSE
A40: WK40: 28 t/m 2 okt. | B40: TAKEN & OPDRACHTEN | H40: FALSE | I40: FALSE
A41: Lezen | B41: §10.2 en §10.3 | G41: FALSE
A42: Maken | B42: Opdrachten van §10.2 | G42: FALSE
A43: Maken | B43: Opdrachten van §10.3 | G43: FALSE
A44: Oefenen | B44: Knipopdracht voedingsstoffen | G44: FALSE
A45: Practicum | B45: Voedingsstoffen aantonen in voedingsmiddelen | G45: FALSE
A46: WK41: 5 t/m 9 okt. Di. Brugklasdag | B46: TAKEN & OPDRACHTEN | H46: FALSE | I46: FALSE
A47: Lezen | B47: §10.4 en §10.5 | G47: FALSE
A48: Maken | B48: Opdrachten van §10.4 | G48: FALSE
A49: Maken | B49: Opdrachten van §10.5 | G49: FALSE
A50: Leren | B50: Leren begrippen §8.6 t/m §10.5 | G50: FALSE
A51: Daltontaak (optioneel) | B51: Samenvatten thema 8 en 10 als voorbereiding op het oefenen van examenvragen | G51: FALSE
A52: WEEK 42 HERFSTVAKANTIE
A53: WK43: 19 t/m 23 okt. Vr. Daltondag | B53: TAKEN & OPDRACHTEN | H53: FALSE | I53: FALSE
A54: Leren | B54: Begrippen thema 8 + thema 10 - Blookets of 30Seconds spel in de les om je kennis te testen | G54: FALSE
A55: Practicum | B55: Onderzoek naar de enzymactiviteit van amylase (2 lessen) | G55: FALSE
A56: Oefenen | B56: Examenopgaven blz.64 t/m 67 | G56: FALSE
A57: Daltontaak (verplicht) | B57: Lezen en maken Samenhang van thema 10 Voeding en vertering blz. 182 | G57: FALSE
A58: Keuzemenu | G58: FALSE
A59: WEEK 44 TOETSWEEK ONDERBOUW EN BOVENBOUW (MA. 26 OKT. T/M VR. 30 OKT.)
A61: UITDAGINGEN/EXTRA MOGELIJKHEDEN
A69: TOETS
A70: PTA (20%) 90 minuten, Thema 8 Stofwisseling (§8.1 t/m §8.6) + Thema 10 Voeding en vertering (§10.1 t/m §10.5)

Sheet DU
B1: DUITS (DU) | K1: PERIODE 1
A3: ALGEMENE INFORMATIE
A4: Welkom bij Duits. In deze periode leggen we de focus op Examenidioom en mondelinge taalvaardigheid. Ook komen alle andere vaardigheden aan bod. Verder steek je nuttige informatie op over de Duitstalige landen. Je krijgt in de lessen zonodig uitleg over grammatica. En... er wordt in dit jaar veel zelfstandigheid van je verwacht, dus maak aantekeningen, wees actief betrokken en werk samen.
A5: De Daltonuren zijn bedoeld om taken af te krijgen, te herhalen en te verdiepen.
A6: Meenemen: In de lessen neem je het boek Neue Kontakte 5 havo, een schrift (ein Heft), etui (met markers, pennen, potloden) en het Examenidioom mee. Het Examenidioom wordt uitgedeeld in de eerste week.
A7: Er zijn twee toetsen waarop je gedurende de komende tijd moet voorbereiden. Toets 1 is de Hoofdstuktoets 1 (toetsweek) en Toets 2 Examenidioom boek 1+2 deadline voor de kerst in periode 2. Dus begin op tijd met leren! LEERDOELEN: Je kunt de essentie van een televisiereportage en interview in normaal spreektempo begrijpen. Je kunt verbanden leggen in teksten met minder frequente uitdrukkingen en woorden. Je kunt een tekst samenvatten en een mening erover geven. Je kunt eenvoudige mails aan zakelijke contacten schrijven. Je kunt argumenten voor of tegen een standpunt geven. Je kunt adequate zakelijke en formele brieven schrijven. Je kunt je woordenschatkennis naar B2 niveau uitbreiden. Je kunt je mondeling verstaanbaar maken op minimaal B1 niveau.
A9: VAKINHOUD | H9: IK HEB HET GEDAAN | I9: IK BEHEERS HET | J9: RUIMTE VOOR REFLECTIE
A10: WK35: 24 t/m 28 aug. | B10: TAKEN & OPDRACHTEN | H10: FALSE | I10: FALSE
A11: Doen | B11: Welkom in het nieuwe schooljaar | G11: FALSE
A12: Extra materiaal | B12: uitdelen examenidioom boek deel 1 (toets deel 1 en deel 2 in p2 voor de kerst) | G12: FALSE
A13: WS + Spreken | B13: Sommerferien (vrij spreken) | G13: FALSE
A14: Kijken & Luisteren | B14: S. 10, 11 Nr. 1 tm 5 | G14: FALSE
A15: Daltontaak | B15: leer de woorden S. 65 A (kijk ook online op Neue Kontakte onder slim stampen); examenidioom S. 2 leren | G15: FALSE
A16: WK36: 31 t/m 4 sep. | B16: TAKEN & OPDRACHTEN | H16: FALSE | I16: FALSE
A17: Lezen | B17: S. 13, 14, 15 Nr. 10 tm 13 (vertaal eerst alle vragen en antwoorden naar het NL voordat je met het maken van de tekst begint + onderstreep waar het antwoord staat) | G17: FALSE
A18: Grammatica | B18: S. 19, 20, 21 Nr. 20 tm 22 | G18: FALSE
A19: WS + Spreken | B19: S. 24, 25 Nr. 26 tm 29 | G19: FALSE
A20: Keuzemenu | G20: FALSE
A21: Daltontaak | B21: leer de woorden S. 65 B (D-N) + S. 24,25 Nr, 26 tm 29 afronden; examenidioom S. 3,4 leren | G21: FALSE
A22: WK37: 7 t/m 11 sep. Examenreisweek | B22: TAKEN & OPDRACHTEN | H22: FALSE | I22: FALSE
A23: Aantekening | G23: FALSE
A24: Aantekening | G24: FALSE
A25: Aantekening | G25: FALSE
A26: Aantekening | G26: FALSE
A27: Aantekening | G27: FALSE
A28: WK38: 14 t/m 18 sep. | B28: TAKEN & OPDRACHTEN | H28: FALSE | I28: FALSE
A29: Lezen | B29: S. 16, 17 Nr. 15 tm 17 (maak de opdrachten maar vertaal eerst alle vragen en antwoorden naar het NL voordat je met het maken van de tekst begint + onderstreep waar het antwoord staat) | G29: FALSE
A30: WS + Spreken | B30: S. 26, 27 Nr. 30, 31 | G30: FALSE
A31: Schrijven | B31: S. 33, 34 Nr. 39 tm 41 | G31: FALSE
A32: Keuzemenu | G32: FALSE
A33: Daltontaak | B33: S. 35 Nr. 42 + herhaal de woorden S. 65 A en B + leer S. 66 F en G (D-N); examenidioom S. 5,6 leren | G33: FALSE
A34: WK39: 21 t/m 25 sep. | B34: TAKEN & OPDRACHTEN | H34: FALSE | I34: FALSE
A35: Schrijven | B35: Wij bespreken de daltontaak van afgelopen week. Iedereen heeft de opdrachten mee + je levert je schrift (dein Heft) in. | G35: FALSE
A36: Extra materiaal | B36: examenidioom mee + korte tekst (krijg je in de les) | G36: FALSE
A37: Lezen | B37: S. 30 tm 32 Nr. 36 + 37 | G37: FALSE
A38: Keuzemenu | G38: FALSE
A39: Daltontaak | B39: leer de woorden S. 66 linker kolom baan tm kiezen voor (N-D) let ook op de spelling + vertaal vragen en antwoorden S. 41, 42 Nr. 47 LET OP: je hoeft de opdrachten nog niet te maken; examenidioom S. 7 | G39: FALSE
A40: WK40: 28 t/m 2 okt. | B40: TAKEN & OPDRACHTEN | H40: FALSE | I40: FALSE
A41: Land & Kultur | B41: S. 36 +37 Nr. 1 tm 4 | G41: FALSE
A42: Kijken & Luisteren | B42: S. 38, 39 Nr. 44 tm 46 | G42: FALSE
A43: Lezen | B43: S. 40 + 41 + 42 Nr. 47 (neem je vertalingen erbij, wij bespreken deze, dan verder met lezen) | G43: FALSE
A44: Extra materiaal | B44: leren examenidioom deel 2 Thema 1 (staat als PDF in Som > Bijlagen) | G44: FALSE
A45: Daltontaak | B45: leer de woorden S. 66 D rechter kolom helemaal leren tm weliswaar (N-D) + bestudeer de grammatica S. 44 (+S. 194) +S. 44,45 Nr. 49 tm 51; examenidioom deel 1 S. 2 tm 7 herhalen; leer examenidioom deel 2 thema 1 (D-NL) | G45: FALSE
A46: WK41: 5 t/m 9 okt. Di. Brugklasdag | B46: TAKEN & OPDRACHTEN | H46: FALSE | I46: FALSE
A47: Grammatica | B47: S. 45 Nr. 52,53, S. 46 Nr 55 + S. 47 Nr. 57 + daltontaak bespreken | G47: FALSE
A48: WS + Spreken | B48: S. 49 Nr. 60+61, S. 50 Nr. 62 (kijk in Lernliste) | G48: FALSE
A49: Lezen | B49: S. 42 + 43 (Cito-Text 2) Nr. 48 maken en vertalen | G49: FALSE
A50: Keuzemenu | G50: FALSE
A51: Daltontaak | B51: leer de woorden S. 67 hele rechter kolom (N-D) + S. 50, 51 Nr. 63, 64; leer examenidioom deel 2 thema 2 (D-NL) | G51: FALSE
A52: WEEK 42 HERFSTVAKANTIE
A53: WK43: 19 t/m 23 okt. Vr. Daltondag | B53: TAKEN & OPDRACHTEN | H53: FALSE | I53: FALSE
A54: Schrijven | B54: S. 56,57 Nr. 73 tm 77 (2 lesuren) | G54: FALSE
A55: Test jezelf | B55: quickscan https://examenbundel.nl/quickscan | G55: FALSE
A56: Vragen & Extra uitleg | B56: vragen mbt tot grammatica / schrijven of andere stof? Volgende week hoofdstuk 1 toets | G56: FALSE
A57: Toetsvoorbereiding | B57: - Grammatik S. 18, 19 + 44 (jullie mogen de gele en groene kaart tijdens de toets gebruiken.) - Land und Kultur S. 36 er komen vragen over de steden en Nr. 3 en 4 - Lernliste S. 65 tm 67 let op, ik vraag veeeeel woorden | G57: FALSE
A58: Daltontaak | B58: leer examenidioom deel 2 thema 3 (D-NL) en herhaal alle woorden S. 65, 66, 67 Let op: nog voor de kerst toets over het examenidioom deel 1 + 2 (D-NL), leesboek lenen uit mediatheek voor literatuur (docent geeft aan welk boek) | G58: FALSE
A59: WEEK 44 TOETSWEEK ONDERBOUW EN BOVENBOUW (MA. 26 OKT. T/M VR. 30 OKT.)
A61: UITDAGINGEN/EXTRA MOGELIJKHEDEN
A69: TOETS
A70: Hoofdstuk 1 (zie toetsvoorbereiding week 43)
A72: Examenidioom deel 1 en 2 (in periode 2, week 47)

Sheet ECO
B1: ECONOMIE (ECO) | K1: PERIODE 1
A3: ALGEMENE INFORMATIE
A4: In havo 5 zullen we twee lesbrieven herhalen uit havo 4 (Vragers en Aanbieders en Jong en Oud) en behandelen we drie nieuwe lesbrieven (Markt en Overheid, Verdienen en Uitgeven en Europa).
A5: Meenemen de lesbrief Markt en Overheid en de lesbrief Vragers en Aanbieders.
A9: VAKINHOUD | H9: IK HEB HET GEDAAN | I9: IK BEHEERS HET | J9: RUIMTE VOOR REFLECTIE
A10: WK35: 24 t/m 28 aug. | B10: TAKEN & OPDRACHTEN | H10: FALSE | I10: FALSE
A11: Kijken & Luisteren | B11: Intoductie economie in havo 5 | G11: FALSE
A12: Maken | B12: 1.2 t/m 1.10 van de lesbrief Markt en Overheid. | G12: FALSE
A13: Leren | B13: Lesbrief Vragers en Aanbieders | G13: FALSE
A14: Keuzemenu | G14: FALSE
A15: Keuzemenu | G15: FALSE
A16: WK36: 31 t/m 4 sep. | B16: TAKEN & OPDRACHTEN | H16: FALSE | I16: FALSE
A17: Maken | B17: Opdracht 1.11 t/m 1.29 | G17: FALSE
A18: Nakijken | B18: Hoofdstuk 1 over Volkomen concurrentie, het marktmechanisme, kosten en opbrengsten en Prijselasticiteit | G18: FALSE
A19: Leren | B19: De stof van week 35 | G19: FALSE
A20: Daltontaak (optioneel) | B20: Maken van de weektaak | G20: FALSE
A21: Keuzemenu | G21: FALSE
A22: WK37: 7 t/m 11 sep. Examenreisweek | B22: TAKEN & OPDRACHTEN | H22: FALSE | I22: FALSE
A23: Leren | B23: Afronden en herhalen hoofdstuk 1 en 2 | G23: FALSE
A24: Keuzemenu | G24: FALSE
A25: Keuzemenu | G25: FALSE
A26: Keuzemenu | G26: FALSE
A27: Keuzemenu | G27: FALSE
A28: WK38: 14 t/m 18 sep. | B28: TAKEN & OPDRACHTEN | H28: FALSE | I28: FALSE
A29: Maken | B29: Opdracht 3.6 t/m 3.13 en 3.38 t/m 3.42 | G29: FALSE
A30: Nakijken | B30: Weektaak week 36 | G30: FALSE
A31: Leren | B31: De stof van week 36 | G31: FALSE
A32: Daltontaak (optioneel) | B32: Maken van de weektaak | G32: FALSE
A33: Keuzemenu | G33: FALSE
A34: WK39: 21 t/m 25 sep. | B34: TAKEN & OPDRACHTEN | H34: FALSE | I34: FALSE
A35: Maken | B35: Opdracht 3.4 + 3.5 en 3.14 t/m 3.21 en 3.43 | G35: FALSE
A36: Nakijken | B36: Weektaak week 38 | G36: FALSE
A37: Leren | B37: De stof van week 38 | G37: FALSE
A38: Daltontaak (optioneel) | B38: Maken van de weektaak | G38: FALSE
A39: Keuzemenu | G39: FALSE
A40: WK40: 28 t/m 2 okt. | B40: TAKEN & OPDRACHTEN | H40: FALSE | I40: FALSE
A41: Maken | B41: Opdracht 4.2 t/m 4.19+ 4.31 | G41: FALSE
A42: Nakijken | B42: Weektaak week 39 | G42: FALSE
A43: Leren | B43: De stof van week 39 | G43: FALSE
A44: Daltontaak (optioneel) | B44: Maken van de weektaak | G44: FALSE
A45: Keuzemenu | G45: FALSE
A46: WK41: 5 t/m 9 okt. Di. Brugklasdag | B46: TAKEN & OPDRACHTEN | H46: FALSE | I46: FALSE
A47: Maken | B47: Opdracht 5.1 t/m 5.26 (5.7 en 5.21 overslaan) | G47: FALSE
A48: Nakijken | B48: Weektaak week 40 | G48: FALSE
A49: Leren | B49: De stof van week 40 | G49: FALSE
A50: Daltontaak (optioneel) | B50: Maken van de weektaak | G50: FALSE
A51: Keuzemenu | G51: FALSE
A52: WEEK 42 HERFSTVAKANTIE
A53: WK43: 19 t/m 23 okt. Vr. Daltondag | B53: TAKEN & OPDRACHTEN | H53: FALSE | I53: FALSE
A54: Maken | B54: Opdracht 6.1 t/m 6.9 | G54: FALSE
A55: Nakijken | B55: Weektaak week 41 | G55: FALSE
A56: Leren | B56: Lesbrief Vragers en Aanbierders en lesbrief Markt en Overheid | G56: FALSE
A57: Daltontaak (optioneel) | G57: FALSE
A58: Keuzemenu | G58: FALSE
A59: WEEK 44 TOETSWEEK ONDERBOUW EN BOVENBOUW (MA. 26 OKT. T/M VR. 30 OKT.)
A61: UITDAGINGEN/EXTRA MOGELIJKHEDEN
A62: De opdrachten van de zelftest maken die je nog niet gemaakt hebt en de opdrachten die staan in Som, licentie LWEOplus.
A69: TOETS
A70: Lesbrief Vragers en Aanbieders en de lesbrief Markt en Overheid

Sheet EN
B1: ENGELS (EN) | K1: PERIODE 1
A3: ALGEMENE INFORMATIE
A4: During the lesson = behandel/maak je tijdens de les, graag niet aan beginnen totdat je de les hebt bijgewoond en afgerond
A5: Alles waar geen 'during the lesson' staat is huiswerk en kan je dus in een Daltonuur of thuis maken en/of afmaken
A6: Zorg dat je ten alle tijden een leesboek bij je hebt voor tijdens de les Engels, tussenuren, Daltonuren of als je eerder klaar bent
A7: In de kantlijn staat waar het werk, zowel binnen als buiten de les, mee te maken heeft, denk bijvoorbeeld aan grammatica, lezen, schrijven etc.
A9: VAKINHOUD | H9: IK HEB HET GEDAAN | I9: IK BEHEERS HET | J9: RUIMTE VOOR REFLECTIE
A10: WK35: 24 t/m 28 aug. | B10: TAKEN & OPDRACHTEN | H10: FALSE | I10: FALSE
A11: Lezen | B11: Introduction and read LB 1.1/LB 1.2/LB 1.3 | G11: FALSE
A12: Schrijven | B12: Work on LB 1.5 - Essay Writing Theory A-E | G12: FALSE
A13: Maken | B13: Finish LB 1.5 and work on LB 1.4 | G13: FALSE
A14: Inleveren | B14: Hand in LB 1.4- introduce yourself (handwritten) | G14: FALSE
A15: Daltontaak (verplicht) | B15: Go to the library and borrow a book for English. It needs to have a green sticker and 2 points on the back. If you want to read a book from home, contact your teacher first! | G15: FALSE
A16: WK36: 31 t/m 4 sep. | B16: TAKEN & OPDRACHTEN | H16: FALSE | I16: FALSE
A17: Literatuur | B17: Work on LB 2.1 - PEE and LB 2.2 - 1984 | G17: FALSE
A18: Literatuur | B18: Work on LB 2.2 - 1984 | G18: FALSE
A19: Examentraining | B19: Work on 'Super Examen Training' | G19: FALSE
A20: Daltontaak (verplicht) | B20: Read 10-15% of your book. Sign up for a 'quiet ' Dalton hour | G20: FALSE
A21: Keuzemenu | G21: FALSE
A22: WK37: 7 t/m 11 sep. Examenreisweek | B22: TAKEN & OPDRACHTEN | H22: FALSE | I22: FALSE
A23: Examentraining | B23: Work on 'Super Examen Training' | G23: FALSE
A24: Keuzemenu | B24: CITY TRIP LONDON/BERLIN | G24: FALSE
A25: Keuzemenu | B25: CITY TRIP LONDON/BERLIN | G25: FALSE
A26: Keuzemenu | B26: CITY TRIP LONDON/BERLIN | G26: FALSE
A27: Keuzemenu | B27: CITY TRIP LONDON/BERLIN | G27: FALSE
A28: WK38: 14 t/m 18 sep. | B28: TAKEN & OPDRACHTEN | H28: FALSE | I28: FALSE
A29: Maken | B29: Work on LB 1.6A - Assignment 1 (write your individual essay) | G29: FALSE
A30: Maken | B30: Work on LB 1.6A - Assignment 1 - group essay - INDIVIDUAL ESSAY NEEDED!! | G30: FALSE
A31: Maken | B31: Work on 'Super Examen Training' or LB 1.6A (hand in last lesson of the week) | G31: FALSE
A32: Inleveren | B32: Hand in LB 1.6A - individual and group essay copy (all handwritten) needs to be handed in for each group | G32: FALSE
A33: Daltontaak (verplicht) | B33: Read 10-15% of your book. Sign up for a 'quiet' Dalton hour | G33: FALSE
A34: WK39: 21 t/m 25 sep. | B34: TAKEN & OPDRACHTEN | H34: FALSE | I34: FALSE
A35: Literatuur | B35: Work on LB 2.3 - Dulce et Decorum est | G35: FALSE
A36: Literatuur | B36: Work on LB 2.3 - Dulce et Decorum est | G36: FALSE
A37: Examentraining | B37: Work on 'Super Examen Training' | G37: FALSE
A38: Maken & Nakijken | B38: Finish the exam text and LB 2.3 - Dulce et Decorum est | G38: FALSE
A39: Daltontaak (verplicht) | B39: Read 10-15% of your book. Sign up for a 'quiet' Dalton hour | G39: FALSE
A40: WK40: 28 t/m 2 okt. | B40: TAKEN & OPDRACHTEN | H40: FALSE | I40: FALSE
A41: Maken | B41: Feedback LB 1.6A and start LB 1.6B - Assignment 2 | G41: FALSE
A42: Maken | B42: Work on LB 1.6B - Assignment 2 | G42: FALSE
A43: Keuzemenu | B43: Teacher's choice! | G43: FALSE
A44: Keuzemenu | G44: FALSE
A45: Keuzemenu | G45: FALSE
A46: WK41: 5 t/m 9 okt. Di. Brugklasdag | B46: TAKEN & OPDRACHTEN | H46: FALSE | I46: FALSE
A47: Examentraining | B47: Work on the full CITO practice exam | G47: FALSE
A48: Examentraining | B48: Work on the full CITO practice exam | G48: FALSE
A49: Examentraining | B49: Work on the full CITO practice exam | G49: FALSE
A50: Daltontaak (verplicht) | G50: FALSE
A51: Keuzemenu | G51: FALSE
A52: WEEK 42 HERFSTVAKANTIE
A53: WK43: 19 t/m 23 okt. Vr. Daltondag | B53: TAKEN & OPDRACHTEN | H53: FALSE | I53: FALSE
A54: Maken & Nakijken | B54: Discuss feedback LB 1.6B - Assignment 2 and work on LB 1.6B2 - peer feedback | G54: FALSE
A55: Maken | B55: Work on LB 1.6C - plenary essay | G55: FALSE
A56: Nakijken | B56: 1 lesson left this week? Check your CITO practice exam | G56: FALSE
A57: Keuzemenu | G57: FALSE
A58: Keuzemenu | G58: FALSE
A59: WEEK 44 TOETSWEEK ONDERBOUW EN BOVENBOUW (MA. 26 OKT. T/M VR. 30 OKT.)
A61: UITDAGINGEN/EXTRA MOGELIJKHEDEN
A69: TOETS
A70: TOETSWEEK 1: PTA - Essay writing (30%)
A72: Study Learnbeat 1.5. -1.8, read through your own essays and the feedback you received and study the example essay in LB 1.6
A74: Week 46: Hand in bookreport 4 (portfolio in Learnbeat). Your teacher will set the date.

Sheet FA
B1: FRANS (FA) | K1: PERIODE 1
A3: ALGEMENE INFORMATIE
A4: Wat neem je mee naar de les? Boek (Libre Service), snelhechter met lijntjespapier en 5 tabbladen, aantekeningen van vorig jaar, oortjes of koptelefoon en un bon humeur
A5: In periode 1 staat het SE literatuur (20%) centraal. Je leest hiervoor een boek in de leeskring en bestudeert literatuurgeschiedenis. Tijdens de lessen train je ook de andere vaardigheden. Je gaat tevens zelfstandig aan de slag met het leren van signaalwoorden en examenvocabulaire, dit boekje wordt uitgedeeld in de eerste schoolweek. Je vindt de te leren lijsten ook in Quizlet. De signaalwoorden en examenvocabulaire worden getoetst in periode 3 (10%). Om succesvol te zijn in het examenjaar kom je voorbereid naar de lessen en hou je het leer-/oefenwerk goed bij. Je vindt de antwoordboeken in de jaarbijlage in Somtoday. Noteer bij het nakijken altijd je vragen en stel deze tijdens de les of in een daltonuur.
A6: Welke boeken/spullen/materialen zijn er nodig?
A7: Wat moet je geleerd hebben na deze periode?
A9: VAKINHOUD | H9: IK HEB HET GEDAAN | I9: IK BEHEERS HET | J9: RUIMTE VOOR REFLECTIE
A10: WK35: 24 t/m 28 aug. | B10: TAKEN & OPDRACHTEN | H10: FALSE | I10: FALSE
A11: Lezen | B11: Module Lire leçon 1 opstarten | G11: FALSE
A12: Kijken & Luisteren | B12: Module Regarder et écouter leçon 1 opstarten | G12: FALSE
A13: Leren | B13: Start met leren van signaalwoorden page 4 & 5 FN - Let op: je moet het verband in de zin er ook bij leren! | G13: FALSE
A14: Doen | B14: Praktische opstartzaken zoals Manuel, Quizlet en vocabulaire boekjes | G14: FALSE
A15: Doen | B15: Module Grammaire leçon 1 ex. 1 t/m 4 | G15: FALSE
A16: WK36: 31 t/m 4 sep. | B16: TAKEN & OPDRACHTEN | H16: FALSE | I16: FALSE
A17: Lezen | B17: Module Lire leçon 1 | G17: FALSE
A18: Kijken & Luisteren | B18: Module Regarder et écouter leçon 1 | G18: FALSE
A19: Spreken | B19: Module Parler | G19: FALSE
A20: Leren | B20: Examenvocabulaire + signaalwoorden page 6 & 7 FN | G20: FALSE
A21: Literatuur | B21: Literatuur (leesboekje bepalen) | G21: FALSE
A22: WK37: 7 t/m 11 sep. Examenreisweek | B22: TAKEN & OPDRACHTEN | H22: FALSE | I22: FALSE
A23: Literatuur | B23: Start leeskring en leesopdracht. Literatuurkatern | G23: FALSE
A24: Lezen | B24: Module 1 Lire | G24: FALSE
A25: Keuzemenu | G25: FALSE
A26: Keuzemenu | G26: FALSE
A27: Keuzemenu | G27: FALSE
A28: WK38: 14 t/m 18 sep. | B28: TAKEN & OPDRACHTEN | H28: FALSE | I28: FALSE
A29: Literatuur | B29: Leesopdracht en literatuurkatern | G29: FALSE
A30: Lezen | B30: Module Lire | G30: FALSE
A31: Kijken & Luisteren | B31: Module Regarder & écouter | G31: FALSE
A32: Spreken | B32: Module Parler | G32: FALSE
A33: Leren | B33: Examenvocabulaire + signaalwoorden p. 4 & 5 FN + p, 6 & 7 FN - let op je moet het verband er ook bij leren + examenidioom | G33: FALSE
A34: WK39: 21 t/m 25 sep. | B34: TAKEN & OPDRACHTEN | H34: FALSE | I34: FALSE
A35: Literatuur | B35: Leesopdracht en literatuurkatern | G35: FALSE
A36: Lezen | B36: Module Lire | G36: FALSE
A37: Kijken & Luisteren | B37: Module Regarder & écouter | G37: FALSE
A38: Leren | B38: Examenvocabulaire + signaalwoorden | G38: FALSE
A39: Doen | B39: Module Grammaire ex. 5 t/m 8 | G39: FALSE
A40: WK40: 28 t/m 2 okt. | B40: TAKEN & OPDRACHTEN | H40: FALSE | I40: FALSE
A41: Literatuur | B41: Leesopdracht en literatuurkatern | G41: FALSE
A42: Lezen | B42: Module Lire | G42: FALSE
A43: Schrijven | B43: Module Écrire | G43: FALSE
A44: Leren | B44: Examenvocabulaire + signaalwoorden | G44: FALSE
A45: Doen | B45: Module Grammaire ex. 9 t/m 12 | G45: FALSE
A46: WK41: 5 t/m 9 okt. Di. Brugklasdag | B46: TAKEN & OPDRACHTEN | H46: FALSE | I46: FALSE
A47: Literatuur | B47: Leesopdracht en literatuurkatern | G47: FALSE
A48: Lezen | B48: Module Lire | G48: FALSE
A49: Kijken & Luisteren | B49: Module Regarder et Écouter | G49: FALSE
A50: Leren | B50: Examenvocabulaire + signaalwoorden | G50: FALSE
A51: Literatuur | B51: Literatuurkatern | G51: FALSE
A52: WEEK 42 HERFSTVAKANTIE
A53: WK43: 19 t/m 23 okt. Vr. Daltondag | B53: TAKEN & OPDRACHTEN | H53: FALSE | I53: FALSE
A54: Literatuur | B54: Leesopdracht en literatuurkatern | G54: FALSE
A55: Lezen | B55: Module Lire | G55: FALSE
A56: Kijken & Luisteren | B56: Module Regarder et écouter | G56: FALSE
A57: Leren | B57: Examenvocabulaire + signaalwoorden | G57: FALSE
A58: Doen | B58: Module Grammaire ex. 13 t/m 16 | G58: FALSE
A59: WEEK 44 TOETSWEEK ONDERBOUW EN BOVENBOUW (MA. 26 OKT. T/M VR. 30 OKT.)
A61: UITDAGINGEN/EXTRA MOGELIJKHEDEN
A69: TOETS
A70: LITERATUUR

Sheet GS
B1: GESCHIEDENIS (GS) | K1: PERIODE 1
A3: ALGEMENE INFORMATIE
A4: Boeken: je gebruikt het blauwe boek GeschiedenisWerkplaats voor de kenmerkende aspecten. Het tweede boek is het Examenkatern Memo Geschiedenis.
A5: Alle opdrachten uit het boek, powerpoints, oefenmateriaal en examenopdrachten staan in Learnbeat (LB).
A6: Daarnaast staat veel materiaal in Som/Jaarbijlagen
A7: Wil je goed voorbereid aan de lessen beginnen, dan is het verstandig om je weektaken elke week af te hebben. In elke weektaak wordt uitgelegd, welke paragrafen je moet doorlezen, welke opdrachten uit Learnbeat je geacht wordt te maken. Deze opdrachten bestaan uit vragen bij de tekst, Jort-filmpjes bekijken en oefenopdrachten voor het (school)examen, meestal oude examen opdrachten.
A9: VAKINHOUD | H9: IK HEB HET GEDAAN | I9: IK BEHEERS HET | J9: RUIMTE VOOR REFLECTIE
A10: WK35: 24 t/m 28 aug. | B10: TAKEN & OPDRACHTEN | H10: FALSE | I10: FALSE
A11: Lezen | B11: Historische context Het Britse Rijk 1585-1900 par. 1 Amerikaanse koloniën (1585-!833) | G11: FALSE
A12: Maken & Nakijken | B12: Opdrachten 1.1 Amerikaanse koloniën opdracht 1-2-3, wat niet af is afronden in het Daltonuur | G12: FALSE
A13: Daltontaak (verplicht) | B13: Opdrachten 1.1 Amerikaanse koloniën opdracht 4 tot en met 7, wat niet af is afronden in Daltonuur | G13: FALSE
A14: Oefenen | B14: https://www.geschiedenisvandaag.nu/hoe-beantwoord-ik-een-toetsvraag/ | G14: FALSE
A15: Keuzemenu | G15: FALSE
A16: WK36: 31 t/m 4 sep. | B16: TAKEN & OPDRACHTEN | H16: FALSE | I16: FALSE
A17: Maken & Nakijken | B17: opdrachten 1.1 Amerikaanse koloniën opdracht 8 tot en met 11 | G17: FALSE
A18: Daltontaak (verplicht) | B18: Wat niet af is afmaken in het Daltonuur | G18: FALSE
A19: Keuzemenu | G19: FALSE
A20: Keuzemenu | G20: FALSE
A21: Keuzemenu | G21: FALSE
A22: WK37: 7 t/m 11 sep. Examenreisweek | B22: TAKEN & OPDRACHTEN | H22: FALSE | I22: FALSE
A23: Herhalen | B23: GWP 5.2, herhaling 4 havo stof | G23: FALSE
A24: Herhalen | B24: GWP 6.1 herhaling 4 havo stof | G24: FALSE
A25: Herhalen | G25: FALSE
A26: Keuzemenu | G26: FALSE
A27: Keuzemenu | G27: FALSE
A28: WK38: 14 t/m 18 sep. | B28: TAKEN & OPDRACHTEN | H28: FALSE | I28: FALSE
A29: Herhalen | B29: GWP 7.1 herhaling 4 havo | G29: FALSE
A30: Herhalen | B30: GWP 7.4 herhaling 4 havo | G30: FALSE
A31: Daltontaak (verplicht) | G31: FALSE
A32: Lezen | B32: Deelcontext par. 2 India en het Britse rijk | G32: FALSE
A33: Maken | B33: Maken opdrachten blz. 15 4, 5 en 6 | G33: FALSE
A34: WK39: 21 t/m 25 sep. | B34: TAKEN & OPDRACHTEN | H34: FALSE | I34: FALSE
A35: Maken & Nakijken | B35: Maken blz. 15 opdrachten 4, 5 en 6 | G35: FALSE
A36: Daltontaak (verplicht) | B36: Maken blz. 16 opdrachten 8 tot en met 13 | G36: FALSE
A37: Herhalen | B37: GWP 7.3 Democratische revoluties | G37: FALSE
A38: Keuzemenu | G38: FALSE
A39: Keuzemenu | G39: FALSE
A40: WK40: 28 t/m 2 okt. | B40: TAKEN & OPDRACHTEN | H40: FALSE | I40: FALSE
A41: Herhalen | B41: GWP Democratische Revoluties | G41: FALSE
A42: Maken & Nakijken | G42: FALSE
A43: Keuzemenu | G43: FALSE
A44: Keuzemenu | G44: FALSE
A45: Keuzemenu | G45: FALSE
A46: WK41: 5 t/m 9 okt. Di. Brugklasdag | B46: TAKEN & OPDRACHTEN | H46: FALSE | I46: FALSE
A47: Lezen | B47: Deelcontext 3 Sociaal-economische ontwikkelingen in het thuisland (1750-1900) | G47: FALSE
A48: Maken & Nakijken | B48: Maken blz. 20 opdrachten 1, 5 en 7 | G48: FALSE
A49: Keuzemenu | G49: FALSE
A50: Keuzemenu | G50: FALSE
A51: Keuzemenu | G51: FALSE
A52: WEEK 42 HERFSTVAKANTIE
A53: WK43: 19 t/m 23 okt. Vr. Daltondag | B53: TAKEN & OPDRACHTEN | H53: FALSE | I53: FALSE
A54: Daltontaak (verplicht) | B54: GWP 8.1 herhaling van Havo 4 | G54: FALSE
A55: Maken & Nakijken | B55: GWP 8.6 herhaling van Havo 4 | G55: FALSE
A56: Keuzemenu | B56: Daltontaak | C56: Maken opdrachten 8 tot en met 13, blz. 21
A57: Keuzemenu | B57: Test jezelf | C57: Maken examenvragen
A58: Keuzemenu | G58: FALSE
A59: WEEK 44 TOETSWEEK ONDERBOUW EN BOVENBOUW (MA. 26 OKT. T/M VR. 30 OKT.)
A61: UITDAGINGEN/EXTRA MOGELIJKHEDEN
A69: TOETS

Sheet HAPR (M)
B1: HAVO-Pro M (HAPR) | K1: PERIODE 1
A3: ALGEMENE INFORMATIE
A4: Welkomswoordje
A5: Wat gaan we deze periode doen? Wat is de Daltontaak? Wat houd de Daltontaak in?
A6: Welke boeken/spullen/materialen zijn er nodig?
A7: Wat moet je geleerd hebben na deze periode?
A9: VAKINHOUD | H9: IK HEB HET GEDAAN | I9: IK BEHEERS HET | J9: RUIMTE VOOR REFLECTIE
A10: WK35: 24 t/m 28 aug. | B10: TAKEN & OPDRACHTEN | H10: FALSE | I10: FALSE
A11: Keuzemenu | B11: Introductie PGP in havo 5 en de HvA opdracht | G11: FALSE
A12: Keuzemenu | B12: Competenties kiezen, drietallen maken, onderzoeksvraag kiezen en eindproduct bedenken | G12: FALSE
A13: Keuzemenu | G13: FALSE
A14: Keuzemenu | G14: FALSE
A15: Keuzemenu | G15: FALSE
A16: WK36: 31 t/m 4 sep. | B16: TAKEN & OPDRACHTEN | H16: FALSE | I16: FALSE
A17: Bezoek | B17: Bezoek aan de Hogeschool van Amsterdam op 1 september (±13:00) | G17: FALSE
A18: Keuzemenu | G18: FALSE
A19: Keuzemenu | B19: Wekelijkse voortgangscontrole van eindproduct en portfolio | G19: FALSE
A20: Keuzemenu | G20: FALSE
A21: Keuzemenu | G21: FALSE
A22: WK37: 7 t/m 11 sep. Examenreisweek | B22: TAKEN & OPDRACHTEN | H22: FALSE | I22: FALSE
A23: Keuzemenu | B23: Geen lessen | G23: FALSE
A24: Keuzemenu | G24: FALSE
A25: Keuzemenu | G25: FALSE
A26: Keuzemenu | G26: FALSE
A27: Keuzemenu | G27: FALSE
A28: WK38: 14 t/m 18 sep. | B28: TAKEN & OPDRACHTEN | H28: FALSE | I28: FALSE
A29: Keuzemenu | B29: Aandacht aan onderzoeksmethoden | G29: FALSE
A30: Keuzemenu | B30: Onderzoeksmethoden | G30: FALSE
A31: Keuzemenu | B31: Wekelijkse voortgangscontrole van eindproduct en portfolio | G31: FALSE
A32: Keuzemenu | G32: FALSE
A33: Keuzemenu | G33: FALSE
A34: WK39: 21 t/m 25 sep. | B34: TAKEN & OPDRACHTEN | H34: FALSE | I34: FALSE
A35: Keuzemenu | G35: FALSE
A36: Keuzemenu | B36: Mogeijkheid bezoek aan basisschool en/of middelbare school (mogelijkheid om tijdens het blokuur te gaan, wel in overleg) | G36: FALSE
A37: Keuzemenu | B37: Wekelijkse voortgangscontrole van eindproduct en portfolio | G37: FALSE
A38: Keuzemenu | G38: FALSE
A39: Keuzemenu | G39: FALSE
A40: WK40: 28 t/m 2 okt. | B40: TAKEN & OPDRACHTEN | H40: FALSE | I40: FALSE
A41: Keuzemenu | G41: FALSE
A42: Keuzemenu | B42: Mogeijkheid bezoek aan basisschool en/of middelbare school (mogelijkheid om tijdens het blokuur te gaan, wel in overleg) | G42: FALSE
A43: Keuzemenu | B43: Wekelijkse voortgangscontrole van eindproduct en portfolio | G43: FALSE
A44: Keuzemenu | G44: FALSE
A45: Keuzemenu | G45: FALSE
A46: WK41: 5 t/m 9 okt. Di. Brugklasdag | B46: TAKEN & OPDRACHTEN | H46: FALSE | I46: FALSE
A47: Keuzemenu | B47: Evaluatie eindproduct t.b.v. de presentatie op de HvA | G47: FALSE
A48: Keuzemenu | G48: FALSE
A49: Keuzemenu | B49: Wekelijkse voortgangscontrole van eindproduct en portfolio | G49: FALSE
A50: Keuzemenu | G50: FALSE
A51: Keuzemenu | G51: FALSE
A52: WEEK 42 HERFSTVAKANTIE
A53: WK43: 19 t/m 23 okt. Vr. Daltondag | B53: TAKEN & OPDRACHTEN | H53: FALSE | I53: FALSE
A54: Bezoek | B54: Presentatie op het Oscar Romero op 20 oktober | G54: FALSE
A55: Keuzemenu | G55: FALSE
A56: Keuzemenu | G56: FALSE
A57: Keuzemenu | G57: FALSE
A58: Keuzemenu | G58: FALSE
A59: WEEK 44 TOETSWEEK ONDERBOUW EN BOVENBOUW (MA. 26 OKT. T/M VR. 30 OKT.)
A61: UITDAGINGEN/EXTRA MOGELIJKHEDEN
A69: TOETS

Sheet HAPR (T)
B1: HAVO-Pro T (HAPR) | K1: PERIODE 1
A3: ALGEMENE INFORMATIE
A4: Welkomswoordje
A5: Wat gaan we deze periode doen? Wat is de Daltontaak? Wat houd de Daltontaak in?
A6: Welke boeken/spullen/materialen zijn er nodig?
A7: Wat moet je geleerd hebben na deze periode?
A9: VAKINHOUD | H9: IK HEB HET GEDAAN | I9: IK BEHEERS HET | J9: RUIMTE VOOR REFLECTIE
A10: WK35: 24 t/m 28 aug. | B10: TAKEN & OPDRACHTEN | H10: FALSE | I10: FALSE
A11: Keuzemenu | B11: Introductie PGP in havo 5 en de HvA opdracht | G11: FALSE
A12: Keuzemenu | B12: Competenties kiezen, drietallen maken, onderzoeksvraag kiezen en eindproduct bedenken | G12: FALSE
A13: Keuzemenu | G13: FALSE
A14: Keuzemenu | G14: FALSE
A15: Keuzemenu | G15: FALSE
A16: WK36: 31 t/m 4 sep. | B16: TAKEN & OPDRACHTEN | H16: FALSE | I16: FALSE
A17: Bezoek | B17: Bezoek aan de Hogeschool van Amsterdam op 1 september | G17: FALSE
A18: Keuzemenu | G18: FALSE
A19: Keuzemenu | B19: Wekelijkse voortgangscontrole van eindproduct en portfolio | G19: FALSE
A20: Keuzemenu | G20: FALSE
A21: Keuzemenu | G21: FALSE
A22: WK37: 7 t/m 11 sep. Examenreisweek | B22: TAKEN & OPDRACHTEN | H22: FALSE | I22: FALSE
A23: Keuzemenu | B23: Geen lessen | G23: FALSE
A24: Keuzemenu | G24: FALSE
A25: Keuzemenu | G25: FALSE
A26: Keuzemenu | G26: FALSE
A27: Keuzemenu | G27: FALSE
A28: WK38: 14 t/m 18 sep. | B28: TAKEN & OPDRACHTEN | H28: FALSE | I28: FALSE
A29: Keuzemenu | B29: Aandacht aan onderzoeksmethoden | G29: FALSE
A30: Keuzemenu | B30: Onderzoeksmethoden | G30: FALSE
A31: Keuzemenu | B31: Wekelijkse voortgangscontrole van eindproduct en portfolio | G31: FALSE
A32: Keuzemenu | G32: FALSE
A33: Keuzemenu | G33: FALSE
A34: WK39: 21 t/m 25 sep. | B34: TAKEN & OPDRACHTEN | H34: FALSE | I34: FALSE
A35: Keuzemenu | G35: FALSE
A36: Keuzemenu | B36: Mogeijkheid bezoek aan basisschool en/of middelbare school | G36: FALSE
A37: Keuzemenu | B37: Wekelijkse voortgangscontrole van eindproduct en portfolio | G37: FALSE
A38: Keuzemenu | G38: FALSE
A39: Keuzemenu | G39: FALSE
A40: WK40: 28 t/m 2 okt. | B40: TAKEN & OPDRACHTEN | H40: FALSE | I40: FALSE
A41: Keuzemenu | G41: FALSE
A42: Keuzemenu | B42: Mogeijkheid bezoek aan basisschool en/of middelbare school | G42: FALSE
A43: Keuzemenu | B43: Wekelijkse voortgangscontrole van eindproduct en portfolio | G43: FALSE
A44: Keuzemenu | G44: FALSE
A45: Keuzemenu | G45: FALSE
A46: WK41: 5 t/m 9 okt. Di. Brugklasdag | B46: TAKEN & OPDRACHTEN | H46: FALSE | I46: FALSE
A47: Keuzemenu | B47: Evaluatie eindproduct t.b.v. de presentatie op de HvA | G47: FALSE
A48: Keuzemenu | G48: FALSE
A49: Keuzemenu | B49: Wekelijkse voortgangscontrole van eindproduct en portfolio | G49: FALSE
A50: Keuzemenu | G50: FALSE
A51: Keuzemenu | G51: FALSE
A52: WEEK 42 HERFSTVAKANTIE
A53: WK43: 19 t/m 23 okt. Vr. Daltondag | B53: TAKEN & OPDRACHTEN | H53: FALSE | I53: FALSE
A54: Bezoek | B54: Presentatie op de Hogeschool van Amsterdam op 20 oktober | G54: FALSE
A55: Keuzemenu | G55: FALSE
A56: Keuzemenu | G56: FALSE
A57: Keuzemenu | G57: FALSE
A58: Keuzemenu | G58: FALSE
A59: WEEK 44 TOETSWEEK ONDERBOUW EN BOVENBOUW (MA. 26 OKT. T/M VR. 30 OKT.)
A61: UITDAGINGEN/EXTRA MOGELIJKHEDEN
A69: TOETS

Sheet IN
B1: NATUUR, LEVEN EN TECHNIEK (NLT) | K1: PERIODE 1
A3: ALGEMENE INFORMATIE
A4: Welkomswoordje
A5: Wat gaan we deze periode doen? Wat is de Daltontaak? Wat houd de Daltontaak in?
A6: Welke boeken/spullen/materialen zijn er nodig?
A7: Wat moet je geleerd hebben na deze periode?
A9: VAKINHOUD | H9: IK HEB HET GEDAAN | I9: IK BEHEERS HET | J9: RUIMTE VOOR REFLECTIE
A10: WK35: 24 t/m 28 aug. | B10: TAKEN & OPDRACHTEN | H10: FALSE | I10: FALSE
B11: geen les | G11: FALSE
G12: FALSE
G13: FALSE
G14: FALSE
G15: FALSE
A16: WK36: 31 t/m 4 sep. | B16: TAKEN & OPDRACHTEN | H16: FALSE | I16: FALSE
A17: Luisteren & Maken | B17: (1) Kennismaking + F1 () Opdracht | G17: FALSE
B18: (2) Heuristieken van Nielsen. Evalueer een website. | G18: FALSE
G19: FALSE
G20: FALSE
G21: FALSE
A22: WK37: 7 t/m 11 sep. Examenreisweek | B22: TAKEN & OPDRACHTEN | H22: FALSE | I22: FALSE
B23: examenreisweek? | G23: FALSE
G24: FALSE
G25: FALSE
G26: FALSE
A27: Maken | B27: Opdrachten uit de klas | G27: FALSE
A28: WK38: 14 t/m 18 sep. | B28: TAKEN & OPDRACHTEN | H28: FALSE | I28: FALSE
A29: Kijken & Luisteren | B29: (1) Nabespreken F1, theorie F2-3 (H1-H2) | G29: FALSE
A30: Maken | B30: Opdracht | G30: FALSE
A31: Kijken & Luisteren | B31: (2) theorie F2-3 (H3-H4) | G31: FALSE
G32: FALSE
A33: Maken | B33: Opdrachten uit de klas | G33: FALSE
A34: WK39: 21 t/m 25 sep. | B34: TAKEN & OPDRACHTEN | H34: FALSE | I34: FALSE
A35: Luisteren & Maken | B35: (1) Nabespreken F2-3, Introductie E2 Security H1 | G35: FALSE
G36: FALSE
G37: FALSE
G38: FALSE
A39: Maken | B39: Opdrachten uit de klas | G39: FALSE
A40: WK40: 28 t/m 2 okt. | B40: TAKEN & OPDRACHTEN | H40: FALSE | I40: FALSE
A41: Herhalen | B41: (1) Nabespreken F2-3, | G41: FALSE
A42: Kijken & Luisteren | B42: Introductie E2 Security H1 | G42: FALSE
G43: FALSE
G44: FALSE
A45: Maken | B45: Opdrachten uit de klas | G45: FALSE
A46: WK41: 5 t/m 9 okt. Di. Brugklasdag | B46: TAKEN & OPDRACHTEN | H46: FALSE | I46: FALSE
A47: Herhalen | B47: (1) Nabespreken E2: H1 | G47: FALSE
A48: Kijken & Luisteren | B48: Introductie E2: H2 - H4 | G48: FALSE
G49: FALSE
G50: FALSE
A51: Maken | B51: Opdrachten uit de klas | G51: FALSE
A52: WEEK 42 HERFSTVAKANTIE
A53: WK43: 19 t/m 23 okt. Vr. Daltondag | B53: TAKEN & OPDRACHTEN | H53: FALSE | I53: FALSE
B54: geen les deze week | G54: FALSE
G55: FALSE
G56: FALSE
G57: FALSE
G58: FALSE
A59: WEEK 44 TOETSWEEK ONDERBOUW EN BOVENBOUW (MA. 26 OKT. T/M VR. 30 OKT.)
A61: UITDAGINGEN/EXTRA MOGELIJKHEDEN
A69: TOETS
A70: tentamen module + po

Sheet KUA
B1: KUNST ALGEMEEN (KUA) | K1: PERIODE 1
A3: ALGEMENE INFORMATIE
A4: Bij het vak kunst algemeen werken wij met de methode Bespiegeling. Deze methode heeft een informatieboek en werkboek waar je tot en met het examen mee werkt.
A5: Om de stof in te oefenen maken wij gebruik van de online omgeving waarin je begrippen kan drillen, maar vooral filmpjes en geluidframenten kunt analyseren.
A6: Presentaties en extra materiaal deel ik via SOM studiewijzer Daarnaast krijg je een kunstwoordenboekje die je bij alle toetsen mag gebruiken.
A7: In periode 1 werken wij aan 'Modernisme muziek, dans en theater'
A9: VAKINHOUD | H9: IK HEB HET GEDAAN | I9: IK BEHEERS HET | J9: RUIMTE VOOR REFLECTIE
A10: WK35: 24 t/m 28 aug. | B10: TAKEN & OPDRACHTEN | H10: FALSE | I10: FALSE
A11: Kijken & Luisteren | B11: Herhaling Modernisme | G11: FALSE
A12: Kijken & Luisteren | B12: Uitleg examenjaar | G12: FALSE
A13: Nakijken | B13: Toets nakijken Modernisme deel 1 | G13: FALSE
A14: Keuzemenu | G14: FALSE
A15: Keuzemenu | G15: FALSE
A16: WK36: 31 t/m 4 sep. | B16: TAKEN & OPDRACHTEN | H16: FALSE | I16: FALSE
A17: Kijken & Luisteren | B17: Uitleg Muziek in het Modernisme | G17: FALSE
A18: Schrijven | B18: Mindmap aanvullen met notities | G18: FALSE
A19: Oefenen | B19: Klassikale examenoefening maken | G19: FALSE
A20: Daltontaak (verplicht) | B20: Oefentoets 1 muziek maken SOM studiewijzer | G20: FALSE
A21: Keuzemenu | G21: FALSE
A22: WK37: 7 t/m 11 sep. Examenreisweek | B22: TAKEN & OPDRACHTEN | H22: FALSE | I22: FALSE
A23: Keuzemenu | G23: FALSE
A24: Keuzemenu | G24: FALSE
A25: Keuzemenu | G25: FALSE
A26: Keuzemenu | G26: FALSE
A27: Keuzemenu | G27: FALSE
A28: WK38: 14 t/m 18 sep. | B28: TAKEN & OPDRACHTEN | H28: FALSE | I28: FALSE
A29: Kijken & Luisteren | B29: Uitleg Dans in het Modernisme | G29: FALSE
A30: Schrijven | B30: Mindmap aanvullen met notities | G30: FALSE
A31: Oefenen | B31: Klassikale examenoefening maken | G31: FALSE
A32: Daltontaak (verplicht) | B32: Oefentoets 1 dans maken SOM studiewijzer | G32: FALSE
A33: Keuzemenu | G33: FALSE
A34: WK39: 21 t/m 25 sep. | B34: TAKEN & OPDRACHTEN | H34: FALSE | I34: FALSE
A35: Kijken & Luisteren | B35: Uitleg Theater in het Modernisme | G35: FALSE
A36: Schrijven | B36: Mindmap aanvullen met notities | G36: FALSE
A37: Oefenen | B37: Klassikale examenoefening maken | G37: FALSE
A38: Daltontaak (verplicht) | B38: Oefentoets 1 theater maken SOM studiewijzer | G38: FALSE
A39: Keuzemenu | G39: FALSE
A40: WK40: 28 t/m 2 okt. | B40: TAKEN & OPDRACHTEN | H40: FALSE | I40: FALSE
A41: Oefenen | B41: klassikaal oefenen met oud examen Modernisme | G41: FALSE
A42: Maken & Nakijken | B42: Opdrachten maken H8 WB bespiegeling | G42: FALSE
A43: Daltontaak (optioneel) | B43: Alle drillsters H8 maken | G43: FALSE
A44: Keuzemenu | G44: FALSE
A45: Keuzemenu | G45: FALSE
A46: WK41: 5 t/m 9 okt. Di. Brugklasdag | B46: TAKEN & OPDRACHTEN | H46: FALSE | I46: FALSE
A47: Oefenen | B47: klassikaal oefenen met oud examen Modernisme | G47: FALSE
A48: Maken & Nakijken | B48: Opdrachten maken H8 WB bespiegeling | G48: FALSE
A49: Test jezelf | B49: Oefening WB bespiegeling H9 focusopdracht | G49: FALSE
A50: Keuzemenu | G50: FALSE
A51: Keuzemenu | G51: FALSE
A52: WEEK 42 HERFSTVAKANTIE
A53: WK43: 19 t/m 23 okt. Vr. Daltondag | B53: TAKEN & OPDRACHTEN | H53: FALSE | I53: FALSE
A54: Oefenen | B54: klassikaal oefenen met oud examen Modernisme | G54: FALSE
A55: Maken & Nakijken | B55: Opdrachten maken H8 WB bespiegeling | G55: FALSE
A56: Test jezelf | B56: Oefening WB bespiegeling H9 focusopdracht | G56: FALSE
A57: Keuzemenu | G57: FALSE
A58: Keuzemenu | G58: FALSE
A59: WEEK 44 TOETSWEEK ONDERBOUW EN BOVENBOUW (MA. 26 OKT. T/M VR. 30 OKT.)
A61: UITDAGINGEN/EXTRA MOGELIJKHEDEN
A62: Maak alle drillsters van H8 om je goed voor te bereiden op de toets.
A69: TOETS
A70: H8 Modernisme deel 2. Kunstgeschiedenis van dit tijdperk en de onderdelenTheater, Muziek en dans. Je krijgt op de toets afbeeldingen en geluidsfragmenten die je moet kunnen ontleden in wat het voorstelt en uit welke aspecten de kunstwerken bestaan. HOE LEREN? staat in de studiewijzer in SOM

Sheet KUBV
B1: KUNST BEELDENDE VORMING (KUBV) | K1: PERIODE 1
A3: ALGEMENE INFORMATIE
A4: Bij het vak KuBv doorlopen wij een creatief proces van vier stappen. Oriënteren, Onderzoeken, Uitvoeren, Evalueren
A5: Alle stappen zijn belangrijk en wegen mee in de beoordeling
A6: In periode 1 werken wij aan 'Een kunstenaar jat'
A9: VAKINHOUD | H9: IK HEB HET GEDAAN | I9: IK BEHEERS HET | J9: RUIMTE VOOR REFLECTIE
A10: WK35: 24 t/m 28 aug. | B10: TAKEN & OPDRACHTEN | H10: FALSE | I10: FALSE
A11: Kijken & Luisteren | B11: Introductie examen Kunst beeldend - Examenopdracht E = Een kunstenaar jat | G11: FALSE
A12: Maken | B12: Oriënteren Mindmap en moodboard | G12: FALSE
A13: Keuzemenu | G13: FALSE
A14: Keuzemenu | G14: FALSE
A15: Keuzemenu | G15: FALSE
A16: WK36: 31 t/m 4 sep. | B16: TAKEN & OPDRACHTEN | H16: FALSE | I16: FALSE
A17: Herhalen | B17: Examenopdracht E = Een kunstenaar jat | G17: FALSE
A18: Maken | B18: Oriënteren Mindmap en moodboard | G18: FALSE
A19: Maken | B19: Beeldend onderzoek = Schetsen en experimenteren | G19: FALSE
A20: Keuzemenu | G20: FALSE
A21: Keuzemenu | G21: FALSE
A22: WK37: 7 t/m 11 sep. Examenreisweek | B22: TAKEN & OPDRACHTEN | H22: FALSE | I22: FALSE
A23: Herhalen | B23: Examenopdracht E = Een kunstenaar jat | G23: FALSE
A24: Maken | B24: Beeldend onderzoek = Schetsen en experimenteren | G24: FALSE
A25: Keuzemenu | G25: FALSE
A26: Keuzemenu | G26: FALSE
A27: Keuzemenu | G27: FALSE
A28: WK38: 14 t/m 18 sep. | B28: TAKEN & OPDRACHTEN | H28: FALSE | I28: FALSE
A29: Herhalen | B29: Examenopdracht E = Een kunstenaar jat | G29: FALSE
A30: Maken | B30: Beeldend onderzoek = Schetsen en experimenteren | G30: FALSE
A31: Keuzemenu | G31: FALSE
A32: Keuzemenu | G32: FALSE
A33: Keuzemenu | G33: FALSE
A34: WK39: 21 t/m 25 sep. | B34: TAKEN & OPDRACHTEN | H34: FALSE | I34: FALSE
A35: Maken | B35: Werken aan eindwerkstuk | G35: FALSE
A36: Keuzemenu | G36: FALSE
A37: Keuzemenu | G37: FALSE
A38: Keuzemenu | G38: FALSE
A39: Keuzemenu | G39: FALSE
A40: WK40: 28 t/m 2 okt. | B40: TAKEN & OPDRACHTEN | H40: FALSE | I40: FALSE
A41: Maken | B41: Werken aan eindwerkstuk | G41: FALSE
A42: Keuzemenu | G42: FALSE
A43: Keuzemenu | G43: FALSE
A44: Keuzemenu | G44: FALSE
A45: Keuzemenu | G45: FALSE
A46: WK41: 5 t/m 9 okt. Di. Brugklasdag | B46: TAKEN & OPDRACHTEN | H46: FALSE | I46: FALSE
A47: Maken | B47: Werken aan eindwerkstuk | G47: FALSE
A48: Keuzemenu | G48: FALSE
A49: Keuzemenu | G49: FALSE
A50: Keuzemenu | G50: FALSE
A51: Keuzemenu | G51: FALSE
A52: WEEK 42 HERFSTVAKANTIE
A53: WK43: 19 t/m 23 okt. Vr. Daltondag | B53: TAKEN & OPDRACHTEN | H53: FALSE | I53: FALSE
A54: Schrijven | B54: Evaluatie en presentatie Werkstuk | G54: FALSE
A55: Inleveren | B55: Deadline inleveren Examenopdracht E | G55: FALSE
A56: Keuzemenu | G56: FALSE
A57: Keuzemenu | G57: FALSE
A58: Keuzemenu | G58: FALSE
A59: WEEK 44 TOETSWEEK ONDERBOUW EN BOVENBOUW (MA. 26 OKT. T/M VR. 30 OKT.)
A61: UITDAGINGEN/EXTRA MOGELIJKHEDEN
A62: Open atelier extra werktijd en werkplek
A69: TOETS
A70: praktijkopdracht E

Sheet MU
B1: MUZIEK (MU) | K1: PERIODE 1
A3: ALGEMENE INFORMATIE
A4: Log in bij muziekmethode Beats'n Bits
A5: Hoofdstuk 7 Jazz
A9: VAKINHOUD | H9: IK HEB HET GEDAAN | I9: IK BEHEERS HET | J9: RUIMTE VOOR REFLECTIE
A10: WK35: 24 t/m 28 aug. | B10: TAKEN & OPDRACHTEN | H10: FALSE | I10: FALSE
A11: Kijken & Luisteren | B11: Leren en ontdekken | G11: FALSE
A12: Maken | B12: Vroege jazz | G12: FALSE
A13: Keuzemenu | G13: FALSE
A14: Keuzemenu | G14: FALSE
A15: Keuzemenu | G15: FALSE
A16: WK36: 31 t/m 4 sep. | B16: TAKEN & OPDRACHTEN | H16: FALSE | I16: FALSE
A17: Oefenen | B17: Skillz | G17: FALSE
A18: Keuzemenu | G18: FALSE
A19: Keuzemenu | G19: FALSE
A20: Keuzemenu | G20: FALSE
A21: Keuzemenu | G21: FALSE
A22: WK37: 7 t/m 11 sep. Examenreisweek | B22: TAKEN & OPDRACHTEN | H22: FALSE | I22: FALSE
A23: Maken | B23: Analyseren en interpreteren | G23: FALSE
A24: Inleveren | B24: Blues | G24: FALSE
A25: Keuzemenu | G25: FALSE
A26: Keuzemenu | G26: FALSE
A27: Keuzemenu | G27: FALSE
A28: WK38: 14 t/m 18 sep. | B28: TAKEN & OPDRACHTEN | H28: FALSE | I28: FALSE
A29: Maken | B29: Analyseren en interpreteren | G29: FALSE
A30: Keuzemenu | G30: FALSE
A31: Keuzemenu | G31: FALSE
A32: Keuzemenu | G32: FALSE
A33: Keuzemenu | G33: FALSE
A34: WK39: 21 t/m 25 sep. | B34: TAKEN & OPDRACHTEN | H34: FALSE | I34: FALSE
A35: Oefenen | B35: Skillz | G35: FALSE
A36: Keuzemenu | G36: FALSE
A37: Keuzemenu | G37: FALSE
A38: Keuzemenu | G38: FALSE
A39: Keuzemenu | G39: FALSE
A40: WK40: 28 t/m 2 okt. | B40: TAKEN & OPDRACHTEN | H40: FALSE | I40: FALSE
A41: Maken | B41: Muziek en andere kunsten | G41: FALSE
A42: Inleveren | B42: Keuzestuk | G42: FALSE
A43: Keuzemenu | G43: FALSE
A44: Keuzemenu | G44: FALSE
A45: Keuzemenu | G45: FALSE
A46: WK41: 5 t/m 9 okt. Di. Brugklasdag | B46: TAKEN & OPDRACHTEN | H46: FALSE | I46: FALSE
A47: Kijken & Luisteren | B47: Interactieve video Vorm | G47: FALSE
A48: Keuzemenu | G48: FALSE
A49: Keuzemenu | G49: FALSE
A50: Keuzemenu | G50: FALSE
A51: Keuzemenu | G51: FALSE
A52: WEEK 42 HERFSTVAKANTIE
A53: WK43: 19 t/m 23 okt. Vr. Daltondag | B53: TAKEN & OPDRACHTEN | H53: FALSE | I53: FALSE
A54: Maken | B54: Test jezelf | G54: FALSE
A55: Inleveren | B55: Build | G55: FALSE
A56: Maken | B56: Opdrachten Singer-songwriting | G56: FALSE
A57: Keuzemenu | G57: FALSE
A58: Keuzemenu | G58: FALSE
A59: WEEK 44 TOETSWEEK ONDERBOUW EN BOVENBOUW (MA. 26 OKT. T/M VR. 30 OKT.)
A61: UITDAGINGEN/EXTRA MOGELIJKHEDEN
A62: Tijdens daltonuren muziek kan je inschrijven en oefenen in een studio
A69: TOETS

Sheet NAT
B1: NATUURKUNDE (NAT) | K1: PERIODE 1
A3: ALGEMENE INFORMATIE
A4: Welkom bij 5 havo natuurkunde. We beginnen deze periode met hst 5 uit je 4 havo boek (dus 4 havo boek meenemen!)
A5: In de studiewijzer kun je steeds klikken op links naar video's en opgaven, ook staan er per week de aanbevolen opgaven om te maken.
A6: Let ook op de leerdoelen per week en kijk of je die steeds gehaald hebt.
A7: Antwoorden hst 5, 7 en 10: overal_natuurkunde_4h_h05_uitwerkingen_flex.pdf Overal_Natuurkunde_5_1_5h_uitwerkingen_h07.pdf Overal_Natuurkunde_5_1_5h_uitwerkingen_h10.pdf
A9: VAKINHOUD | H9: IK HEB HET GEDAAN | I9: IK BEHEERS HET | J9: RUIMTE VOOR REFLECTIE
A10: WK35: 24 t/m 28 aug. | B10: TAKEN & OPDRACHTEN | H10: FALSE | I10: FALSE
A11: Herhalen | B11: Vervalvergelijkingen oefenopgaven straling.docx | G11: FALSE
A12: Lezen | B12: Paragraaf 5.3 Ioniserend en doordringend vermogen Leerdoel: Aangeven wat het doordringend vermogen is van elke stralingssoort | G12: FALSE
A13: Maken & Nakijken | B13: Opgaven 5.3: 25, 29, 31, 34, 35 en 36 blz 152 Leerdoel: rekenen met halveringsdikte | G13: FALSE
A14: Maken & Nakijken | B14: Werkblad halveringsdikte Werkblad halveringsdikte.docx | G14: FALSE
A15: Test jezelf | B15: Google formulier Kernverval, https://docs.google.com/forms/d/e/1FAIpQLSfvl9JfEUfaiDGCQIwUpciEn_KzzBuLDJ8Wvx_Y2hu5UwHqhQ/viewform?usp=sf_link | G15: FALSE
A16: WK36: 31 t/m 4 sep. | B16: TAKEN & OPDRACHTEN | H16: FALSE | I16: FALSE
A17: Lezen | B17: Paragraaf 5.4 Activiteit en halveringstijd Leerdoel: de begrippen activiteit en halveringstijd toepassen | G17: FALSE
A18: Kijken & Luisteren | B18: https://www.youtube.com/embed/Kxd9a8x_b-M | G18: FALSE
A19: Luisteren | B19: Presentatie Activiteit Straling en medische beeldvormingBRET.pptx | G19: FALSE
A20: Maken | B20: Werkblad Activiteit Leerdoel: Uit een vervalkromme de halveringstijd en activiteit bepalen Opgaven Radioactiviteit.docx | G20: FALSE
A21: Maken & Nakijken | B21: Opgaven 5.4: 38, 41 t/m 44 en 47, 48 Leerdoel: rekenen met formules voor aantal kernen en activiteit | G21: FALSE
A22: WK37: 7 t/m 11 sep. Examenreisweek | B22: TAKEN & OPDRACHTEN | H22: FALSE | I22: FALSE
A23: Keuzemenu | G23: FALSE
A24: Keuzemenu | G24: FALSE
A25: Keuzemenu | G25: FALSE
A26: Keuzemenu | G26: FALSE
A27: Keuzemenu | G27: FALSE
A28: WK38: 14 t/m 18 sep. | B28: TAKEN & OPDRACHTEN | H28: FALSE | I28: FALSE
A29: Lezen | B29: Paragraaf 10.1 Elektromagnetische straling | G29: FALSE
A30: Maken & Nakijken | B30: Opgaven 10.1: 1, 3, 5, 6 en 9 Leerdoel: rekenen met energie, de frequentie en de golflengte van elektromagnetische straling | G30: FALSE
A31: Lezen | B31: Paragraaf 10.3 Stralingsbelasting | G31: FALSE
A32: Kijken & Luisteren | B32: Presentatie Dosis: medische beeldvorming dosis.pptx | G32: FALSE
A33: Maken & Nakijken | B33: Werkblad Dosis Leerdoel: rekenen met de formule voor Dosis en Dosisequivalent Oefenopgave Dosis en Dosisequivalent.docx | G33: FALSE
A34: WK39: 21 t/m 25 sep. | B34: TAKEN & OPDRACHTEN | H34: FALSE | I34: FALSE
A35: Maken & Nakijken | B35: Opgaven 10.3: 25 t/m 33 | G35: FALSE
A36: Kijken & Luisteren | B36: Video Dosis: https://www.youtube.com/embed/ZV62E96CD6k | G36: FALSE
A37: Kijken & Luisteren | B37: presentatie Medische Beeldvorming Leerdoel: Uitleggen hoe een echo en een MRI-scan werkt | G37: FALSE
A38: Lezen | B38: Paragraaf 10.4 Overige medische beelden | G38: FALSE
A39: Maken & Nakijken | B39: Opgaven 10.4: 34, 35 en 38 | G39: FALSE
A40: WK40: 28 t/m 2 okt. | B40: TAKEN & OPDRACHTEN | H40: FALSE | I40: FALSE
A41: Lezen | B41: Paragraaf 7.1 Temperatuur, warmte en fase Leerdoel: rekenen met dichtheid en soortelijke warmte van stoffen | G41: FALSE
A42: Maken | B42: Werkblad soortelijke warmte Oefenopgaven warmte.docx soortelijke warmte.pptx | G42: FALSE
A43: Luisteren | B43: Uitwerken voorbeeld Qop = Qaf | G43: FALSE
A44: Maken & Nakijken | B44: Werkblad Qop = Qaf Qop is Qaf oefenopgave.docx | G44: FALSE
A45: Maken & Nakijken | B45: Opgaven 7.1: 5, 9, 10, 13, 14 en 16 | G45: FALSE
A46: WK41: 5 t/m 9 okt. Di. Brugklasdag | B46: TAKEN & OPDRACHTEN | H46: FALSE | I46: FALSE
A47: Lezen | B47: Paragraaf 7.2 en 7.3 Leerdoel: Toepassen van de verschillende vormen van warmtetransport en rekenen met de formule van warmtestroom | G47: FALSE
A48: Kijken & Luisteren | B48: Presentaties warmtetransport en warmtestroom warmtetransport.pptx warmtestroom.pptx | G48: FALSE
A49: Maken | B49: Werkblad warmtestroom Warmte oefenopgaven.docx | G49: FALSE
A50: Maken & Nakijken | B50: Opgaven 7.2: 19, 20 en 21 | G50: FALSE
A51: Maken & Nakijken | B51: Opgaven 7.3: 23, 24, 28, 29 en 30 | G51: FALSE
A52: WEEK 42 HERFSTVAKANTIE
A53: WK43: 19 t/m 23 okt. Vr. Daltondag | B53: TAKEN & OPDRACHTEN | H53: FALSE | I53: FALSE
A54: Luisteren & Maken | B54: Samenvatting Medische Beeldvorming | G54: FALSE
A55: Luisteren & Maken | B55: Samenvatting Stoffen en Materialen 7.1 t/m 7.3 | G55: FALSE
A56: Maken & Nakijken | B56: Proeftoets | G56: FALSE
A57: Keuzemenu | G57: FALSE
A58: Keuzemenu | G58: FALSE
A59: WEEK 44 TOETSWEEK ONDERBOUW EN BOVENBOUW (MA. 26 OKT. T/M VR. 30 OKT.)
A61: UITDAGINGEN/EXTRA MOGELIJKHEDEN
A62: Maak de gemengde opgaven in groepjes in Daltonuren van hst 5, 10 en 7
A64: Extra vervalvergelijkingen oefenen: Straling tijdens vliegen.pdf
A69: TOETS
A70: SE (25%): hst 5, hst 10 en hst 7: 7.1 t/m 7.3 en herhalen hst 1

Sheet NE
B1: NEDERLANDS (NE) | K1: PERIODE 1
A3: ALGEMENE INFORMATIE
A4: Welkom in havo 5!
A5: Deze periode starten we met leesvaardigheid. Je krijgt in de toetsweek een toets leesvaardigheid (PTA, 30%). Verder haal en lees je de eerste 2-punter.
A6: Neem het boekje OpNiveau (dit krijg je uitgedeeld) en je leesboek elke les mee.
A9: VAKINHOUD | H9: IK HEB HET GEDAAN | I9: IK BEHEERS HET | J9: RUIMTE VOOR REFLECTIE
A10: WK35: 24 t/m 28 aug. | B10: TAKEN & OPDRACHTEN | H10: FALSE | I10: FALSE
A11: Maken & Bespreken | B11: Boekje leesvaardigheid OpNiveau: module 4, opdr. 1 en 2 (Introductie) | G11: FALSE
A12: Maken & Bespreken | B12: Boekje leesvaardigheid OpNiveau: module 4, opdr. 5 (Woordenschat) en 6 (Taalverzorging) | G12: FALSE
A13: Keuzemenu | G13: FALSE
A14: Keuzemenu | G14: FALSE
A15: Keuzemenu | G15: FALSE
A16: WK36: 31 t/m 4 sep. | B16: TAKEN & OPDRACHTEN | H16: FALSE | I16: FALSE
A17: Maken & Nakijken | B17: Boekje leesvaardigheid OpNiveau: module 4, opdr. 7 (Vragen stellen en samenvatten) | G17: FALSE
A18: Maken & Nakijken | B18: Boekje leesvaardigheid OpNiveau: module 4, opdr. 8 (Teksten begrijpen en vergelijken) | G18: FALSE
A19: Doen | B19: We gaan naar de mediatheek om de eerste 2-punter te lenen. Start met lezen. | G19: FALSE
A20: Daltontaak (verplicht) | B20: Werk je opdrachten leesvaardigheid bij | G20: FALSE
A21: Daltontaak (verplicht) | B21: Lees 20 % pagina's in je leesboek | G21: FALSE
A22: WK37: 7 t/m 11 sep. Examenreisweek | B22: TAKEN & OPDRACHTEN | H22: FALSE | I22: FALSE
A23: Daltontaak (verplicht) | B23: Lees 20 % pagina's in je leesboek | G23: FALSE
A24: Keuzemenu | G24: FALSE
A25: Keuzemenu | G25: FALSE
A26: Keuzemenu | G26: FALSE
A27: Keuzemenu | G27: FALSE
A28: WK38: 14 t/m 18 sep. | B28: TAKEN & OPDRACHTEN | H28: FALSE | I28: FALSE
A29: Maken & Nakijken | B29: Boekje leesvaardigheid OpNiveau: module 4, opdr. 9 en 10 (Teksten begrijpen en vergelijken) | G29: FALSE
A30: Maken & Nakijken | B30: Boekje leesvaardigheid OpNiveau: module 4, opdr. 11 en 12 (Argumenteren en beoordelen) | G30: FALSE
A31: Luisteren & Maken | B31: Informatieve presentatie: invullen stencil beginnersgedrag en expertgedrag | G31: FALSE
A32: Daltontaak (verplicht) | B32: Werk je opdrachten leesvaardigheid bij | G32: FALSE
A33: Daltontaak (verplicht) | B33: Lees 20 %pagina's in je leesboek | G33: FALSE
A34: WK39: 21 t/m 25 sep. | B34: TAKEN & OPDRACHTEN | H34: FALSE | I34: FALSE
A35: Maken & Nakijken | B35: Boekje leesvaardigheid OpNiveau: module 4, opdr. 13 (Structuur en schrijfdoel herkennen) | G35: FALSE
A36: Nakijken | B36: Informatieve presentatie: stencil beginnersgedrag en expertgedrag | G36: FALSE
A37: Uitleg | B37: Deze les krijg je uitleg over de informatieve presentatie - we nemen de opdracht die in de studiewijzer staat door | G37: FALSE
A38: Lezen | B38: Het laatste uur van de week is een lees-/literatuuruur | G38: FALSE
A39: Daltontaak (verplicht) | B39: Lees 20 % pagina's in je leesboek | G39: FALSE
A40: WK40: 28 t/m 2 okt. | B40: TAKEN & OPDRACHTEN | H40: FALSE | I40: FALSE
A41: Maken & Nakijken | B41: Boekje leesvaardigheid OpNiveau: module 4, opdr. 14 en 15 (Structuur en schrijfdoel herkennen) | G41: FALSE
A42: Maken | B42: Informatieve presentatie: opdracht structuurschema's | G42: FALSE
A43: Lezen | B43: Het laatste uur van de week is een lees-/literatuuruur | G43: FALSE
A44: Daltontaak (verplicht) | B44: Werk je opdrachten leesvaardigheid bij | G44: FALSE
A45: Keuzemenu | G45: FALSE
A46: WK41: 5 t/m 9 okt. Di. Brugklasdag | B46: TAKEN & OPDRACHTEN | H46: FALSE | I46: FALSE
A47: Maken & Nakijken | B47: Boekje leesvaardigheid OpNiveau: module 4, opdr. 16 en 18 (Oefenen met alle leerdoelen) | G47: FALSE
A48: Uitleg | B48: Informatieve presentatie: houding en stemgebruik | G48: FALSE
A49: Toets | B49: Boekopdracht 1 | G49: FALSE
A50: Daltontaak (verplicht) | B50: Zoek een actueel onderwerp voor je informatieve presentatie + kies 2 geschikte bronnen | G50: FALSE
A51: Daltontaak (verplicht) | B51: Werk je opdrachten leesvaardigheid bij | G51: FALSE
A52: WEEK 42 HERFSTVAKANTIE
A53: WK43: 19 t/m 23 okt. Vr. Daltondag | B53: TAKEN & OPDRACHTEN | H53: FALSE | I53: FALSE
A54: Maken & Nakijken | B54: Boekje leesvaardigheid OpNiveau: module 4, opdr. 20 (Eindopdracht) | G54: FALSE
A55: Maken & Nakijken | B55: Uitloop leesvaardigheid | G55: FALSE
A56: Maken | B56: Stencil informatieve presentatie (deze week wordt het rooster gepubliceerd) | G56: FALSE
A57: Daltontaak (verplicht) | B57: Werk je opdrachten leesvaardigheid bij | G57: FALSE
A58: Keuzemenu | G58: FALSE
A59: WEEK 44 TOETSWEEK ONDERBOUW EN BOVENBOUW (MA. 26 OKT. T/M VR. 30 OKT.)
A61: UITDAGINGEN/EXTRA MOGELIJKHEDEN
A69: TOETS
A70: Je krijgt in de toetsweek een toets leesvaardigheid (PTA, 30%). Je krijgt daarbij een of meerdere teksten met daarbij vragen. Leesvaardigheidstheorie wordt niet apart getoets, maar je moet de theorie wel beheersen om de vragen goed te kunnen beantwoorden. Bestudeer hiervoor de theoriehoofdstukken in de jaarbijlage. Je kunt het vakwerkboekje van vorig jaar gebruiken als je nog meer uitleg wilt.

Sheet NLT
B1: NATUUR, LEVEN EN TECHNIEK (NLT) | K1: PERIODE 1
A3: ALGEMENE INFORMATIE
A4: Welkomswoordje
A5: Wat gaan we deze periode doen? Wat is de Daltontaak? Wat houd de Daltontaak in?
A6: Welke boeken/spullen/materialen zijn er nodig?
A7: Wat moet je geleerd hebben na deze periode?
A9: VAKINHOUD | H9: IK HEB HET GEDAAN | I9: IK BEHEERS HET | J9: RUIMTE VOOR REFLECTIE
A10: WK35: 24 t/m 28 aug. | B10: TAKEN & OPDRACHTEN | H10: FALSE | I10: FALSE
A11: Maken | B11: opdrachten 1 t/m 5 + 6b+7 | G11: FALSE
A12: Doen | B12: onderzoek eigen waterverbruik opdracht 4 | G12: FALSE
A13: Keuzemenu | G13: FALSE
A14: Keuzemenu | G14: FALSE
A15: Daltontaak (verplicht) | B15: opstellen boodschappenlijst eigen onderzoek waterzuivering (PO) | G15: FALSE
A16: WK36: 31 t/m 4 sep. | B16: TAKEN & OPDRACHTEN | H16: FALSE | I16: FALSE
A17: Maken | B17: opdracht 11 | G17: FALSE
A18: Maken | B18: schrijven methode eigen onderzoek (PO) | G18: FALSE
A19: Practicum | B19: uitvoeren gidsexperimenten | G19: FALSE
A20: Keuzemenu | G20: FALSE
A21: Daltontaak (verplicht) | B21: aanpassen methode eigen onderzoek adhv gidsexperimenten | G21: FALSE
A22: WK37: 7 t/m 11 sep. Examenreisweek | B22: TAKEN & OPDRACHTEN | H22: FALSE | I22: FALSE
A23: Doen | B23: uitvoeren eigen onderzoek | G23: FALSE
A24: Inleveren | B24: eerste versie methode (15% eindcijfer) | G24: FALSE
A25: Keuzemenu | G25: FALSE
A26: Keuzemenu | G26: FALSE
A27: Daltontaak (verplicht) | B27: verwerken van de gegevens in excel met de standaarddeviatie | G27: FALSE
A28: WK38: 14 t/m 18 sep. | B28: TAKEN & OPDRACHTEN | H28: FALSE | I28: FALSE
A29: Doen | B29: uitvoeren eigen onderzoek en gegevens verwerken | G29: FALSE
A30: Maken | B30: opdracht 13 t/m 18 | G30: FALSE
A31: Keuzemenu | G31: FALSE
A32: Keuzemenu | G32: FALSE
A33: Daltontaak (verplicht) | B33: verwerken van gegevens PO en de andere PO onderdelen. | G33: FALSE
A34: WK39: 21 t/m 25 sep. | B34: TAKEN & OPDRACHTEN | H34: FALSE | I34: FALSE
A35: Practicum | B35: opdracht 19 deel 1 bezinken | G35: FALSE
A36: Practicum | B36: opdracht 20 deel 2 bezinken | G36: FALSE
A37: Keuzemenu | G37: FALSE
A38: Keuzemenu | G38: FALSE
A39: Daltontaak (verplicht) | B39: verwerken opdracht 19 en 20 | G39: FALSE
A40: WK40: 28 t/m 2 okt. | B40: TAKEN & OPDRACHTEN | H40: FALSE | I40: FALSE
A41: Maken | B41: opdracht 21 t/m 24 | G41: FALSE
A42: Practicum | B42: uitvoeren onderzoek opromen | G42: FALSE
A43: Practicum | B43: uitvoeren onderzoek flotteren | G43: FALSE
A44: Keuzemenu | G44: FALSE
A45: Daltontaak (verplicht) | B45: verwerken opdrachten bij practica | G45: FALSE
A46: WK41: 5 t/m 9 okt. Di. Brugklasdag | B46: TAKEN & OPDRACHTEN | H46: FALSE | I46: FALSE
A47: Maken | B47: opdrachten 25 t/m 32 | G47: FALSE
A48: Practicum | B48: onderzoek 30+ 33 uitvoeren | G48: FALSE
A49: Keuzemenu | G49: FALSE
A50: Inleveren | B50: PO | G50: FALSE
A51: Daltontaak (verplicht) | B51: inhalen practica verwerken opdrachten bij de practica | G51: FALSE
A52: WEEK 42 HERFSTVAKANTIE
A53: WK43: 19 t/m 23 okt. Vr. Daltondag | B53: TAKEN & OPDRACHTEN | H53: FALSE | I53: FALSE
A54: Maken | B54: uitslag onderzoek 30 +33 | G54: FALSE
A55: Inleveren | B55: opdrachten via SOM inleverodprachten voor de startpunten | G55: FALSE
A56: Keuzemenu | G56: FALSE
A57: Keuzemenu | G57: FALSE
A58: Keuzemenu | G58: FALSE
A59: WEEK 44 TOETSWEEK ONDERBOUW EN BOVENBOUW (MA. 26 OKT. T/M VR. 30 OKT.)
A61: UITDAGINGEN/EXTRA MOGELIJKHEDEN
A69: TOETS
A70: tentamen module + po

Sheet SK
B1: SCHEIKUNDE (SK) | K1: PERIODE 1
A3: ALGEMENE INFORMATIE
A4: ALGEMENE INFORMATIE Voor het vak scheikunde in 5-HAVO maken we gebruik van de scheikunde methode "Chemie Overal", boek en on-line. Hoe is de les(week)opbouw? - jullie bereiden je iedere les voor door de paragraaf door te nemen en de "blauwe woorden" te noteren in je schift met de bijbehorende omschrijving! In de les behandel ik jullie vragen die er zijn over de door jullie doorgenomen paragraaf. Het kan zijn dat dit ook getoetst wordt. Praktica/experimenten: in de les. Heb je deze niet gemaakt, door ziekte of andere reden, dan maak je met de TOA een afspraak om deze in te halen. Daar mag je ook een DALTON-uur voor gebruiken
A7: Wat moet je geleerd hebben na deze periode?
A9: VAKINHOUD | H9: IK HEB HET GEDAAN | I9: IK BEHEERS HET | J9: RUIMTE VOOR REFLECTIE
A10: WK35: 24 t/m 28 aug. | B10: TAKEN & OPDRACHTEN | H10: FALSE | I10: FALSE
A11: Lezen | B11: Boek_online 4-Havo: H1 t/m H3 | G11: FALSE
A12: Schrijven | B12: noteer alle blauwe begrippen en beschrijf deze. | G12: FALSE
A13: Maken | B13: C-opdrachten H 1 t/m 3 | G13: FALSE
A14: Kijken & Luisteren | B14: filmpjes herhaling jaar 3 en 4 | G14: FALSE
A15: Daltontaak (optioneel) | B15: afsluiting H 1 t/m 3 | G15: FALSE
A16: WK36: 31 t/m 4 sep. | B16: TAKEN & OPDRACHTEN | H16: FALSE | I16: FALSE
A17: Lezen | B17: Boek_online 4-Havo: H4 t/m H6 | G17: FALSE
A18: Schrijven | B18: noteer alle blauwe begrippen en beschrijf deze. | G18: FALSE
A19: Maken | B19: C-opdrachtenvan H4 t/m H6 | G19: FALSE
A20: Kijken & Luisteren | B20: filmpjes herhaling jaar 3 en 4 | G20: FALSE
A21: Daltontaak (optioneel) | B21: afsluiting H4 t/m H6 | G21: FALSE
A22: WK37: 7 t/m 11 sep. Examenreisweek | B22: TAKEN & OPDRACHTEN | H22: FALSE | I22: FALSE
A23: Keuzemenu | G23: FALSE
A24: Keuzemenu | G24: FALSE
A25: Keuzemenu | G25: FALSE
A26: Keuzemenu | G26: FALSE
A27: Keuzemenu | G27: FALSE
A28: WK38: 14 t/m 18 sep. | B28: TAKEN & OPDRACHTEN | H28: FALSE | I28: FALSE
A29: Lezen | B29: Boek_online 4-HAVO: H7.1 en 7.2 | G29: FALSE
A30: Schrijven | B30: noteer alle blauwe begrippen en beschrijf deze. | G30: FALSE
A31: Maken | B31: alle opdrachten en PRAK. 7.2(blz. 176) en 7.3(blz. 179) | G31: FALSE
A32: Keuzemenu | G32: FALSE
A33: Daltontaak (verplicht) | B33: alle opdrachten en PRAK. 7.2 en 7.3 | G33: FALSE
A34: WK39: 21 t/m 25 sep. | B34: TAKEN & OPDRACHTEN | H34: FALSE | I34: FALSE
A35: Keuzemenu | B35: Boek_online 4-HAVO: H7.3 en 7.4 | G35: FALSE
A36: Keuzemenu | B36: noteer alle blauwe begrippen en beschrijf deze. | G36: FALSE
A37: Keuzemenu | B37: alle opdrachten en PRAK. 7.4(blz. 182) 7.5 (blz. 186) | G37: FALSE
A38: Keuzemenu | B38: filmpjes in Classroom | G38: FALSE
A39: Keuzemenu | B39: alle opdrachten en PRAK. 7.4 en 7.5, oefenblad molariteit en pH-berekenen | G39: FALSE
A40: WK40: 28 t/m 2 okt. | B40: TAKEN & OPDRACHTEN | H40: FALSE | I40: FALSE
A41: Keuzemenu | B41: Boek H8.1 en 8.2 | G41: FALSE
A42: Keuzemenu | B42: noteer alle blauwe begrippen en beschrijf deze. | G42: FALSE
A43: Keuzemenu | B43: alle opdrachten, PRAK. 8.2(blz. 17) | G43: FALSE
A44: Keuzemenu | B44: filmpjes in Classroom | G44: FALSE
A45: Keuzemenu | B45: alle opdrachten en PRAK. 8.2, oefenblad pH-berekenen | G45: FALSE
A46: WK41: 5 t/m 9 okt. Di. Brugklasdag | B46: TAKEN & OPDRACHTEN | H46: FALSE | I46: FALSE
A47: Keuzemenu | B47: Boek H8.4 | G47: FALSE
A48: Keuzemenu | B48: noteer alle blauwe begrippen en beschrijf deze. | G48: FALSE
A49: Keuzemenu | B49: alle opdrachten, PRAK. 8.3(blz. 27) en 8.4(blz. 27) | G49: FALSE
A50: Keuzemenu | B50: filmpjes in Classroom | G50: FALSE
A51: Keuzemenu | B51: alle opdrachten en PRAK. 8.3 en 8.4, oefenblad titratieberekeningen | G51: FALSE
A52: WEEK 42 HERFSTVAKANTIE
A53: WK43: 19 t/m 23 okt. Vr. Daltondag | B53: TAKEN & OPDRACHTEN | H53: FALSE | I53: FALSE
A54: Keuzemenu | B54: alle stof van 4-HAVO en H7, 5-HAVO: H8 | G54: FALSE
A55: Keuzemenu | B55: opdrachten: rekenen: molariteit, pH-berekeningen, titratieberekeningen en gehalte(titratie) | G55: FALSE
A56: Keuzemenu | B56: afsluiting H7 en H8 | G56: FALSE
A57: Keuzemenu | B57: alle filmpjes in Classroom | G57: FALSE
A58: Keuzemenu | B58: oefentoets H7 en H8 in de online methode | G58: FALSE
A59: WEEK 44 TOETSWEEK ONDERBOUW EN BOVENBOUW (MA. 26 OKT. T/M VR. 30 OKT.)
A61: UITDAGINGEN/EXTRA MOGELIJKHEDEN
A62: 4-HAVO: De volgende onderdelen moet je kennen en beheersen: 1) RV kloppend maken en RV opstellen en kloppend maken uit een verhaaltje. daarnaast moet je kunnen rekenen met dichtheid. Dat betekend dat je ook SI-eenheden moet omzetten. Oefenbladen zijn beschikbaar, als je meer wilt oefenen vraag je docent voor extra oefenbladen. 5-HAVO: De volgende onderdelen moet je beheersen: 1) rekenen met MOLARITEIT, 2) alle mogelijke pH-berekeningen (zuren en base), 3) titratie-berekeningen van verschillende soorten titraties, 4) gehalte-bepalingen met behulp van titraties
A69: TOETS
A70: Toets in P1: alle stof van 4-HAVO, inclusief H7 en 5-HAVO, H8 (NIET H8.3), alle practica en oefenbladen

Sheet SP
B1: SPAANS (SP) | K1: PERIODE 1
A3: ALGEMENE INFORMATIE
A4: Hola chicos, bienvenidos al examen final de Spaans Elementair. Dit jaar doe je examen in de vaardigheden lezen (leer), schrijven (escribir), escuchar (kijken-luisteren) en spreken (hablar).
A5: In periode 1 focussen we nog vooral op het leggen van de basis qua grammatica en woordenschat voor deze vaardigheden. In P2 krijg je daarnaast een kijk-luistertoets (in Woots), en in P3 volgen het mondeling en het SE Lees- en schrijfvaardigheid.
A6: We werken in het boek Segunda Etapa en aanvullend zijn er IBookopdrachten. Je werkt deze uit in je schrift of map. Neem dit, met je pen en tablet (en oplader!) altijd mee! Woordenlijsten vind je in Quizlet.
A7: In de toetsweek krijg je een SE over Segunda Etapa unidad 1+2 (10%). Je leert hoe je vertelt wat je aan het doen bent, en wat je deze zomer hebt gedaan. Je kunt schrijven over toeristische plekken, en hoe je in het Spaans moet communiceren via sociale media, e-mail, telefoon of kattebel.
A9: VAKINHOUD | H9: IK HEB HET GEDAAN | I9: IK BEHEERS HET | J9: RUIMTE VOOR REFLECTIE
A10: WK35: 24 t/m 28 aug. | B10: TAKEN & OPDRACHTEN | H10: FALSE | I10: FALSE
A11: Onderzoeken | B11: Start unidad 1. ¿Adónde has ido de vacaciones? Hoe kun je vertellen waar je naartoe bent geweest op vakantie? Noteer 10 woorden (palabras) en 3 werkwoorden (verbos) op die je nodig hebt om hierover te vertellen. Deze gaan we volgende week in de les gebruiken. | G11: FALSE
A12: Maken | B12: Les 1: Introductie op het examenjaar. Wat wordt er van je verwacht, en hoe pak je dit aan? | G12: FALSE
A13: Maken | B13: Les 2: Maak oef. 2 op TB p.17, beschrijf je antwoord zoals in de voorbeelden. Leren VOCABULARIO Tramo 1 & 2 p. 181, de Pretérito Perfecto van IR | G13: FALSE
A14: Luisteren & Maken | B14: Bekijk les 2 op het Ibook (uitlegvideo's). Noteer je vragen om deze in de les te kunnen stellen. | G14: FALSE
A15: Luisteren & Maken | B15: ¿Dónde has ido de vacaciones? Luister naar de antwoorden. Benoem in een paar woorden waar de geïnterviewden zijn geweest. | G15: FALSE
A16: WK36: 31 t/m 4 sep. | B16: TAKEN & OPDRACHTEN | H16: FALSE | I16: FALSE
A17: Onderzoeken | B17: Wat is de pretérito perfecto voor werkwoordstijd? Wanneer kun je die gebruiken? Welke tijdsaanduidingen horen erbij? Zoek dit uit. Noteer drie voorbeelden bij de drie werkwoordsgroepen, en noteer 5 tijdsaanduidingen die je tegenkomt bij de pretérito perfecto incl. vertaling. | G17: FALSE
A18: Maken | B18: Les 1: afmaken TB pag. 18 & leer PERFECTO (TB p. 167-168) + TB pag. 19 en vragen beantwoorden. Maken OEFENING IBOOK LES 2 (moet af voor de tweede les van de week) | G18: FALSE
A19: Maken | B19: Les 2: afmaken TB pag. 20 + 21. Me voy de vacaciones y me llevo.... | G19: FALSE
A20: Leren | B20: Leren VOCABULARIO Tramo 1 & 2 p. 181/ Leren Pretérito Perfecto / IBOOK les 2 | G20: FALSE
A21: Luisteren | B21: 3 Audio 5A p20 | G21: FALSE
A22: WK37: 7 t/m 11 sep. Examenreisweek | B22: TAKEN & OPDRACHTEN | H22: FALSE | I22: FALSE
A23: Onderzoeken | B23: Wat moet er in een vakantieverslag staan? Denk aan werkwoorden, vocabulario, verbindingswoorden, de werkwoordstijd... Verzamel input. | G23: FALSE
A24: Maken | B24: Les 1: TB p.24-25. Hoe doe je verslag van je vakantie? We bespreken de onregelmatige perfecto's. p. 25. | G24: FALSE
A25: Inleveren | B25: Les 2: neem TB pag. 22 door. In de les ga je in duo's een korte tekst (min. 250 palabras) schrijven over je vakantie of een pasatiempo (vrijetijdsbesteding), iets dat je onlangs hebt ondernomen. Welke vocabulario, frases y gramática heb je nodig om dit te kunnen doen? Zorg dat je dit alvast paraat hebt voorafgaand aan de tweede les. De tekst lever je aan het eind van deze week in (uiterlijk vrijdag) per mail. | G25: FALSE
A26: Kijken & Luisteren | B26: Video ¿Qué meto en la maleta? | G26: FALSE
A27: Leren | B27: Leren VOCABULARIO Tramo 3+4, p. 181 & Pretérito Perfecto (TB p. 167-168) | G27: FALSE
A28: WK38: 14 t/m 18 sep. | B28: TAKEN & OPDRACHTEN | H28: FALSE | I28: FALSE
A29: Leren | B29: Leren VOCABULARIO Tramo 1 t/m 5, p. 181 | G29: FALSE
A30: Reflectie | B30: Les 1: Verbeter je vakantieverslag samen met je compañero en laat eind van de les je verbeterde versie zien. | G30: FALSE
A31: Reflectie | B31: Les 2: afmaken oef. IBook les 9+10, extra oefenen met de perfecto als je tijdens de les gemerkt hebt dat de Kahoot! je lastig afging. | G31: FALSE
A32: Kijken & Luisteren | B32: Video ¿Qué has hecho este verano? | G32: FALSE
A33: Kijken & Luisteren | B33: Video ¿Alguna vez...? | G33: FALSE
A34: WK39: 21 t/m 25 sep. | B34: TAKEN & OPDRACHTEN | H34: FALSE | I34: FALSE
A35: Onderzoeken | B35: Start unidad 2. Wat is de GERUNDIO voor werkwoordsvorm? Wanneer gebruik je 'm? Hoe wordt deze gevormd? Hoe vertaal je hem? Zoek drie voorbeelden en neem ze mee naar de les. | G35: FALSE
A36: Maken | B36: Les 1: Uitleg vorm en gebruik Gerundio. Start les 15-16 IBook. | G36: FALSE
A37: Maken | B37: Les 2: unidad 2 pag. 30-31. We gaan het hebben over kansen en risico's van media. Vergelijk de pretérito perfecto met de gerundio. Welke verschillen en overeenkomsten zijn er tussen deze twee werkwoordstijden? | G37: FALSE
A38: Kijken & Luisteren | B38: Video: los peligros del internet | G38: FALSE
A39: Kijken & Luisteren | B39: Video: los jóvenes y las redes sociales | G39: FALSE
A40: WK40: 28 t/m 2 okt. | B40: TAKEN & OPDRACHTEN | H40: FALSE | I40: FALSE
A41: Onderzoeken | B41: Kun je voor alle pronombres de gerundio juist toepassen? Schrijf 7 korte zinnen waarin alle pronombres in combinatie met een gerundio terugkomen. Lastig? Check les 17 op het IBook. | G41: FALSE
A42: Maken | B42: Les 1+2: TB p. 34-35 en Oef IBOOK LES 18 / TB pag. 36-37. | G42: FALSE
A43: Leren | B43: Leren VOCABULARIO Tramo 2-3, p. 182 & Gerundio, (na de les) leer ook de pronombres p.34. | G43: FALSE
A44: Luisteren | B44: 12 Audio 2.9A p36 | G44: FALSE
A45: Luisteren | B45: 13 Audio 2.10 p37 | G45: FALSE
A46: WK41: 5 t/m 9 okt. Di. Brugklasdag | B46: TAKEN & OPDRACHTEN | H46: FALSE | I46: FALSE
A47: Onderzoeken | B47: Les 1: Neem heel unidad 1+2 door. Onderzoek welke onderdelen je nog lastig vindt. Hoe zou deze stof teruggevraagd kunnen worden op het SE? Noteer wat je nog nodig hebt om dit SE voldoende te kunnen maken, en neem je vragen mee naar de les. We bespreken dit samen. | G47: FALSE
A48: Oefenen | B48: Les 1: Extra uitleg over pronombres, voornaamwoorden. Welke zijn er, wat is er anders dan in het Nederlands? Zie pag. 23 en 34. | G48: FALSE
A49: Lezen | B49: Les 2: Maken Teksten EXTRA LEESVAARDIGHEID IBOOK, p. 10-11 (met uitleg waar je het antwoord gevonden hebt) | G49: FALSE
A50: Leren | B50: Leren VOCABULARIO Tramo 3-4 / Leren Pronombres p. 23 + 34 | G50: FALSE
A51: Keuzemenu | G51: FALSE
A52: WEEK 42 HERFSTVAKANTIE
A53: WK43: 19 t/m 23 okt. Vr. Daltondag | B53: TAKEN & OPDRACHTEN | H53: FALSE | I53: FALSE
A54: Herhalen | B54: Alle vocabulario en gramática van unidad 1 en 2 (Segunda Etapa), plus de geoefende opdrachten, je aantekeningen en de andere materialen die in de les behandeld zijn. | G54: FALSE
A55: Test jezelf | B55: Les 1: We maken een oefentoets en bespreken deze. Wat ken en kun je nog niet goed genoeg? Pas je persoonlijke leer- en oefenplan aan voor komende week. | G55: FALSE
A56: Onderzoeken | B56: Les 2: Neem heel unidad 1+2 door. Onderzoek welke onderdelen je nog lastig vindt. Hoe zou deze stof teruggevraagd kunnen worden op het SE? Noteer wat je nog nodig hebt om dit SE voldoende te kunnen maken, en neem je vragen mee naar de les. We bespreken dit samen. We oefenen extra met die lastige onderdelen. | G56: FALSE
A57: Keuzemenu | G57: FALSE
A58: Keuzemenu | G58: FALSE
A59: WEEK 44 TOETSWEEK ONDERBOUW EN BOVENBOUW (MA. 26 OKT. T/M VR. 30 OKT.)
A61: UITDAGINGEN/EXTRA MOGELIJKHEDEN
A69: TOETS
A70: SE Segunda Etapa (10%) over alle woorden, grammatica en opdrachten van unidades 1+2 EXCL. Kijk-luistervaardigheid. Je moet wel een klein tekstje kunnen lezen en er vragen bij beantwoorden, en een korte tekst kunnen schrijven.

Sheet WISA
B1: WISKUNDE A (WISA) | K1: PERIODE 1
A3: ALGEMENE INFORMATIE
A4: Wat neem je mee: - 1 leerboek Deel 2 - Ruitjesschrift (A4, 1 cm ruit) - iPad (opgeladen) - Grafische Rekenmachine - Etui met daarin: Blauwe of zwarte pennen, potlood (HB) of vulpotlood, gum, geodriehoek, kleurpotloden en puntenslijper.
A9: VAKINHOUD | H9: IK HEB HET GEDAAN | I9: IK BEHEERS HET | J9: RUIMTE VOOR REFLECTIE
A10: WK35: 24 t/m 28 aug. | B10: TAKEN & OPDRACHTEN | H10: FALSE | I10: FALSE | J10: Geef aan in hoeverre je het leerdoel van deze week bereikt hebt.
A11: Maken & Nakijken | B11: Voorkennis H9 (blz. 126) | G11: FALSE | J11: - ik kan een nieuwe hoeveelheid krijgen door een oude hoeveelheid met een factor te vermenigvuldigen
A12: Maken & Nakijken | B12: Maken §9.1 | G12: FALSE | J12: - ik weet wanneer een groeiproces exponentieel is: als de factor per tijdseenheid steeds hetzelfde is: de factor noemen we dan de groeifactor
A13: Maken & Nakijken | B13: Maken §9.2 | G13: FALSE | J13: - ik weet dat ook bij een afname er sprake is van exponentiele groei, waarbij de groeifactor in dit geval kleiner is dan 1
A14: Keuzemenu | G14: FALSE | J14: - ik weet hoe ik bij een exponentieel groeiproces het groeipercentage voor een andere tijdseenheid bereken
A15: Keuzemenu | G15: FALSE | J15: - Ik weet hoe je met een lineair verband rekent en gebieden in een assenstelsel tekent
A16: WK36: 31 t/m 4 sep. | B16: TAKEN & OPDRACHTEN | H16: FALSE | I16: FALSE | J16: Geef aan in hoeverre je het leerdoel van deze week bereikt hebt. - Ik weet hoe je met een exponentieel verband rekent 0 - Ik weet hoe je verdubbelingstijd en halveringstijd berekent 0 - Ik weet wat een logaritmische schaalverdeling is 0 - Ik weet hoe je een logaritmische schaalverdeling afleest 0
A17: Maken & Nakijken | B17: Maken §9.3 | G17: FALSE
A18: Maken & Nakijken | B18: Maken §9.4 | G18: FALSE
A19: Maken & Nakijken | B19: Maken §9.5: 30 t/m 33 | G19: FALSE
A20: Keuzemenu | G20: FALSE
A21: Keuzemenu | G21: FALSE
A22: WK37: 7 t/m 11 sep. Examenreisweek | B22: TAKEN & OPDRACHTEN | H22: FALSE | I22: FALSE
A23: Maken & Nakijken | B23: Voorkennis H10 (Let op! Maak H10 'zonder ict'. Dit begint op blz. 204) | G23: FALSE
A24: Keuzemenu | G24: FALSE
A25: Keuzemenu | G25: FALSE
A26: Keuzemenu | G26: FALSE
A27: Keuzemenu | G27: FALSE
A28: WK38: 14 t/m 18 sep. | B28: TAKEN & OPDRACHTEN | H28: FALSE | I28: FALSE | J28: Geef aan in hoeverre je het leerdoel van deze week bereikt hebt. - Ik weet wat een normale verdeling is - Ik weet hoe je met de vuistregels van een normale verdeling rekent - Ik weet wat een steekproef is - Ik weet wat een populatieproportie en een steekproefproportie is - Ik weet wat een steekproevenverdeling is
A29: Maken & Nakijken | B29: Maken §10.1: opdr. 4 + 5 en §10.2: opdr. 7 + 8 | G29: FALSE
A30: Maken & Nakijken | B30: Maken §10.2 opdr. 9 t/m 11 + §10.1 werkblad opdr. 2 + 3 | G30: FALSE
A31: Maken & Nakijken | B31: Maken §10.3 | G31: FALSE
A32: Keuzemenu | G32: FALSE
A33: Keuzemenu | G33: FALSE
A34: WK39: 21 t/m 25 sep. | B34: TAKEN & OPDRACHTEN | H34: FALSE | I34: FALSE | J34: Geef aan in hoeverre je het leerdoel van deze week bereikt hebt. - Ik weet hoe je op basis van een steekproef het 95%-betrouwbaarheidsinterval voor een proportie berekent - Ik weet wat een populatiegemiddelde en een steekproefgemiddelde is - Ik weet hoe je op basis van een steekproef het 95%-betrouwbaarheidsinterval voor een gemiddelde berekent
A35: Maken & Nakijken | B35: Maken §10.4 (19 + 20 hoeven niet) | G35: FALSE
A36: Maken & Nakijken | B36: Maken §10.5 | G36: FALSE
A37: Maken & Nakijken | B37: Maken §10.6 | G37: FALSE
A38: Keuzemenu | G38: FALSE
A39: Keuzemenu | G39: FALSE
A40: WK40: 28 t/m 2 okt. | B40: TAKEN & OPDRACHTEN | H40: FALSE | I40: FALSE | J40: Geef aan in hoeverre je het leerdoel van deze week bereikt hebt.
A41: Maken & Nakijken | B41: Maken VH5 blz. 246 | G41: FALSE
A42: Maken & Nakijken | B42: Maken VH5 blz. 247 | G42: FALSE
A43: Maken & Nakijken | B43: Maken VH5 blz. 248 | G43: FALSE
A44: Keuzemenu | G44: FALSE
A45: Keuzemenu | G45: FALSE
A46: WK41: 5 t/m 9 okt. Di. Brugklasdag | B46: TAKEN & OPDRACHTEN | H46: FALSE | I46: FALSE | J46: Geef aan in hoeverre je het leerdoel van deze week bereikt hebt.
A47: Maken & Nakijken | B47: Maken VH5 blz. 249 | G47: FALSE
A48: Maken & Nakijken | B48: Test jezelf H9 | G48: FALSE
A49: Maken & Nakijken | B49: Test jezelf H10 | G49: FALSE
A50: Keuzemenu | G50: FALSE
A51: Keuzemenu | G51: FALSE
A52: WEEK 42 HERFSTVAKANTIE
A53: WK43: 19 t/m 23 okt. Vr. Daltondag | B53: TAKEN & OPDRACHTEN | H53: FALSE | I53: FALSE | J53: Geef aan in hoeverre je het leerdoel van deze week bereikt hebt.
A54: Maken & Nakijken | B54: Oefentoets H9 | G54: FALSE
A55: Maken & Nakijken | B55: Oefentoets H10 | G55: FALSE
A56: Maken & Nakijken | B56: H9 + H10 + VH5 | G56: FALSE
A57: Keuzemenu | G57: FALSE
A58: Keuzemenu | G58: FALSE
A59: WEEK 44 TOETSWEEK ONDERBOUW EN BOVENBOUW (MA. 26 OKT. T/M VR. 30 OKT.)
A61: UITDAGINGEN/EXTRA MOGELIJKHEDEN
A69: TOETS
A70: Toetsweek - lesstof wiskunde: H9 + H10 + VH5 - 25% PTA - toetsduur: 90 minuten

Sheet WISB
B1: WISKUNDE B (WISB) | K1: PERIODE 1
A3: ALGEMENE INFORMATIE
A4: Wat neem je mee: - 1 leerboek Deel 2 - Ruitjesschrift (A4, 1 cm ruit) - iPad (opgeladen) - Grafische Rekenmachine - Etui met daarin: Blauwe of zwarte pennen, potlood (HB) of vulpotlood, gum, geodriehoek, kleurpotloden en puntenslijper.
A9: VAKINHOUD | H9: IK HEB HET GEDAAN | I9: IK BEHEERS HET | J9: RUIMTE VOOR REFLECTIE
A10: WK35: 24 t/m 28 aug. | B10: TAKEN & OPDRACHTEN | H10: FALSE | I10: FALSE | J10: Geef aan in hoeverre je het leerdoel van deze week bereikt hebt.
A11: Maken & Nakijken | B11: Voorkennis H8 | G11: FALSE | J11: - Ik weet wat een logaritme is | M11: 0
A12: Maken & Nakijken | B12: §8.1 Opdracht 2, 4, 5, 6, 8, 9 en 10 | G12: FALSE | J12: - Ik weet hoe ik vergelijkingen met logaritmen exact moet oplossen | M12: 0
A13: Maken & Nakijken | B13: §8.2 Opdracht 13, 15, 16, 17 en 18 | G13: FALSE | J13: - Ik weet hoe ik logaritmen met de rekenmachine bereken. | M13: 0
A14: Keuzemenu | G14: FALSE | J14: - Ik weet hoe ik logaritmen herschrijf naar een logaritme met een ander grondtal | M14: 0
A15: Keuzemenu | G15: FALSE
A16: WK36: 31 t/m 4 sep. | B16: TAKEN & OPDRACHTEN | H16: FALSE | I16: FALSE | J16: Geef aan in hoeverre je het leerdoel van deze week bereikt hebt.
A17: Maken & Nakijken | B17: §8.3 Opdracht 20, 21, 22, 23, 24 en 25 | G17: FALSE | J17: - Ik weet hoe ik grafieken van logaritmische functies onderzoek | M17: 0
A18: Maken & Nakijken | B18: §8.4 Opdracht 28 t/m 33 | G18: FALSE | J18: - Ik weet hoe ik het domein, het bereik, het nulpunt en de asymptoten bij logaritmische functies bepaal. | M18: 0
A19: Maken & Nakijken | B19: §8.5 Opdracht 35 t/m 41 | G19: FALSE | J19: - Ik weet hoe ik met de rekenregels van logaritmen werk
A20: Keuzemenu | G20: FALSE | J20: - Ik weet hoe ik een logaritmische formule herleidt tot een exponentiële formule | M20: 0
A21: Keuzemenu | G21: FALSE | J21: - Ik weet hoe ik een exponentiële formule herleidt tot een logaritmische formule | M21: 0
A22: WK37: 7 t/m 11 sep. Examenreisweek | B22: TAKEN & OPDRACHTEN | H22: FALSE | I22: FALSE
A23: Keuzemenu | G23: FALSE
A24: Keuzemenu | G24: FALSE
A25: Keuzemenu | G25: FALSE
A26: Keuzemenu | G26: FALSE
A27: Keuzemenu | G27: FALSE
A28: WK38: 14 t/m 18 sep. | B28: TAKEN & OPDRACHTEN | H28: FALSE | I28: FALSE | J28: Geef aan in hoeverre je het leerdoel van deze week bereikt hebt.
A29: Maken & Nakijken | B29: §8.6 Opdracht 44 t/m 50 | G29: FALSE | J29: -Ik weet wat een halveringstijd en een verdubbelingstijd is | M29: 0
A30: Maken & Nakijken | B30: Voorkennis H10 | G30: FALSE | J30: - Ik weet hoe je een vergelijking met een logaritme exact oplost | M30: 0
A31: Maken & Nakijken | B31: §10.1 Opdracht 3 t/m 8 | G31: FALSE | J31: - Ik weet hoe je een ongelijkheid met een logaritme oplost
A32: Keuzemenu | G32: FALSE | J32: - Ik weet hoe ik een functievoorschrift opstel bij de beeldgrafiek na een translatie
A33: Keuzemenu | G33: FALSE
A34: WK39: 21 t/m 25 sep. | B34: TAKEN & OPDRACHTEN | H34: FALSE | I34: FALSE | J34: Geef aan in hoeverre je het leerdoel van deze week bereikt hebt.
A35: Maken & Nakijken | B35: §10.2 Opdracht 11 t/m 16 | G35: FALSE | J35: - Ik weet hoe ik een functievoorschrift opstel na een vermenigvuldiging ten opzichte van de x-as | M35: 0
A36: Maken & Nakijken | B36: §10.3 Opdracht 18 t/m 24 | G36: FALSE | J36: - Ik weet hoe je een functievoorschrift opstelt na een vermenigvuldiging ten opzichte van de y-as | M36: 0
A37: Maken & Nakijken | B37: §10.4 helemaal | G37: FALSE | J37: - Ik weet hoe ik vergelijkingen van asymptoten opstel | M37: 0
A38: Keuzemenu | G38: FALSE | J38: - Ik weet hoe ik een formule herleidt | M38: 0
A39: Keuzemenu | G39: FALSE | J39: - Ik weet hoe ik onderzoek of formules gelijkwaardig zijn | M39: 0
A40: WK40: 28 t/m 2 okt. | B40: TAKEN & OPDRACHTEN | H40: FALSE | I40: FALSE | J40: Geef aan in hoeverre je het leerdoel van deze week bereikt hebt.
A41: Maken & Nakijken | B41: §10.5 Opdracht 34, 36, 37 en 38 | G41: FALSE | J41: - Ik weet wat een familie van functies is en wat een parameter is | M41: 0
A42: Maken & Nakijken | B42: §10.6 Opdracht 40 t/m 45 | G42: FALSE | J42: - Ik weet hoe ik de waarde van een parameter bereken
A43: Maken & Nakijken | B43: Voorkennis H12 | G43: FALSE | J43: - Ik weet wat een samengestelde functie is | M43: 0
A44: Keuzemenu | G44: FALSE | J44: - Ik weet hoe ik eigenschappen van een samengestelde functie onderzoek | M44: 0
A45: Keuzemenu | G45: FALSE
A46: WK41: 5 t/m 9 okt. Di. Brugklasdag | B46: TAKEN & OPDRACHTEN | H46: FALSE | I46: FALSE | J46: Geef aan in hoeverre je het leerdoel van deze week bereikt hebt.
A47: Maken & Nakijken | B47: §12.1 helemaal | G47: FALSE | J47: - Ik weet hoe ik een functievoorschrift opstel bij een gegeven sinusoïde | M47: 0
A48: Maken & Nakijken | B48: §12.2 helemaal | G48: FALSE | J48: - Ik weet hoe je bij sommige waarden van x de exacte waarde van sin(x) en cos(x) bepaalt | M48: 0
A49: Maken & Nakijken | B49: §12.3 helemaal | G49: FALSE | J49: - Ik weet hoe je een vergelijking van de vorm sin(b(x-c)) = p of cos(b(x-c)) = p exact oplost | M49: 0
A50: Keuzemenu | G50: FALSE
A51: Keuzemenu | G51: FALSE
A52: WEEK 42 HERFSTVAKANTIE
A53: WK43: 19 t/m 23 okt. Vr. Daltondag | B53: TAKEN & OPDRACHTEN | H53: FALSE | I53: FALSE | J53: Geef aan in hoeverre je het leerdoel van deze week bereikt hebt.
A54: Maken & Nakijken | B54: §12.4 helemaal | G54: FALSE | J54: - Ik weet hoe ik een goniometrische ongelijkheid exact oplos | M54: 0
A55: Maken & Nakijken | B55: Test je zelf H8, H10 en H12 | G55: FALSE
A56: Keuzemenu | G56: FALSE
A57: Keuzemenu | G57: FALSE
A58: Keuzemenu | G58: FALSE
A59: WEEK 44 TOETSWEEK ONDERBOUW EN BOVENBOUW (MA. 26 OKT. T/M VR. 30 OKT.)
A61: UITDAGINGEN/EXTRA MOGELIJKHEDEN
A69: TOETS
A70: (30% PTA) Hfst. 8 Logaritmische functies, Hfst. 10 Functies bewerken + Hfst. 12 Goniometrische functies
