Workbook

Sheet Overzicht
A2: AK | D2: BI | G2: EN | J2: FA | M2: GS | P2: MU | S2: NE | V2: RSCH | Y2: TE | AB2: WI
A3: WK 35 | B3: =AK!H10 -> FALSE | D3: WK 35 | E3: =BI!H16 -> FALSE | G3: WK 35 | H3: =EN!H16 -> FALSE | J3: WK 35 | K3: =FA!H16 -> FALSE | M3: WK 35 | N3: =GS!H16 -> FALSE | P3: WK 35 | Q3: =MU!H16 -> FALSE | S3: WK 35 | T3: =NE!H16 -> FALSE | V3: WK 35 | W3: =RSCH!H16 -> FALSE | Y3: WK 35 | Z3: =TE!H16 -> TRUE | AB3: WK 35 | AC3: =WI!H16 -> FALSE
A4: WK 36 | B4: =AK!H16 -> FALSE | D4: WK 36 | E4: =BI!H22 -> FALSE | G4: WK 36 | H4: =EN!H22 -> FALSE | J4: WK 36 | K4: =FA!H22 -> FALSE | M4: WK 36 | N4: =GS!H22 -> FALSE | P4: WK 36 | Q4: =MU!H22 -> FALSE | S4: WK 36 | T4: =NE!H22 -> FALSE | V4: WK 36 | W4: =RSCH!H22 -> FALSE | Y4: WK 36 | Z4: =TE!H22 -> TRUE | AB4: WK 36 | AC4: =WI!H22 -> FALSE
A5: WK 37 | B5: =AK!H22 -> FALSE | D5: WK 37 | E5: =BI!H28 -> FALSE | G5: WK 37 | H5: =EN!H28 -> FALSE | J5: WK 37 | K5: =FA!H28 -> FALSE | M5: WK 37 | N5: =GS!H28 -> FALSE | P5: WK 37 | Q5: =MU!H28 -> FALSE | S5: WK 37 | T5: =NE!H28 -> FALSE | V5: WK 37 | W5: =RSCH!H28 -> FALSE | Y5: WK 37 | Z5: =TE!H28 -> FALSE | AB5: WK 37 | AC5: =WI!H28 -> FALSE
A6: WK 38 | B6: =AK!H28 -> FALSE | D6: WK 38 | E6: =BI!H35 | G6: WK 38 | H6: =EN!H35 | J6: WK 38 | K6: =FA!H35 | M6: WK 38 | N6: =GS!H35 | P6: WK 38 | Q6: =MU!H35 | S6: WK 38 | T6: =NE!H35 | V6: WK 38 | W6: =RSCH!H35 | Y6: WK 38 | Z6: =TE!H35 | AB6: WK 38 | AC6: =WI!H35
A7: WK 39 | B7: =AK!H34 -> FALSE | D7: WK 39 | E7: =BI!H41 | G7: WK 39 | H7: =EN!H41 | J7: WK 39 | K7: =FA!H41 | M7: WK 39 | N7: =GS!H41 | P7: WK 39 | Q7: =MU!H41 | S7: WK 39 | T7: =NE!H41 | V7: WK 39 | W7: =RSCH!H41 | Y7: WK 39 | Z7: =TE!H41 | AB7: WK 39 | AC7: =WI!H41
A8: WK 40 | B8: =AK!H40 -> FALSE | D8: WK 40 | E8: =BI!H47 | G8: WK 40 | H8: =EN!H47 | J8: WK 40 | K8: =FA!H47 | M8: WK 40 | N8: =GS!H47 | P8: WK 40 | Q8: =MU!H47 | S8: WK 40 | T8: =NE!H47 | V8: WK 40 | W8: =RSCH!H47 | Y8: WK 40 | Z8: =TE!H47 | AB8: WK 40 | AC8: =WI!H47
A9: WK 41 | B9: =AK!H46 -> FALSE | D9: WK 41 | E9: =BI!H54 | G9: WK 41 | H9: =EN!H54 | J9: WK 41 | K9: =FA!H54 | M9: WK 41 | N9: =GS!H54 | P9: WK 41 | Q9: =MU!H54 | S9: WK 41 | T9: =NE!H54 | V9: WK 41 | W9: =RSCH!H54 | Y9: WK 41 | Z9: =TE!H54 | AB9: WK 41 | AC9: =WI!H54
A10: WK 43 | B10: =AK!H53 -> FALSE | D10: WK 43 | E10: =BI!H60 | G10: WK 43 | H10: =EN!H60 | J10: WK 43 | K10: =FA!H60 | M10: WK 43 | N10: =GS!H60 | P10: WK 43 | Q10: =MU!H60 | S10: WK 43 | T10: =NE!H60 | V10: WK 43 | W10: =RSCH!H60 | Y10: WK 43 | Z10: =TE!H60 | AB10: WK 43 | AC10: =WI!H60

Sheet AK
B1: AARDRIJKSKUNDE (AK) | K1: PERIODE 1
A3: ALGEMENE INFORMATIE
A4: Bij het vak Aardrijkskunde werk je in je werkboek. Antwoorden kun je geven m.b.v. een Leerboek en een Basisboek
A5: Zorg dat je tijdens lessen, of voor een daltonuur altijd al je boeken bij je hebt.
A6: Toetsen zijn bij Aardrijkskunde altijd op de Ipad
A7: Nakijken doe je via nakijkbladen: Deze krijg je van de docent wanneer je kunt aantonen dat je je vragen hebt gemaakt.
A9: VAKINHOUD | H9: IK HEB HET GEDAAN | I9: IK BEHEERS HET | J9: RUIMTE VOOR REFLECTIE
A10: WK35: 24 t/m 28 aug. | B10: TAKEN & OPDRACHTEN | H10: FALSE | I10: FALSE
A11: Lezen | B11: H1 - start - leerboek blz 6 en 7 | G11: FALSE
A12: Maken | B12: H1 - start - opdr 1 t/m 4 - werkboek blz 4 en 5 | G12: FALSE
A13: Lezen | B13: H1 - §1 - leerboek blz 8 en 9 | G13: FALSE
A14: Maken | B14: H1 - §1 - opdr 1 t/m 4 - werkboek blz 6 en 7 | G14: FALSE
A15: Daltontaak (verplicht) | B15: De begrippen (dikgedrukte blauwe woorden) van H1 §1 en §2 arceren in je begrippenlijst + flitskaartjes maken ter voorbereiding van de begrippentoets (Let op! bij de leerdoelen in je werkboek staat per § precies welke je moet weten) | G15: FALSE
A16: WK36: 31 t/m 4 sep. | B16: TAKEN & OPDRACHTEN | H16: FALSE | I16: FALSE
A17: Lezen | B17: H1 - §1 - leerboek blz 8 en 9 | G17: FALSE
A18: Maken | B18: H1 - §1 - opdr 5, 6, 7, 8, 9 en 10 - werkboek blz. 8 t/m 11 | G18: FALSE
A19: Daltontaak (verplicht) | B19: De begrippen (dikgedrukte blauwe woorden) van H1 §1 en §2 arceren in je begrippenlijst + flitskaartjes maken ter voorbereiding van de begrippentoets (Let op! bij de leerdoelen in je werkboek staat per § precies welke je moet weten) | G19: FALSE
A20: Keuzemenu | G20: FALSE
A21: Keuzemenu | G21: FALSE
A22: WK37: 7 t/m 11 sep. Examenreisweek | B22: TAKEN & OPDRACHTEN | H22: FALSE | I22: FALSE
A23: Lezen | B23: H1 - §2 - leerboek blz 10 en 11 | G23: FALSE
A24: Maken | B24: H1 - §2 - opdr 1, 2, 3, 4, 5 - werkboek blz 12 t/m 15 | G24: FALSE
A25: Daltontaak (optioneel) | B25: Nakijken via het nakijkblad H1 - §1 | G25: FALSE
A26: Keuzemenu | G26: FALSE
A27: Keuzemenu | G27: FALSE
A28: WK38: 14 t/m 18 sep. | B28: TAKEN & OPDRACHTEN | H28: FALSE | I28: FALSE
A29: Lezen | B29: H1 - §2 - leerboek blz 10 en 11 | G29: FALSE
A30: Maken | B30: H1 - §2 - opdr 6, 7, 8 - werkboek blz 15 t/m 17 | G30: FALSE
A31: Daltontaak (verplicht) | B31: werken aan PO - ontwerp je eigen wijk (2-toetscijfer) | G31: FALSE
A32: Keuzemenu | G32: FALSE
A33: Keuzemenu | G33: FALSE
A34: WK39: 21 t/m 25 sep. | B34: TAKEN & OPDRACHTEN | H34: FALSE | I34: FALSE
A35: Lezen | B35: H1 - §3 - leerboek blz 12 en 13 | G35: FALSE
A36: Maken | B36: H1 - §3 - opdr 1, 2, 3 - werkboek blz 18 en 19 | G36: FALSE
A37: Daltontaak (verplicht) | B37: werken aan PO - ontwerp je eigen wijk (2-toetscijfer) | G37: FALSE
A38: Daltontaak (optioneel) | B38: Nakijken via het nakijkblad H1 - §2 | G38: FALSE
A39: Leren | B39: Leren mbv flitskaarts kaartjes voor de begrippen toets - begrippen hoofdstuk 1 - §1 en §2 (gemiddelde van de 4 begrippen toetsen dit jaar wordt een 2-toets cijfer in de laatste periode) | G39: FALSE
A40: WK40: 28 t/m 2 okt. | B40: TAKEN & OPDRACHTEN | H40: FALSE | I40: FALSE
A41: Lezen | B41: H1 - §3 - leerboek blz 12 en 13 | G41: FALSE
A42: Maken | B42: H1 - §3 - opdr 4, 5, 6, 7, 8, 9 - werkboek blz 19 t/m 23 | G42: FALSE
...

Sheet BI
B1: BIOLOGIE (BI) | K1: PERIODE 1
A3: ALGEMENE INFORMATIE
A4: Welkomswoordje
A5: Wat gaan we deze periode doen? Wat is de Daltontaak? Wat houd de Daltontaak in?
A6: Welke boeken/spullen/materialen zijn er nodig?
A7: Wat moet je geleerd hebben na deze periode?
A9: VAKINHOUD | H9: IK HEB HET GEDAAN | I9: IK BEHEERS HET | J9: RUIMTE VOOR REFLECTIE
A10: WK35: 24 t/m 28 aug. | B10: TAKEN & OPDRACHTEN | H10: FALSE | I10: FALSE
A11: Lezen | B11: §1.1 Biologie, wat heb je eraan? §1.2 Levende wezens | G11: FALSE
A12: Maken & Nakijken | B12: Opdrachten van §1.1 en §1.2 | G12: FALSE
A13: Daltontaak (verplicht) | B13: Werkblad tekenregels Met behulp van deze vaardigheidskaart | G13: FALSE
A14: Keuzemenu | G14: FALSE
A15: Keuzemenu | G15: FALSE
A16: WK36: 31 t/m 4 sep. | B16: TAKEN & OPDRACHTEN | H16: FALSE | I16: FALSE
A17: Lezen | B17: §1.3 Verschillende organismen §1.4 Organismen en hun omgeving | G17: FALSE
A18: Maken & Nakijken | B18: Opdrachten van §1.3 en §1.4 | G18: FALSE
A19: Daltontaak (verplicht) | B19: §1.6 Maak practicum biologisch onderzoek met behulp van deze vaardigheidskaart | G19: FALSE
A20: Keuzemenu | G20: FALSE
A21: Keuzemenu | G21: FALSE
A22: WK37: 7 t/m 11 sep. Examenreisweek | B22: TAKEN & OPDRACHTEN | H22: FALSE | I22: FALSE
A23: Lezen | B23: §1.5 Alles hangt samen | G23: FALSE
A24: Maken & Nakijken | B24: Opdrachten van §1.5 | G24: FALSE
A25: Practicum | B25: Microscopie met behulp van deze vaardigheidskaart | G25: FALSE
A26: Daltontaak (optioneel) | B26: §1.9 Hoofdstukafsluiting | G26: FALSE
A27: Toets | B27: 1t inleveren 1.6 biologisch onderzoek | G27: FALSE
A28: WK38: 14 t/m 18 sep. | B28: TAKEN & OPDRACHTEN | H28: FALSE | I28: FALSE
A29: Toets | B29: 2-toets Hoofdstuk 1 Waarom biologie? Leren §1.2 t/m §1.5 Voor leertips zie Vivo blz. 220 en 221 Actief leren / of gebruik het document leertips biologie | G29: FALSE
A30: Lezen | B30: §2.1 Hoe zijn organismen opgebouwd | G30: FALSE
A31: Maken & Nakijken | B31: Opdrachten van §2.1 | G31: FALSE
A32: Keuzemenu | G32: FALSE
A33: Daltontaak (optioneel) | B33: begrippenlijst doornemen (te vinden in digitale methode) | G33: FALSE
A34: WK39: 21 t/m 25 sep. | B34: TAKEN & OPDRACHTEN | H34: FALSE | I34: FALSE
A35: Lezen | B35: §2.2 Organen en weefsels bestaan uit cellen | G35: FALSE
A36: Maken & Nakijken | B36: Opdrachten van §2.2 | G36: FALSE
A37: Practicum | B37: Practicum waterpestcellen | G37: FALSE
A38: Daltontaak (optioneel) | B38: Maak een handgeschreven begrippenlijst in eigen woorden van §2.1 en §2.2 En teken de belangrijke afbeeldingen na. | G38: FALSE
A39: Keuzemenu | G39: FALSE
A40: WK40: 28 t/m 2 okt. | B40: TAKEN & OPDRACHTEN | H40: FALSE | I40: FALSE
A41: Lezen | B41: §2.3 De delen van een cel §2.4 De celkern | G41: FALSE
A42: Maken & Nakijken | B42: Opdrachten van §2.3 en §2.4 | G42: FALSE
...

Sheet EN
B1: ENGELS (EN) | K1: PERIODE 1
A3: ALGEMENE INFORMATIE
A4: Voor de lessen Engels heb je altijd je boek, etui en schrift nodig!
A5: Elke week heb je opdrachten die aan het einde van de week allemaal af moeten zijn. Dit is je weektaak. Er wordt aan het begin van de nieuwe week altijd een huiswerk controle gedaan!
A7: Ook heb je (bijna) elke week leerwerk. Zorg dat je dit bijhoudt! De woordjes kun je oefenen in de methode online, of via je boek.
A9: VAKINHOUD | H9: IK HEB HET GEDAAN | I9: IK BEHEERS HET | J9: RUIMTE VOOR REFLECTIE
A10: WK35: 24 t/m 28 aug. | B10: TAKEN & OPDRACHTEN | H10: FALSE | I10: FALSE
A11: Maken | B11: Weektaak: Unit 1: lesson 1 Crossing Borders + Lesson 2 (part 1) | G11: FALSE
G12: FALSE
A13: Daltontaak (optioneel) | B13: Do: versterk jezelf: personal pronouns | G13: FALSE
A14: Leren | B14: Study words: school on page 43 | G14: FALSE
A15: Daltontaak (verplicht) | B15: This is me project (handout) | G15: FALSE
A16: WK36: 31 t/m 4 sep. | B16: TAKEN & OPDRACHTEN | H16: FALSE | I16: FALSE
A17: Maken | B17: Weektaak: Unit 1: lesson 2 (part 2) + Lesson 3 (part 1) | G17: FALSE
G18: FALSE
A19: Daltontaak (verplicht) | B19: Do: Unit 1: lesson 2 exercise 14 or 15 AND lesson 3 exercise 5 (prepare to talk about your family tree) | G19: FALSE
A20: Leren | B20: Study box 3 on page 45 AND expressions A-D on pages 45-46 | G20: FALSE
A21: Daltontaak (verplicht) | B21: This is me project (handout) | G21: FALSE
A22: WK37: 7 t/m 11 sep. Examenreisweek | B22: TAKEN & OPDRACHTEN | H22: FALSE | I22: FALSE
A23: Maken | B23: Weektaak: Unit 1: lesson 3 (part 2) + Lesson 4 (part 1) | G23: FALSE
G24: FALSE
A25: Daltontaak (verplicht) | B25: Do Unit 1: lesson 3 exercise 11 or 12 | G25: FALSE
A26: Leren | B26: Study box 4 on pages 46-47 | G26: FALSE
A27: Daltontaak (verplicht) | B27: This is me project (handout) | G27: FALSE
A28: WK38: 14 t/m 18 sep. | B28: TAKEN & OPDRACHTEN | H28: FALSE | I28: FALSE
A29: Maken | B29: Weektaak: Unit 1: lesson 4 (part 2) + lesson 5 (part 1) | G29: FALSE
G30: FALSE
A31: Daltontaak (verplicht) | B31: Do Unit 1: lesson 4 exercises 13 (poster) AND exercise 14 or 15 | G31: FALSE
A32: Leren | B32: Study box 5 on page 48 | G32: FALSE
A33: Inleveren | B33: This is me poster | G33: FALSE
A34: WK39: 21 t/m 25 sep. | B34: TAKEN & OPDRACHTEN | H34: FALSE | I34: FALSE
A35: Maken | B35: Weektaak: Unit 1: lesson 5 (part 2) + Unit 2: Lesson 1 + Unit 2: Lesson 2 (part 1) | G35: FALSE
G36: FALSE
A37: Daltontaak (verplicht) | B37: Do Unit 1: Exercise 12 or 13 | G37: FALSE
A38: Leren | B38: Study box 5 on page 48 AND expressions on page 49 | G38: FALSE
A39: Keuzemenu | G39: FALSE
A40: WK40: 28 t/m 2 okt. | B40: TAKEN & OPDRACHTEN | H40: FALSE | I40: FALSE
A41: Maken | B41: Weektaak: Unit 2: lesson 2 (part 2) | G41: FALSE
A42: Daltontaak (verplicht) | B42: Do Unit 2: lesson 2 exercise 14 or 15 | G42: FALSE
A43: Leren | B43: Study box 2 on page 83 | G43: FALSE
...

Sheet FA
B1: FRANS (FA) | K1: PERIODE 1
A3: ALGEMENE INFORMATIE
A5: Bienvenue ! Je gaat Frans leren! Vanaf nu ga je actief aan de slag met REGARDER (kijken), LIRE (lezen), GRAMMAIRE (grammatica), ÉCOUTER (luisteren), PARLER (spreken) en ÉCRIRE (schrijven). Vragen mag je altijd stellen! "Unité 1 : Bonjour! Je kunt iemand in het Frans begroeten, afscheid nemen en iets over jezelf vertellen. Je kunt vragen stellen en beantwoorden over je leeftijd en over waar en met wie je woont.
A6: Wat neem je mee naar de les? Boek (Libre Service Junior deel A), snelhechter of schrift, oortjes of koptelefoon en une bonne humeur ;-)
A9: VAKINHOUD | H9: IK HEB HET GEDAAN | I9: IK BEHEERS HET | J9: RUIMTE VOOR REFLECTIE
A10: WK35: 24 t/m 28 aug. | B10: TAKEN & OPDRACHTEN | H10: FALSE | I10: FALSE
A11: Doen | B11: Intro lessen Frans: uitleg over de methode, het gebruik van het boek Libre Service Junior, de cumulatieve toetsen, uitspraakregels, vocabulaire de classe, etc. | G11: FALSE
A12: Keuzemenu | G12: FALSE
A13: Keuzemenu | G13: FALSE
A14: Keuzemenu | G14: FALSE
A15: Keuzemenu | G15: FALSE
A16: WK36: 31 t/m 4 sep. | B16: TAKEN & OPDRACHTEN | H16: FALSE | I16: FALSE
A17: Kijken & Luisteren | B17: LSJ U1 : REGARDER : exercices 1&2 (page 11) | G17: FALSE
A18: Lezen | B18: LIRE : exercices 5&6 (pages 16,17,18) | G18: FALSE
A19: Leren | B19: Voca liste A | G19: FALSE
A20: Keuzemenu | G20: FALSE
A21: Keuzemenu | G21: FALSE
A22: WK37: 7 t/m 11 sep. Examenreisweek | B22: TAKEN & OPDRACHTEN | H22: FALSE | I22: FALSE
A23: Maken | B23: GRAMMAIRE I : exercices 8A,8B,8C (pages 19,20) | G23: FALSE
A24: Luisteren & Maken | B24: ÉCOUTER : exercices 11,12,13,14 (pages 22,23) avec écouteurs | G24: FALSE
A25: Toets | B25: Test cumulatif liste A | G25: FALSE
A26: Keuzemenu | G26: FALSE
A27: Keuzemenu | G27: FALSE
A28: WK38: 14 t/m 18 sep. | B28: TAKEN & OPDRACHTEN | H28: FALSE | I28: FALSE
A29: Maken | B29: GRAMMAIRE II : exercices 16B,16C,16D (pages 26,27) | G29: FALSE
A30: Maken | B30: PARLER : exercices 19,21,22 (pages 30,31) | G30: FALSE
A31: Leren | B31: Voca liste B | G31: FALSE
A32: Keuzemenu | G32: FALSE
A33: Keuzemenu | G33: FALSE
A34: WK39: 21 t/m 25 sep. | B34: TAKEN & OPDRACHTEN | H34: FALSE | I34: FALSE
A35: Maken | B35: ÉCRIRE : exercices 27,28 (pages 34,35) | G35: FALSE
A36: Toets | B36: Test cumulatif liste B | G36: FALSE
A37: Keuzemenu | G37: FALSE
A38: Keuzemenu | G38: FALSE
A39: Keuzemenu | G39: FALSE
A40: WK40: 28 t/m 2 okt. | B40: TAKEN & OPDRACHTEN | H40: FALSE | I40: FALSE
A41: Test jezelf | B41: Test à livre ouvert LSJ U1 | G41: FALSE
A42: Leren | B42: Voca liste C | G42: FALSE
A43: Lezen | B43: Lire Extra deux étoiles (twee sterren) (pages 41,42) | G43: FALSE
A44: Keuzemenu | G44: FALSE
...

Sheet GS
B1: GESCHIEDENIS (GS) | K1: PERIODE 1
A3: ALGEMENE INFORMATIE
A4: Hoi! Welkom bij geschiedenis. Het leukste vak over vroeger. Alles wat gebeurd is, heeft invloed op het nu. Maar dat wist je al.
A5: We gaan deze periode leren wat het vak inhoudt. We gaan begrippen leren en oefenen met opdrachten maken.
A6: Je hebt je leerboek nodig en je werkboek.
A7: Na deze periode weet je waarom geschiedenis zo belangrijk is en je kent de periodes en de tijdvakken.
A9: VAKINHOUD | H9: IK HEB HET GEDAAN | I9: IK BEHEERS HET | J9: RUIMTE VOOR REFLECTIE
A10: WK35: 24 t/m 28 aug. | B10: TAKEN & OPDRACHTEN | H10: FALSE | I10: FALSE
A11: Lezen | B11: Oriëntatie blz. 6 t/m 9 | G11: FALSE
A12: Maken | B12: 1.1 Maak de opdrachten in je werkboek: 1 t/m 11 | G12: FALSE
A13: Leren | B13: begrippen: de blauw gedrukte woorden | G13: FALSE
A14: Keuzemenu | G14: FALSE
A15: Keuzemenu | G15: FALSE
A16: WK36: 31 t/m 4 sep. | B16: TAKEN & OPDRACHTEN | H16: FALSE | I16: FALSE
A17: Nakijken | B17: we kijken de opdrachten van vorige week na. | G17: FALSE
A18: Maken | B18: blz. 12 en 13 | G18: FALSE
A19: Maken & Nakijken | B19: 1.2 Maak de opdrachten (7 en 11 niet) | G19: FALSE
A20: Leren | B20: De begrippen van 1.1 en 1.2 | G20: FALSE
A21: Keuzemenu | G21: FALSE
A22: WK37: 7 t/m 11 sep. Examenreisweek | B22: TAKEN & OPDRACHTEN | H22: FALSE | I22: FALSE
A23: Nakijken | B23: We kijken de opdrachten van vorige week na. | G23: FALSE
A24: Leren | B24: De begrippen van blz. 17 | G24: FALSE
A25: Herhalen | B25: Leerdoelen: kennen we de leerdoelen? | G25: FALSE
A26: Maken | B26: Afsluiting blz, 16-17 | G26: FALSE
A27: Keuzemenu | G27: FALSE
A28: WK38: 14 t/m 18 sep. | B28: TAKEN & OPDRACHTEN | H28: FALSE | I28: FALSE
A29: Leren | B29: Hoe leer je voor geschiedenis? Dit leggen we uit in de les | G29: FALSE
A30: Toets | B30: Oefentoets geschiedenis over Hoofdstuk 1. Leer de begrippen en de leerdoelen. Leer ook de indeling op blz. 10 | G30: FALSE
A31: Keuzemenu | G31: FALSE
A32: Keuzemenu | G32: FALSE
A33: Keuzemenu | G33: FALSE
A34: WK39: 21 t/m 25 sep. | B34: TAKEN & OPDRACHTEN | H34: FALSE | I34: FALSE
A35: Nakijken | B35: We kijken de oefentoets na. | G35: FALSE
A36: Lezen | B36: We starten hoofdstuk 2 | G36: FALSE
A37: Maken | B37: Oriëntatie H2 | G37: FALSE
A38: Keuzemenu | G38: FALSE
A39: Keuzemenu | G39: FALSE
A40: WK40: 28 t/m 2 okt. | B40: TAKEN & OPDRACHTEN | H40: FALSE | I40: FALSE
A41: Lezen | B41: H2: Jagers, boeren en farao's: blz. 18-19 | G41: FALSE
A42: Maken & Nakijken | B42: Maak de opdrachten van Oriëntatie H2 blz. 18-19 | G42: FALSE
...

Sheet MU
B1: MUZIEK (MU) | K1: PERIODE 1
A3: ALGEMENE INFORMATIE
A4: Log in bij muziekmethode Beats'n Bits
A5: Hoofdstuk 1 Lead
A9: VAKINHOUD | H9: IK HEB HET GEDAAN | I9: IK BEHEERS HET | J9: RUIMTE VOOR REFLECTIE
A10: WK35: 24 t/m 28 aug. | B10: TAKEN & OPDRACHTEN | H10: FALSE | I10: FALSE
A11: Kijken & Luisteren | B11: Wat ga je leren? | G11: FALSE
A12: Kijken & Luisteren | B12: Videoles: Toonhoogte | G12: FALSE
A13: Oefenen | B13: Oefenen Shotgun | G13: FALSE
A14: Keuzemenu | G14: FALSE
A15: Keuzemenu | G15: FALSE
A16: WK36: 31 t/m 4 sep. | B16: TAKEN & OPDRACHTEN | H16: FALSE | I16: FALSE
A17: Maken | B17: Noteren | G17: FALSE
A18: Maken | B18: Videoles: Toonhoogte | G18: FALSE
A19: Maken | B19: Studio | G19: FALSE
A20: Keuzemenu | G20: FALSE
A21: Keuzemenu | G21: FALSE
A22: WK37: 7 t/m 11 sep. Examenreisweek | B22: TAKEN & OPDRACHTEN | H22: FALSE | I22: FALSE
A23: Maken | B23: Luisteren | G23: FALSE
A24: Maken | B24: Speelradar Shotgun | G24: FALSE
A25: Keuzemenu | G25: FALSE
A26: Keuzemenu | G26: FALSE
A27: Keuzemenu | G27: FALSE
A28: WK38: 14 t/m 18 sep. | B28: TAKEN & OPDRACHTEN | H28: FALSE | I28: FALSE
A29: Oefenen | B29: Notenlezen Level 1, 2 en 3 | G29: FALSE
A30: Inleveren | B30: Speelstuk Shotgun (indien niet tijdens de les ingeleverd) | G30: FALSE
A31: Keuzemenu | G31: FALSE
A32: Keuzemenu | G32: FALSE
A33: Keuzemenu | G33: FALSE
A34: WK39: 21 t/m 25 sep. | B34: TAKEN & OPDRACHTEN | H34: FALSE | I34: FALSE
A35: Maken | B35: Training | G35: FALSE
A36: Keuzemenu | G36: FALSE
A37: Keuzemenu | G37: FALSE
A38: Keuzemenu | G38: FALSE
A39: Keuzemenu | G39: FALSE
A40: WK40: 28 t/m 2 okt. | B40: TAKEN & OPDRACHTEN | H40: FALSE | I40: FALSE
A41: Inleveren | B41: Filmpje 1e instrument inleveren in Classroom | G41: FALSE
A42: Keuzemenu | G42: FALSE
A43: Keuzemenu | G43: FALSE
A44: Keuzemenu | G44: FALSE
...

Sheet NE
B1: NEDERLANDS (NE) | K1: PERIODE 1
A3: ALGEMENE INFORMATIE
A4: Welkom bij Nederlands!
A5: We maken kennis met het vak Nederlands, we lezen een leesboek. We schrijven een leesautobiografie, helemaal over je eigen leeservaring. Bovendien schrijven we aan het eind van de periode een verhaal over jijzelf, als superheld! In deze periode maken we kennis met de boeken voor Nederlands, maar we gaan vooral werken met een speciaal schrijfboekje, waarin handschrift, schriftgebruik, zinnen schrijven, hoofdletters, leestekens, werkwoordspelling voorbijkomen. Ook gaan we 'begrijpend lezen' voortzetten, dit noemen we 'lezen', 'leesvaardigheid' en 'tekstbegrip'. Hiervoor gebruiken we in deze periode boek A.
A6: Wat neem je mee? Altijd je schrift (A4-formaat!) je boek A (je boek B als de docent dat aangeeft) en je schrijfboekje.
A7: Aan het eind van deze periode heb je heel veel geleerd over zinnen schrijven, hoofdletters, leestekens, werkwoordspelling. Ook weet je meer over nieuwsbericht, alinea's, onderwerpen, deelonderwerpen.
A9: VAKINHOUD | H9: IK HEB HET GEDAAN | I9: IK BEHEERS HET | J9: RUIMTE VOOR REFLECTIE
A10: WK35: 24 t/m 28 aug. | B10: TAKEN & OPDRACHTEN | H10: FALSE | I10: FALSE
A11: Keuzemenu | B11: Introductie: wat en hoe bij Nederlands? Uitleg, werkboek, digitale methode, schrijfboekje | G11: FALSE
A12: Keuzemenu | B12: boekje schrijfvaardigheid: paragraaf 1, schriftgebruik | G12: FALSE
A13: Keuzemenu | B13: Leesboek uitkiezen periode 1, dit doen we in de mediatheek op school | G13: FALSE
A14: Keuzemenu | B14: lezen in je leesboek | G14: FALSE
A15: Keuzemenu | G15: FALSE
A16: WK36: 31 t/m 4 sep. | B16: TAKEN & OPDRACHTEN | H16: FALSE | I16: FALSE
A17: Keuzemenu | B17: lezen in je leesboek | G17: FALSE
A18: Keuzemenu | B18: Schrijven: schrijf je leesautobiografie | G18: FALSE
A19: Keuzemenu | B19: paragraaf 2: handschrift. Maak de eindopdracht | G19: FALSE
A20: Keuzemenu | G20: FALSE
A21: Keuzemenu | G21: FALSE
A22: WK37: 7 t/m 11 sep. Examenreisweek | B22: TAKEN & OPDRACHTEN | H22: FALSE | I22: FALSE
A23: Keuzemenu | B23: Lever je leesautobiografie in | G23: FALSE
A24: Keuzemenu | B24: lezen in je leesboek | G24: FALSE
A25: Keuzemenu | B25: Schrijfboekje: paragraaf 3 (zinnen maken) deel 1, woordsoorten, opdracht 1 t/m 6 | G25: FALSE
A26: Keuzemenu | B26: werkboek: h.2, par. 2.1, grammatica, woordsoorten | G26: FALSE
A27: Keuzemenu | G27: FALSE
A28: WK38: 14 t/m 18 sep. | B28: TAKEN & OPDRACHTEN | H28: FALSE | I28: FALSE
A29: Keuzemenu | B29: lezen in je leesboek | G29: FALSE
A30: Keuzemenu | B30: Schrijfboekje: paragraaf 3, deel 2, zinsdelen, opdr. 1 t/m 5 | G30: FALSE
A31: Keuzemenu | B31: 2t grammatica/zinnen maken (par. 3) | G31: FALSE
A32: Keuzemenu | G32: FALSE
A33: Keuzemenu | G33: FALSE
A34: WK39: 21 t/m 25 sep. | B34: TAKEN & OPDRACHTEN | H34: FALSE | I34: FALSE
A35: Keuzemenu | B35: lezen in je leesboek | G35: FALSE
A36: Keuzemenu | B36: Schrijfboekje: paragraaf 4. hoofdletters, komma's en punten: opdr. 1 t/m 4 | G36: FALSE
A37: Keuzemenu | B37: werkboek deel A, h.3, 'Nieuws' | G37: FALSE
A38: Keuzemenu | G38: FALSE
A39: Keuzemenu | G39: FALSE
A40: WK40: 28 t/m 2 okt. | B40: TAKEN & OPDRACHTEN | H40: FALSE | I40: FALSE
A41: Keuzemenu | B41: lezen in je leesboek | G41: FALSE
A42: Keuzemenu | B42: Schrijfboekje: par. 5, werkwoordspelling: opdr. 1 t/m 4 | G42: FALSE
...

Sheet RSCH
B1: RESEARCH (RSCH) | K1: PERIODE 1
A3: ALGEMENE INFORMATIE
A4: Welkom bij research bèta. Je krijgt dit vak een halfjaar lang 1 uur per week. Daarna volg je het vak research alfa.
A5: Voor dit vak heb je alleen je iPad nodig.
A6: We uploaden het moduleboekje in de eerste les gezamelijk naar Notability.
A9: VAKINHOUD | H9: IK HEB HET GEDAAN | I9: IK BEHEERS HET | J9: RUIMTE VOOR REFLECTIE
A10: WK35: 24 t/m 28 aug. | B10: TAKEN & OPDRACHTEN | H10: FALSE | I10: FALSE
A11: Lezen | B11: Hoofdstuk 1.1 Wetenschap en 1.2 Natuurwetenschap | G11: FALSE
A12: Maken | B12: Opdracht 1 t/m 3 | G12: FALSE
A13: Keuzemenu | G13: FALSE
A14: Keuzemenu | G14: FALSE
A15: Keuzemenu | G15: FALSE
A16: WK36: 31 t/m 4 sep. | B16: TAKEN & OPDRACHTEN | H16: FALSE | I16: FALSE
A17: Practicum | B17: 1.3 Klopt dit wel? | G17: FALSE
A18: Maken | B18: 1.4 De verschillende natuurwetenschappen, zelfstandig maken (opdr. 4 t/m 6) | G18: FALSE
A19: Keuzemenu | G19: FALSE
A20: Keuzemenu | G20: FALSE
A21: Keuzemenu | G21: FALSE
A22: WK37: 7 t/m 11 sep. Examenreisweek | B22: TAKEN & OPDRACHTEN | H22: FALSE | I22: FALSE
A23: Lezen | B23: 1.5 Onderzoeksverslag | G23: FALSE
A24: Maken | B24: Samenwerken: vul het onderzoeksverslag in | G24: FALSE
A25: Maken | B25: Maak met behulp van 1.8 een begrippenlijst en leer begrippen voor de toets Zorg dat alle opdrachten zijn nagekeken en bestudeer ze nog eens voor de toets | G25: FALSE
A26: Keuzemenu | G26: FALSE
A27: Keuzemenu | G27: FALSE
A28: WK38: 14 t/m 18 sep. | B28: TAKEN & OPDRACHTEN | H28: FALSE | I28: FALSE
A29: Practicum | B29: 1.6 Roulatiepracticum natuurwetenschappen | G29: FALSE
A30: Maken | B30: 1.7 Research bèta en de natuurwetenschappen | G30: FALSE
A31: Leren | B31: Leer de begrippenlijst van 1.8 voor de toets Zorg dat alle opdrachten zijn nagekeken en bestudeer ze nog eens voor de toets | G31: FALSE
A32: Keuzemenu | G32: FALSE
A33: Keuzemenu | G33: FALSE
A34: WK39: 21 t/m 25 sep. | B34: TAKEN & OPDRACHTEN | H34: FALSE | I34: FALSE
A35: Toets | B35: 2-toets Wetenschap | G35: FALSE
A36: Keuzemenu | G36: FALSE
A37: Keuzemenu | G37: FALSE
A38: Keuzemenu | G38: FALSE
A39: Keuzemenu | G39: FALSE
A40: WK40: 28 t/m 2 okt. | B40: TAKEN & OPDRACHTEN | H40: FALSE | I40: FALSE
A41: Lezen | B41: 2.4 Meten is weten | G41: FALSE
A42: Practicum | B42: Practicum 3 Pipetteren | G42: FALSE
A43: Daltontaak (optioneel) | B43: Maak een afspraak met de TOA van SK om te oefenen met pipetteren (voorbereiding op PO pipetteren) | G43: FALSE
...

Sheet TE
B1: TEKENEN (TE) | K1: PERIODE 1
A3: ALGEMENE INFORMATIE
A4: Hier zien jullie de Dalton Studiewijzer Tekenen Brugklas
A5: De volgende onderdelen komen aan bod: Grijswaarden en Structuur
A6: Na elke 4T opdracht schrijf je een kleine evaluatie op de achterkant van je werk.
A9: VAKINHOUD | H9: IK HEB HET GEDAAN | I9: IK BEHEERS HET | J9: RUIMTE VOOR REFLECTIE
A10: WK35: 24 t/m 28 aug. | B10: TAKEN & OPDRACHTEN | H10: TRUE | I10: TRUE
A11: Kijken & Luisteren | B11: Algemene afspraken, uitdelen materiaal | G11: FALSE
A12: Luisteren & Maken | B12: 2T WB grijswaarden (balken en bollen) | G12: FALSE
A13: Keuzemenu | G13: FALSE
A14: Keuzemenu | G14: FALSE
A15: Keuzemenu | G15: FALSE
A16: WK36: 31 t/m 4 sep. | B16: TAKEN & OPDRACHTEN | H16: TRUE | I16: TRUE
A17: Maken | B17: 2T WB grijswaarden (balken en bollen) | G17: FALSE
A18: Keuzemenu | G18: FALSE
A19: Keuzemenu | G19: FALSE
A20: Keuzemenu | G20: FALSE
A21: Keuzemenu | G21: FALSE
A22: WK37: 7 t/m 11 sep. Examenreisweek | B22: TAKEN & OPDRACHTEN | H22: TRUE | I22: TRUE
A23: Maken | B23: 4T Opdracht grijswaarden | G23: FALSE
A24: Schrijven | B24: Reflectie/evalueren WB grijswaarden en 4T grijswaarden (optioneel) | G24: FALSE
A25: Keuzemenu | G25: FALSE
A26: Keuzemenu | G26: FALSE
A27: Keuzemenu | G27: FALSE
A28: WK38: 14 t/m 18 sep. | B28: TAKEN & OPDRACHTEN | H28: FALSE | I28: FALSE
A29: Luisteren & Maken | B29: introductie oost indische inkt en kroontjespen | G29: FALSE
A30: Maken | B30: WB structuur | G30: FALSE
A31: Keuzemenu | G31: FALSE
A32: Keuzemenu | G32: FALSE
A33: Keuzemenu | G33: FALSE
A34: WK39: 21 t/m 25 sep. | B34: TAKEN & OPDRACHTEN | H34: FALSE | I34: FALSE
A35: Maken | B35: WB Structuur | G35: FALSE
A36: Luisteren & Maken | B36: Introductie fantasiedier | G36: FALSE
A37: Maken | B37: Fantasiedier/ Insect | G37: FALSE
A38: Keuzemenu | G38: FALSE
A39: Keuzemenu | G39: FALSE
A40: WK40: 28 t/m 2 okt. | B40: TAKEN & OPDRACHTEN | H40: FALSE | I40: FALSE
A41: Maken | B41: 4T fantasiedier | G41: FALSE
A42: Keuzemenu | G42: FALSE
A43: Keuzemenu | G43: FALSE
...

Sheet WI
B1: WISKUNDE (WI) | K1: PERIODE 1
A3: ALGEMENE INFORMATIE
A4: Wat neem je mee? - 1 leerboek - Ruitjesschrift (A4, 1 cm ruit) - iPad (opgeladen) - Oortjes - Rekenmachine - Etui met daarin: Blauwe of zwarte pennen, potlood (HB) of vulpotlood, gum, geodriehoek, passer, kleurpotloden en puntenslijper.
A6: NB. De Daltontaken (optioneel) zijn taken die je maakt als al je huiswerk af is. Niet verplicht, maar wel gewenst!
A9: VAKINHOUD | H9: IK HEB HET GEDAAN | I9: IK BEHEERS HET | J9: RUIMTE VOOR REFLECTIE
A10: WK35: 24 t/m 28 aug. | B10: TAKEN & OPDRACHTEN | H10: TRUE | I10: TRUE
A11: Leren | B11: Aan de slag! (blz. 6 en 7) | G11: FALSE
A12: Lezen | B12: H1 Ruimtefiguren (boek A) Theorie H1 §1 (blz. 12 en blz. 14) Theorie H1 §2 (blz. 17 en 18) | G12: FALSE
A13: Maken & Nakijken | B13: H1 §1 Opgave 1, 3, 5 t/m 7, U1 en U2 (blz. 12) H1 §2 Opgave 8 t/m 10, 12, 13 en U3 (blz. 16) | G13: FALSE
A14: Daltontaak (optioneel) | B14: Blooket (H HV V 1 Hoofdstuk 1 Ruimtefiguren Voorkennis) | G14: FALSE
A15: Keuzemenu | G15: FALSE
A16: WK36: 31 t/m 4 sep. | B16: TAKEN & OPDRACHTEN | H16: FALSE | I16: FALSE
A17: Lezen | B17: Theorie H1 §3 (blz. 20) Theorie H1 §4 (blz. 24 en 26) | G17: FALSE
A18: Maken & Nakijken | B18: H1 §3 Opgave 14, 16 t/m 19 en U4 (blz. 20) H1 §4 Opgave 20, 22 t/m 26 en U5 (blz. 24) | G18: FALSE
A19: Keuzemenu | G19: FALSE
A20: Keuzemenu | G20: FALSE
A21: Keuzemenu | G21: FALSE
A22: WK37: 7 t/m 11 sep. Examenreisweek | B22: TAKEN & OPDRACHTEN | H22: FALSE | I22: FALSE
A23: Lezen | B23: Theorie H1 §5 (blz. 28) Theorie §Vwo (blz. 44) | G23: FALSE
A24: Maken & Nakijken | B24: H1 §5 Opgave 27, 28, 30, 31 en U6 (blz. 28) H1 §6 Opgave G1 t/m G7 (blz. 34) H1 §Vwo Opgave 1 t/m 4 (blz. 44) | G24: FALSE
A25: Daltontaak (optioneel) | B25: Wiskunde is overal (blz. 32) | G25: FALSE
A26: Leren | B26: Theorie H1 (blz. 12 t/m 45) | G26: FALSE
A27: Keuzemenu | G27: FALSE
A28: WK38: 14 t/m 18 sep. | B28: TAKEN & OPDRACHTEN | H28: FALSE | I28: FALSE
A29: Maken & Nakijken | B29: H1 Oefenproefwerk Opgave P1 t/m P7 (blz. 42) | G29: FALSE
A30: Leren | B30: Theorie H1 (blz. 12 t/m 45) | G30: FALSE
A31: Toets | B31: 2T H1 Ruimtefiguren | G31: FALSE
A32: Lezen | B32: H2 Rekenen met getallen (boek A) Theorie H2 §1 (blz. 50 t/m 52) | G32: FALSE
A33: Maken & Nakijken | B33: H2 §1 Opgave 1 t/m 4, 6 t/m 9 en U1 (blz. 50) | G33: FALSE
A34: WK39: 21 t/m 25 sep. | B34: TAKEN & OPDRACHTEN | H34: FALSE | I34: FALSE
A35: Lezen | B35: Theorie H2 §2 (blz. 54 t/m 56) Theorie H2 §3 (blz. 58 t/m 60) Theorie H2 §4 (blz. 63 en 64) | G35: FALSE
A36: Maken & Nakijken | B36: H2 §2 Opgave 10 t/m 16, 18 en U2 (blz. 54) H2 §3 Opgave 19, 21 t/m 27 en U3 (blz. 58) H2 §4 Opgave 28, 30 t/m 36 en U4 (blz. 62) | G36: FALSE
A37: Daltontaak | B37: Blooket (H HV V 1 Hoofdstuk 2 Rekenen met getallen Voorkennis) Blooket (H HV V 1 Hoofdstuk 3 Grafieken Voorkennis) | G37: FALSE
A38: Keuzemenu | G38: FALSE
A39: Keuzemenu | G39: FALSE
A40: WK40: 28 t/m 2 okt. | B40: TAKEN & OPDRACHTEN | H40: FALSE | I40: FALSE
A41: Lezen | B41: Theorie H2 §5 (blz. 66 t/m 68) Theorie H2 §6 (blz. 70 en 71) H3 Grafieken (boek A) Theorie H3 §1 (blz. 90 en 91) | G41: FALSE
A42: Maken & Nakijken | B42: H2 §5 Opgave 37, 38, 40 t/m 43, U5 en U6 (blz. 66) H2 §6 Opgave 45 t/m 53 (blz. 70) H3 §1 Opgave 1 t/m 3, 5, 6 en U1 (blz. 90) | G42: FALSE
A43: Daltontaak | B43: H2 Wiskunde is overal (blz. 74) | G43: FALSE
A44: Keuzemenu | G44: FALSE
...
