Workbook

Sheet Overzicht
A2: AK | D2: BI | G2: DU | J2: EN | M2: FA | P2: GS | S2: HV | V2: NS | Y2: NE | AB2: RSCH | AE2: SP | AH2: WI
A3: WK 35 | B3: =AK!H10 -> FALSE | D3: WK 35 | E3: =BI!H16 -> FALSE | G3: WK 35 | H3: =DU!H16 -> FALSE | J3: WK 35 | K3: =EN!H16 -> FALSE | M3: WK 35 | N3: =FA!H16 -> FALSE | P3: WK 35 | Q3: =GS!H16 -> FALSE | S3: WK 35 | T3: =HV!H16 -> FALSE | V3: WK 35 | W3: =NS!H16 -> FALSE | Y3: WK 35 | Z3: =NE!H16 -> FALSE | AB3: WK 35 | AC3: =RSCH!H16 -> FALSE | AE3: WK 35 | AF3: =SP!H16 -> FALSE | AH3: WK 35 | AI3: =WI!H16 -> FALSE
A4: WK 36 | B4: =AK!H16 -> FALSE | D4: WK 36 | E4: =BI!H22 -> FALSE | G4: WK 36 | H4: =DU!H22 -> FALSE | J4: WK 36 | K4: =EN!H22 -> FALSE | M4: WK 36 | N4: =FA!H22 -> FALSE | P4: WK 36 | Q4: =GS!H22 -> FALSE | S4: WK 36 | T4: =HV!H22 -> FALSE | V4: WK 36 | W4: =NS!H22 -> FALSE | Y4: WK 36 | Z4: =NE!H22 -> FALSE | AB4: WK 36 | AC4: =RSCH!H22 -> FALSE | AE4: WK 36 | AF4: =SP!H22 -> FALSE | AH4: WK 36 | AI4: =WI!H22 -> FALSE
A5: WK 37 | B5: =AK!H22 -> FALSE | D5: WK 37 | E5: =BI!H28 -> FALSE | G5: WK 37 | H5: =DU!H28 -> FALSE | J5: WK 37 | K5: =EN!H28 -> FALSE | M5: WK 37 | N5: =FA!H28 -> FALSE | P5: WK 37 | Q5: =GS!H28 -> FALSE | S5: WK 37 | T5: =HV!H28 -> FALSE | V5: WK 37 | W5: =NS!H28 -> FALSE | Y5: WK 37 | Z5: =NE!H28 -> FALSE | AB5: WK 37 | AC5: =RSCH!H28 -> FALSE | AE5: WK 37 | AF5: =SP!H28 -> FALSE | AH5: WK 37 | AI5: =WI!H28 -> FALSE
A6: WK 38 | B6: =AK!H28 -> FALSE | D6: WK 38 | E6: =BI!H35 | G6: WK 38 | H6: =DU!H35 | J6: WK 38 | K6: =EN!H35 | M6: WK 38 | N6: =FA!H35 | P6: WK 38 | Q6: =GS!H35 | S6: WK 38 | T6: =HV!H35 | V6: WK 38 | W6: =NS!H35 | Y6: WK 38 | Z6: =NE!H35 | AB6: WK 38 | AC6: =RSCH!H35 | AE6: WK 38 | AF6: =SP!H35 | AH6: WK 38 | AI6: =WI!H35
A7: WK 39 | B7: =AK!H34 -> FALSE | D7: WK 39 | E7: =BI!H41 | G7: WK 39 | H7: =DU!H41 | J7: WK 39 | K7: =EN!H41 | M7: WK 39 | N7: =FA!H41 | P7: WK 39 | Q7: =GS!H41 | S7: WK 39 | T7: =HV!H41 | V7: WK 39 | W7: =NS!H41 | Y7: WK 39 | Z7: =NE!H41 | AB7: WK 39 | AC7: =RSCH!H41 | AE7: WK 39 | AF7: =SP!H41 | AH7: WK 39 | AI7: =WI!H41
A8: WK 40 | B8: =AK!H40 -> FALSE | D8: WK 40 | E8: =BI!H47 | G8: WK 40 | H8: =DU!H47 | J8: WK 40 | K8: =EN!H47 | M8: WK 40 | N8: =FA!H47 | P8: WK 40 | Q8: =GS!H47 | S8: WK 40 | T8: =HV!H47 | V8: WK 40 | W8: =NS!H47 | Y8: WK 40 | Z8: =NE!H47 | AB8: WK 40 | AC8: =RSCH!H47 | AE8: WK 40 | AF8: =SP!H47 | AH8: WK 40 | AI8: =WI!H47
A9: WK 41 | B9: =AK!H46 -> FALSE | D9: WK 41 | E9: =BI!H54 | G9: WK 41 | H9: =DU!H54 | J9: WK 41 | K9: =EN!H54 | M9: WK 41 | N9: =FA!H54 | P9: WK 41 | Q9: =GS!H54 | S9: WK 41 | T9: =HV!H54 | V9: WK 41 | W9: =NS!H54 | Y9: WK 41 | Z9: =NE!H54 | AB9: WK 41 | AC9: =RSCH!H54 | AE9: WK 41 | AF9: =SP!H54 | AH9: WK 41 | AI9: =WI!H54
A10: WK 43 | B10: =AK!H53 -> FALSE | D10: WK 43 | E10: =BI!H60 | G10: WK 43 | H10: =DU!H60 | J10: WK 43 | K10: =EN!H60 | M10: WK 43 | N10: =FA!H60 | P10: WK 43 | Q10: =GS!H60 | S10: WK 43 | T10: =HV!H60 | V10: WK 43 | W10: =NS!H60 | Y10: WK 43 | Z10: =NE!H60 | AB10: WK 43 | AC10: =RSCH!H60 | AE10: WK 43 | AF10: =SP!H60 | AH10: WK 43 | AI10: =WI!H60

Sheet AK
B1: AARDRIJKSKUNDE (AK) | K1: PERIODE 1
A3: ALGEMENE INFORMATIE
A4: Welkomswoordje
A5: Wat gaan we deze periode doen? Wat is de Daltontaak? Wat houd de Daltontaak in?
A6: Welke boeken/spullen/materialen zijn er nodig?
A7: Wat moet je geleerd hebben na deze periode?
A9: VAKINHOUD | H9: IK HEB HET GEDAAN | I9: IK BEHEERS HET | J9: RUIMTE VOOR REFLECTIE
A10: WK35: 24 t/m 28 aug. | B10: TAKEN & OPDRACHTEN | H10: FALSE | I10: FALSE
A11: Keuzemenu | B11: Kies voor de studiewijzer van Havo 2 wanneer je het havo programma volgt | G11: FALSE
A12: Keuzemenu | G12: FALSE
A13: Keuzemenu | B13: Kies voor de studiewijzer van VWO 2 wanneer je het vwo programma volgt | G13: FALSE
A14: Keuzemenu | G14: FALSE
A15: Keuzemenu | G15: FALSE
A16: WK36: 31 t/m 4 sep. | B16: TAKEN & OPDRACHTEN | H16: FALSE | I16: FALSE
A17: Keuzemenu | G17: FALSE
A18: Keuzemenu | G18: FALSE
A19: Keuzemenu | G19: FALSE
A20: Keuzemenu | G20: FALSE
A21: Keuzemenu | G21: FALSE
A22: WK37: 7 t/m 11 sep. Examenreisweek | B22: TAKEN & OPDRACHTEN | H22: FALSE | I22: FALSE
A23: Keuzemenu | G23: FALSE
A24: Keuzemenu | G24: FALSE
A25: Keuzemenu | G25: FALSE
A26: Keuzemenu | G26: FALSE
A27: Keuzemenu | G27: FALSE
A28: WK38: 14 t/m 18 sep. | B28: TAKEN & OPDRACHTEN | H28: FALSE | I28: FALSE
A29: Keuzemenu | G29: FALSE
A30: Keuzemenu | G30: FALSE
A31: Keuzemenu | G31: FALSE
A32: Keuzemenu | G32: FALSE
A33: Keuzemenu | G33: FALSE
A34: WK39: 21 t/m 25 sep. | B34: TAKEN & OPDRACHTEN | H34: FALSE | I34: FALSE
A35: Keuzemenu | G35: FALSE
A36: Keuzemenu | G36: FALSE
A37: Keuzemenu | G37: FALSE
A38: Keuzemenu | G38: FALSE
A39: Keuzemenu | G39: FALSE
A40: WK40: 28 t/m 2 okt. | B40: TAKEN & OPDRACHTEN | H40: FALSE | I40: FALSE
A41: Keuzemenu | G41: FALSE
A42: Keuzemenu | G42: FALSE
...

Sheet BI
B1: BIOLOGIE (BI) | K1: PERIODE 1
A3: ALGEMENE INFORMATIE
A4: Welkomswoordje
A5: Wat gaan we deze periode doen? Wat is de Daltontaak? Wat houd de Daltontaak in?
A6: Welke boeken/spullen/materialen zijn er nodig?
A7: Wat moet je geleerd hebben na deze periode?
A9: VAKINHOUD | H9: IK HEB HET GEDAAN | I9: IK BEHEERS HET | J9: RUIMTE VOOR REFLECTIE
A10: WK35: 24 t/m 28 aug. | B10: TAKEN & OPDRACHTEN | H10: FALSE | I10: FALSE
A11: Lezen | B11: 8.1 Wat is gezond eten? 8.2 Voedingsmiddelen en voedingsstoffen | G11: FALSE
A12: Maken & Nakijken | B12: De opdrachten van 8.1 en 8.2 | G12: FALSE
A13: Practicum | B13: Zetmeel in voedingsmiddelen (8.2) | G13: FALSE
A14: Leren | B14: Begrippen van 8.1 en 8.2 | G14: FALSE
A15: Keuzemenu | G15: FALSE
A16: WK36: 31 t/m 4 sep. | B16: TAKEN & OPDRACHTEN | H16: FALSE | I16: FALSE
A17: Lezen | B17: 8.3 Van mond tot maag 8.4 Verteren, opnemen en uitscheiden | G17: FALSE
A18: Maken & Nakijken | B18: De opdrachten van 8.3 en 8.4 | G18: FALSE
A19: Practicum | B19: De werking van speeksel (8.3) | G19: FALSE
A20: Leren | B20: Begrippen van 8.1 t/m 8.4 | G20: FALSE
A21: Keuzemenu | G21: FALSE
A22: WK37: 7 t/m 11 sep. Examenreisweek | B22: TAKEN & OPDRACHTEN | H22: FALSE | I22: FALSE
A23: Toets | B23: Formatieve toets: 8.1 t/m 8.4 | G23: FALSE
A24: Herhalen | B24: Begrippen 8.1 t/m 8.4 | G24: FALSE
A25: Lezen | B25: 8.8 Microbiomen | G25: FALSE
A26: Maken & Nakijken | B26: De opdrachten van 8.8 | G26: FALSE
A27: Practicum | B27: Bacteriën in je mond (Startopdracht) | G27: FALSE
A28: WK38: 14 t/m 18 sep. | B28: TAKEN & OPDRACHTEN | H28: FALSE | I28: FALSE
A29: Lezen | B29: 8.5 Gezond of ongezond voedsel 8.6 Eten en verteren bij dieren | G29: FALSE
A30: Maken & Nakijken | B30: De opdrachten van 8.5 en 8.6 8.9 Hoofdstukafsluiting | G30: FALSE
A31: Leren | B31: Begrippen 8.1 t/m 8.4 & Samenvatting H8 (let op: leer ook de genoemde afbeeldingen) | G31: FALSE
A32: Keuzemenu | G32: FALSE
A33: Keuzemenu | G33: FALSE
A34: WK39: 21 t/m 25 sep. | B34: TAKEN & OPDRACHTEN | H34: FALSE | I34: FALSE
A35: Toets | B35: 2-toets H8 Voeding en verteren | G35: FALSE
A36: Lezen | B36: 10.1 Waarom adem je? | G36: FALSE
A37: Maken & Nakijken | B37: De opdrachten van 10.1 | G37: FALSE
A38: Leren | B38: Begrippen 10.1 | G38: FALSE
A39: Keuzemenu | G39: FALSE
A40: WK40: 28 t/m 2 okt. | B40: TAKEN & OPDRACHTEN | H40: FALSE | I40: FALSE
A41: Lezen | B41: 10.2 Ademhalen 10.3 Gaswisseling | G41: FALSE
A42: Maken & Nakijken | B42: De opdrachten van 10.2 en 10.3 | G42: FALSE
...

Sheet DU
B1: DUITS (DU) | K1: PERIODE 1
A3: ALGEMENE INFORMATIE
A4: Studiewijzer vor HV2 Periode 1
A5: Herzlich Willkommen! Duits is een nieuw vak in de tweede klas. We werken met de methode Neue Kontakte. Ook is er de online omgeving, waar je via Som kunt inloggen en zelfstandig aan te slag kunt. Daar kun je ook jezelf overhoren als je de woordenlijst geleerd hebt of zelfstandig de luisteropdrachten maken. Een paar keer per jaar zul je ook in groepjes aan een project gaan werken. Viel Spaß (veel plezier)
A6: boek Neue Kontakte, neem die altijd mee. de weekplanner die wij op het bord laten zien zijn leidend.
A7: Jij hebt nodig: een schrift, een pen en jouw Neue Kontakte boek A
A9: VAKINHOUD | H9: IK HEB HET GEDAAN | I9: IK BEHEERS HET | J9: RUIMTE VOOR REFLECTIE
A10: WK35: 24 t/m 28 aug. | B10: TAKEN & OPDRACHTEN | H10: FALSE | I10: FALSE
A11: Doen | B11: Kennismaking met het vak Duits. | G11: FALSE
A12: Kijken & Luisteren | B12: Wij beginnen met het uitleggen van het boek | G12: FALSE
A13: Kijken & Luisteren | B13: Kennismaken met Duits/Duitsland en wat week jij allemaal | G13: FALSE
A14: Kijken & Luisteren | B14: Hoofstuk 1 Ich | G14: FALSE
A15: Daltontaak (verplicht) | B15: Leer de Lernliste van hoodstuk 1 pagina 30 | G15: FALSE
A16: WK36: 31 t/m 4 sep. | B16: TAKEN & OPDRACHTEN | H16: FALSE | I16: FALSE
A17: Kijken & Luisteren | B17: A Sehen 1-3 | G17: FALSE
A18: Luisteren & Maken | B18: B Wortschatz 4-9 | G18: FALSE
A19: Maken & Nakijken | B19: C Lezen 8-9 | G19: FALSE
A20: Grammatik | B20: D Grammatik 10-12 | G20: FALSE
A21: Daltontaak (verplicht) | B21: Leer de Lernliste van hoodstuk 1 pagina 30 -31 | G21: FALSE
A22: WK37: 7 t/m 11 sep. Examenreisweek | B22: TAKEN & OPDRACHTEN | H22: FALSE | I22: FALSE
A23: Luisteren & Maken | B23: E Hören 11 -19 | G23: FALSE
A24: Spreken | B24: F Sprechen 20 - 22 | G24: FALSE
A25: Grammatik | B25: Herhalen hoofdstuk 1 afsluiten | G25: FALSE
A26: Keuzemenu | G26: FALSE
A27: Daltontaak (verplicht) | B27: Leer de Lernliste van hoodstuk 1 pagina 30 -31 en de grammatik, opdrachten van het hoofdstuk nog niet af, in het Daltonuur afmaken. | G27: FALSE
A28: WK38: 14 t/m 18 sep. | B28: TAKEN & OPDRACHTEN | H28: FALSE | I28: FALSE
A29: Kijken & Luisteren | B29: Hoodstuk 2 Wir | G29: FALSE
A30: Kijken & Luisteren | B30: A Sehen und B Wortschatz | G30: FALSE
A31: Maken & Nakijken | B31: C Hören und D Sehen | G31: FALSE
A32: Grammatik | B32: E Grammatik | G32: FALSE
A33: Daltontaak (verplicht) | B33: Leer de Lernliste van hoodstuk 2 pagina 64-65, opdrachten van het hoofdstuk nog niet af, in het Daltonuur afmaken. | G33: FALSE
A34: WK39: 21 t/m 25 sep. | B34: TAKEN & OPDRACHTEN | H34: FALSE | I34: FALSE
A35: Spreken | B35: F Sprechen | G35: FALSE
A36: Schrijven | B36: G Schreiben | G36: FALSE
A37: Lezen | B37: H Lezen | G37: FALSE
A38: Doen | B38: afsluiten hoodstuk 2 Let op leer voor de woordjestoets | G38: FALSE
A39: Daltontaak (verplicht) | B39: Leer de Lernliste van hoodstuk 2 pagina 64 -65 en de grammatik, opdrachten van het hoofdstuk nog niet af, in het Daltonuur afmaken. | G39: FALSE
A40: WK40: 28 t/m 2 okt. | B40: TAKEN & OPDRACHTEN | H40: FALSE | I40: FALSE
A41: Toets | B41: Woordjestoets van hoofdstuk 1 en 2 | G41: FALSE
A42: Kijken & Luisteren | B42: Toets bespreken | G42: FALSE
...

Sheet EN
B1: ENGELS (EN) | K1: PERIODE 1
A3: ALGEMENE INFORMATIE
A4: Make sure to bring your English book (All right!), your English notebook, iPad and writing materials to each class.
A9: VAKINHOUD | H9: IK HEB HET GEDAAN | I9: IK BEHEERS HET | J9: RUIMTE VOOR REFLECTIE
A10: WK35: 24 t/m 28 aug. | B10: TAKEN & OPDRACHTEN | H10: FALSE | I10: FALSE
A11: Maken | B11: Weektaak: Unit 1: lesson 1 Crossing Borders + Unit 1: Lesson 2 (part 1) | G11: FALSE
A12: Leren | B12: Study box 2 on page 41 | G12: FALSE
A13: Daltontaak (verplicht) | B13: Pick up Frankenstein from the school library | G13: FALSE
A14: Keuzemenu | G14: FALSE
A15: Keuzemenu | G15: FALSE
A16: WK36: 31 t/m 4 sep. | B16: TAKEN & OPDRACHTEN | H16: FALSE | I16: FALSE
A17: Maken | B17: Weektaak: Unit 1: lesson 2 (part 2) + lesson 3 (part 3) | G17: FALSE
A18: Leren | B18: Study box 3 words AND expressions A-D on pages 43-44 | G18: FALSE
A19: Daltontaak (verplicht) | B19: Do Unit 1: lesson 2 exercise 12 or 13 | G19: FALSE
A20: Daltontaak (verplicht) | B20: Read Frankenstein and do the assignments | G20: FALSE
G21: FALSE
A22: WK37: 7 t/m 11 sep. Examenreisweek | B22: TAKEN & OPDRACHTEN | H22: FALSE | I22: FALSE
A23: Maken | B23: Weektaak: Unit 1: lesson 4 | G23: FALSE
A24: Maken | B24: Unit 1: lesson 4 exercise 12 or 13 | G24: FALSE
A25: Daltontaak (verplicht) | B25: Make a plan to study for your English test in week 39 | G25: FALSE
A26: Daltontaak (verplicht) | B26: Read Frankenstein and do the assignments | G26: FALSE
A27: Leren | B27: Study box 4 on pages 44-45 | G27: FALSE
A28: WK38: 14 t/m 18 sep. | B28: TAKEN & OPDRACHTEN | H28: FALSE | I28: FALSE
A29: Maken | B29: Weektaak: Unit 1: lesson 5 | G29: FALSE
A30: Maken | B30: do Unit 1: lesson 5 exercise 11 or 12 | G30: FALSE
A31: Daltontaak (optioneel) | B31: extra practice for 2TEST Unit 1: do 'versterk jezelf' online | G31: FALSE
A32: Daltontaak (verplicht) | B32: read Frankenstein and do the assignments | G32: FALSE
A33: Leren | B33: study box 5 on page 46 AND expressions E-F on page 47 | G33: FALSE
A34: WK39: 21 t/m 25 sep. | B34: TAKEN & OPDRACHTEN | H34: FALSE | I34: FALSE
A35: Maken | B35: Weektaak: extra practice for 2T Unit 1 + Unit 2: Lesson 1 | G35: FALSE
G36: FALSE
A37: Herhalen | B37: study vocabulary and expressions for 2T Unit 1 | G37: FALSE
A38: Daltontaak (verplicht) | B38: read Frankenstein and do the assignments | G38: FALSE
A39: Toets | B39: 2TEST Unit 1 | G39: FALSE
A40: WK40: 28 t/m 2 okt. | B40: TAKEN & OPDRACHTEN | H40: FALSE | I40: FALSE
A41: Maken | B41: Weektaak: Unit 2: lesson 2 | G41: FALSE
A42: Maken | B42: do Unit 2: lesson 2 exercise 14 or 15 | G42: FALSE
A43: Daltontaak (verplicht) | B43: do Unit 1: lesson 6 Literature (Marilyn Monroe) | G43: FALSE
A44: Daltontaak (verplicht) | B44: read Frankenstein and do the assignments | G44: FALSE
A45: Leren | B45: study box 2 on page 83 AND irregular verbs (handout) | G45: FALSE
...

Sheet FA
B1: FRANS (FA) | K1: PERIODE 1
A3: ALGEMENE INFORMATIE
A4: Om goed Frans te leren is het belangrijk dat je actief bezig blijft met REGARDER (kijken) , LIRE (lezen), GRAMMAIRE (grammatica), ÉCOUTER (luisteren), PARLER (spreken) en ÉCRIRE (schrijven). Tijdens de instructie-lessen wordt er klassikaal stilgestaan bij onderdelen uit het boek. Tijdens de Daltonuren werk je aan je huiswerk èn aan Dalton-opdrachten voor Frans. Vragen mag je altijd stellen!
A6: Wat neem je mee naar de les? Boek (Libre Service Junior deel A), oortjes of koptelefoon en une bonne humeur ;-)
A7: In Unité 1 behandelen we het thema Voyages (reizen). Je kunt eenvoudige informatie vragen en geven over reizen. Je kunt vertellen waar je op vakantie bent geweest.
A9: VAKINHOUD | H9: IK HEB HET GEDAAN | I9: IK BEHEERS HET | J9: RUIMTE VOOR REFLECTIE
A10: WK35: 24 t/m 28 aug. | B10: TAKEN & OPDRACHTEN | H10: FALSE | I10: FALSE
A11: Keuzemenu | B11: start lessen Frans | G11: FALSE
A12: Herhalen | B12: Questions personnelles | G12: FALSE
A13: Leren | B13: voca Unité 1 liste A | G13: FALSE
A14: Keuzemenu | G14: FALSE
A15: Keuzemenu | G15: FALSE
A16: WK36: 31 t/m 4 sep. | B16: TAKEN & OPDRACHTEN | H16: FALSE | I16: FALSE
A17: Kijken & Luisteren | B17: REGARDER : exercices 1&2, page 10 | G17: FALSE
A18: Lezen | B18: LIRE : exercices 5 (1&3), 6 (1-8) pages 12,13,14 | G18: FALSE
A19: Leren | B19: voca Unité 1 liste A | G19: FALSE
A20: Herhalen | B20: Questions personnelles | G20: FALSE
A21: Keuzemenu | G21: FALSE
A22: WK37: 7 t/m 11 sep. Examenreisweek | B22: TAKEN & OPDRACHTEN | H22: FALSE | I22: FALSE
A23: Maken | B23: GRAMMAIRE I : 8C, 8E, pages 16,17 | G23: FALSE
A24: Leren | B24: voca Unité 1 liste A | G24: FALSE
A25: Herhalen | B25: Questions personnelles | G25: FALSE
A26: Keuzemenu | G26: FALSE
A27: Keuzemenu | G27: FALSE
A28: WK38: 14 t/m 18 sep. | B28: TAKEN & OPDRACHTEN | H28: FALSE | I28: FALSE
A29: Toets | B29: Test cumulatif Unité 1 liste A | G29: FALSE
A30: Luisteren | B30: ÉCOUTER Dialogues 1&2 (page 20) | G30: FALSE
A31: Maken | B31: Exercices 12,13 (pages 20,21) | G31: FALSE
A32: Herhalen | B32: GRAMMAIRE II Exercices 16A (page 23), 16D (page 25) | G32: FALSE
A33: Keuzemenu | G33: FALSE
A34: WK39: 21 t/m 25 sep. | B34: TAKEN & OPDRACHTEN | H34: FALSE | I34: FALSE
A35: Oefenen | B35: PARLER Exercices 18,21,22 (pages 29,30,31) | G35: FALSE
A36: Maken | B36: ÉCRIRE Exercices 24,25,26 | G36: FALSE
A37: Leren | B37: Voca Unité 1 liste B (Quizlet) & Questions personnelles | G37: FALSE
A38: Keuzemenu | G38: FALSE
A39: Keuzemenu | G39: FALSE
A40: WK40: 28 t/m 2 okt. | B40: TAKEN & OPDRACHTEN | H40: FALSE | I40: FALSE
A41: Maken | B41: ÉCRIRE Exercices 28,29 | G41: FALSE
A42: Toets | B42: Test cumulatif Unité 1 liste B | G42: FALSE
A43: Leren | B43: Questions personnelles | G43: FALSE
...

Sheet GS
B1: GESCHIEDENIS (GS) | K1: PERIODE 1
A3: ALGEMENE INFORMATIE
A5: In Havo 2 en Havo/Vwo 2 werken we met het boek Feniks 2 Havo. Voor de toetsen leer je altijd de begrippen, de leerteksten en maak je opdrachten in het werkboek of in Learnbeat. Werkboek of Learnbeat beslist de docent.
A6: We starten dit jaar met het tijdvak 'Ontdekkers en hervormers' (1500-1600), daarna 'Steden en Staten' (1600-1700), gevolgd door Regenten en vorsten'. Als laatste tijdvak behandelen we 'Burgers en stoommachines (1800-1900)'.
A9: VAKINHOUD | H9: IK HEB HET GEDAAN | I9: IK BEHEERS HET | J9: RUIMTE VOOR REFLECTIE
A10: WK35: 24 t/m 28 aug. | B10: TAKEN & OPDRACHTEN | H10: FALSE | I10: FALSE
A11: Lezen | B11: Introductie 'Geschiedenis' | G11: FALSE
A12: Lezen | B12: Starten met Blz. 6-7 | G12: FALSE
A13: Lezen | B13: Starten met 1.1 | G13: FALSE
A14: Maken & Nakijken | B14: alles van Orientatie (dit bepaalt de docent) | G14: FALSE
A15: Keuzemenu | G15: FALSE
A16: WK36: 31 t/m 4 sep. | B16: TAKEN & OPDRACHTEN | H16: FALSE | I16: FALSE
A17: Lezen | B17: 1.1 Handel met Indië blz. 8 t/m 11 | G17: FALSE
A18: Maken & Nakijken | B18: Alles van 1.1 | G18: FALSE
A19: Leren | B19: Begrippen: 'tussenhandel', 'wereldbeeld'. Continuiteit en verandering (blz. 10). | G19: FALSE
A20: Keuzemenu | G20: FALSE
A21: Keuzemenu | G21: FALSE
A22: WK37: 7 t/m 11 sep. Examenreisweek | B22: TAKEN & OPDRACHTEN | H22: FALSE | I22: FALSE
A23: Lezen | B23: 1.2 Over zee naar het oosten | G23: FALSE
A24: Maken & Nakijken | B24: Alles van 1.2 | G24: FALSE
A25: Leren | B25: 1.2 blz. 12 t/m 15 | G25: FALSE
A26: Leren | B26: factorijen, monopolie, | G26: FALSE
A27: Leren | B27: de leerdoelen van 1.2 | G27: FALSE
A28: WK38: 14 t/m 18 sep. | B28: TAKEN & OPDRACHTEN | H28: FALSE | I28: FALSE
A29: Maken | B29: Samenvatting 1.1 en 1.2 | G29: FALSE
A30: Leren | B30: De begrippen. | G30: FALSE
A31: Herhalen | B31: de leerdoelen van 1.1 en 1.2 | G31: FALSE
A32: Keuzemenu | G32: FALSE
A33: Keuzemenu | G33: FALSE
A34: WK39: 21 t/m 25 sep. | B34: TAKEN & OPDRACHTEN | H34: FALSE | I34: FALSE
A35: Lezen | B35: 1.3 Over zee naar het westen | G35: FALSE
A36: Maken | B36: 1.3 1 t/m 9 | G36: FALSE
A37: Leren | B37: inheemse, Azteken, Inca's ,kolonisatie (sommige woorden staan niet in de begrippenlijst maar zijn wel belangrijk) | G37: FALSE
A38: Leren | B38: de leerdoelen van 1.3 | G38: FALSE
A39: Keuzemenu | G39: FALSE
A40: WK40: 28 t/m 2 okt. | B40: TAKEN & OPDRACHTEN | H40: FALSE | I40: FALSE
A41: Toets | B41: 2toets over 1.1, 1.2 en 1.3 begrippen en leerdoelen | G41: FALSE
A42: Keuzemenu | G42: FALSE
A43: Keuzemenu | G43: FALSE
A44: Keuzemenu | G44: FALSE
...

Sheet HV
B1: HANDVAARDIGHEID (HV) | K1: PERIODE 1
A3: ALGEMENE INFORMATIE
A4: Welkomswoordje
A5: Wat gaan we deze periode doen? Wat is de Daltontaak? Wat houd de Daltontaak in?
A6: Welke boeken/spullen/materialen zijn er nodig?
A7: Wat moet je geleerd hebben na deze periode?
A9: VAKINHOUD | H9: IK HEB HET GEDAAN | I9: IK BEHEERS HET | J9: RUIMTE VOOR REFLECTIE
A10: WK35: 24 t/m 28 aug. | B10: TAKEN & OPDRACHTEN | H10: FALSE | I10: FALSE
A11: Kijken & Luisteren | B11: Uitleg regels hanvaardigheid lokaal en algemene instructies | G11: FALSE
A12: Kijken & Luisteren | B12: Instructies Map ontwerp | G12: FALSE
A13: Maken | B13: Begin ontwerpen Map 2T | G13: FALSE
A14: Keuzemenu | G14: FALSE
A15: Keuzemenu | G15: FALSE
A16: WK36: 31 t/m 4 sep. | B16: TAKEN & OPDRACHTEN | H16: FALSE | I16: FALSE
A17: Maken | B17: Mapontwerp maken | G17: FALSE
A18: Keuzemenu | G18: FALSE
A19: Keuzemenu | G19: FALSE
A20: Keuzemenu | G20: FALSE
A21: Keuzemenu | G21: FALSE
A22: WK37: 7 t/m 11 sep. Examenreisweek | B22: TAKEN & OPDRACHTEN | H22: FALSE | I22: FALSE
A23: Maken | B23: Mapontwerp afmaken | G23: FALSE
A24: Keuzemenu | G24: FALSE
A25: Keuzemenu | G25: FALSE
A26: Keuzemenu | G26: FALSE
A27: Keuzemenu | G27: FALSE
A28: WK38: 14 t/m 18 sep. | B28: TAKEN & OPDRACHTEN | H28: FALSE | I28: FALSE
A29: Kijken & Luisteren | B29: Instructies klei | G29: FALSE
A30: Maken | B30: Duimpotje of Tegel maken en decoreren 2T | G30: FALSE
A31: Keuzemenu | G31: FALSE
A32: Keuzemenu | G32: FALSE
A33: Keuzemenu | G33: FALSE
A34: WK39: 21 t/m 25 sep. | B34: TAKEN & OPDRACHTEN | H34: FALSE | I34: FALSE
A35: Maken | B35: Duimpotje of Tegel maken en decoreren | G35: FALSE
A36: Keuzemenu | G36: FALSE
A37: Keuzemenu | G37: FALSE
A38: Keuzemenu | G38: FALSE
A39: Keuzemenu | G39: FALSE
A40: WK40: 28 t/m 2 okt. | B40: TAKEN & OPDRACHTEN | H40: FALSE | I40: FALSE
A41: Kijken & Luisteren | B41: Instructies Klei-opdracht | G41: FALSE
A42: Maken | B42: Begin Kleiwerkstuk 4T | G42: FALSE
...

Sheet NS
B1: NATUUR- EN SCHEIKUNDE (NS) | K1: PERIODE 1
A3: ALGEMENE INFORMATIE
A4: Deze periode bespreken we Hoofdstuk 1 en 2 van het boek overal Nask
A5: In Learnbeat staat aanvullende informatie zoals practica en oefenmateriaal
A6: In de standaard uitrusting voor de NaSk les heb je nodig: een ruitjesschrift (1x1 cm), een rekenmachine, Geodriehoek pen en potlood.
A7: Na deze periode heb je geleerd over onderzoek bij Natuurkunde en Scheikunde en over licht, lenzen en kleuren.
A9: VAKINHOUD | H9: IK HEB HET GEDAAN | I9: IK BEHEERS HET | J9: RUIMTE VOOR REFLECTIE
A10: WK35: 24 t/m 28 aug. | B10: TAKEN & OPDRACHTEN | H10: FALSE | I10: FALSE
A11: Lezen | B11: van § 2.1 Licht en schaduw de theorie op blz. 40 t/m 42. | G11: FALSE
A12: Maken & Nakijken | B12: van § 2.1 opdrachten 1 t/m 10 op blz. 43 t/m 44. | G12: FALSE
A13: Daltontaak (verplicht) | B13: Controleer hoe goed je de zes leerdoelen van § 2.1 op blz. 44 beheerst, door te Maken & Nakijken: Gemengde opdrachten 69 en 74 op blz. 66 en 67. | G13: FALSE
A14: Keuzemenu | G14: FALSE
A15: Keuzemenu | G15: FALSE
A16: WK36: 31 t/m 4 sep. | B16: TAKEN & OPDRACHTEN | H16: FALSE | I16: FALSE
A17: Lezen | B17: van § 2.3 Lichtbundels de theorie op blz. 50 t/m 52. | G17: FALSE
A18: Maken & Nakijken | B18: van § 2.3 opdrachten 26, 27, 28, 29, 30, 31, 32 en 33 op blz 53. | G18: FALSE
A19: Daltontaak (verplicht) | B19: Controleer hoe goed je de vier leerdoelen van § 2.3 op blz. 54 beheerst, door te Maken & Nakijken: Gemengde opdracht 75 op blz. 67. | G19: FALSE
A20: Keuzemenu | G20: FALSE
A21: Keuzemenu | G21: FALSE
A22: WK37: 7 t/m 11 sep. Examenreisweek | B22: TAKEN & OPDRACHTEN | H22: FALSE | I22: FALSE
A23: Lezen | B23: van § 2.4 Gekleurd licht de theorie op blz. 55 t/m 57. | G23: FALSE
A24: Maken & Nakijken | B24: van § 2.4 opdrachten 40 t/m 45, 47 en 49 op blz 58 t/m 60 | G24: FALSE
A25: Toets | B25: 2T H2 Licht paragraaf 2.1, 2.3 en 2.4 | G25: FALSE
A26: Keuzemenu | G26: FALSE
A27: Keuzemenu | G27: FALSE
A28: WK38: 14 t/m 18 sep. | B28: TAKEN & OPDRACHTEN | H28: FALSE | I28: FALSE
A29: Onderzoeken | B29: Practicum 1: Wat is het verschil tussen Natuurkunde en Scheikunde? | G29: FALSE
A30: Lezen | B30: van § 1.1 NaSk is overal de theorie op blz. 8 t/m 9. | G30: FALSE
A31: Maken & Nakijken | B31: van § 1.1 opdrachten 1 t/m 10 op blz. 10 t/m 11. | G31: FALSE
A32: Daltontaak (verplicht) | B32: Controleer hoe goed je de drie leerdoelen van § 1.1 op blz. 11 beheerst, door te Maken & Nakijken: Gemengde opdracht 55 op blz. 33. | G32: FALSE
A33: Keuzemenu | G33: FALSE
A34: WK39: 21 t/m 25 sep. | B34: TAKEN & OPDRACHTEN | H34: FALSE | I34: FALSE
A35: Onderzoeken | B35: Practicum 2: Hoe ga je veilig te werk in het practicumlokaal? (Tijdens de les plattegrond maken practicumlokaal + veiligheidspictogrammen) | G35: FALSE
A36: Lezen | B36: van § 1.2 Het practicumlokaal de theorie op blz. 12 t/m 14. | G36: FALSE
A37: Maken & Nakijken | B37: van § 1.2 opdrachten 11 t/m 19 op blz. 15. | G37: FALSE
A38: Daltontaak (verplicht) | B38: Controleer hoe goed je de vijf leerdoelen van § 1.2 op blz. 15 beheerst, door te Maken & Nakijken: Gemengde opdrachten 56 en 57 op blz. 33 en 34. | G38: FALSE
A39: Keuzemenu | G39: FALSE
A40: WK40: 28 t/m 2 okt. | B40: TAKEN & OPDRACHTEN | H40: FALSE | I40: FALSE
A41: Onderzoeken | B41: Practicum 3: Hoe ga je veilig te werk met de brander? (Tijdens les 1) Practicum 4: Hoe meet je grootheden? (Tijdens les 2) | G41: FALSE
A42: Herhalen | B42: Veiligheidsregels | G42: FALSE
...

Sheet NE
B1: NEDERLANDS (NE) | K1: PERIODE 1
A3: ALGEMENE INFORMATIE
A4: Welkom bij Nederlands!
A5: Tijdens Daltonuren kun je altijd lezen in je leesboek.
A6: Neem je A boek mee en een schrift! Neem ook je leesboek mee.
A7: Na deze periode heb je spelling herhaald, weet je weer wat signaalwoorden zijn en kun je jouw eigen draai geven aan je leesboek.
A9: VAKINHOUD | H9: IK HEB HET GEDAAN | I9: IK BEHEERS HET | J9: RUIMTE VOOR REFLECTIE
A10: WK35: 24 t/m 28 aug. | B10: TAKEN & OPDRACHTEN | H10: FALSE | I10: FALSE
A11: Maken & Nakijken | B11: 2.2 Spelling 22 t/m 29 | G11: FALSE
A12: Lezen | B12: De geur van groen blz. 12/13/14/15 | G12: FALSE
A13: Maken | B13: maak 4 en 5 van 1.2 | G13: FALSE
A14: Lezen | B14: leesboek lenen bij de mediatheek: het liefst een c boek | G14: FALSE
A15: Keuzemenu | G15: FALSE
A16: WK36: 31 t/m 4 sep. | B16: TAKEN & OPDRACHTEN | H16: FALSE | I16: FALSE
A17: Keuzemenu | B17: 2.3 Formuleren 30 t/m 34 maken | G17: FALSE
A18: Maken | B18: 6 (lees hiervoor het gedicht op blz. 11) en 7, maak dit samen met iemand | G18: FALSE
A19: Lezen | B19: in je leesboek, leesboek lenen bij de mediatheek: het liefst een c boek | G19: FALSE
A20: Keuzemenu | G20: FALSE
A21: Keuzemenu | G21: FALSE
A22: WK37: 7 t/m 11 sep. Examenreisweek | B22: TAKEN & OPDRACHTEN | H22: FALSE | I22: FALSE
A23: Maken | B23: opdracht 8 en 9 in een groepje (blz 19) | G23: FALSE
A24: Maken | B24: maak 10 van blz. 20 | G24: FALSE
A25: Herhalen | B25: signaalwoorden | G25: FALSE
A26: Lezen | B26: in je leesboek | G26: FALSE
A27: Keuzemenu | G27: FALSE
A28: WK38: 14 t/m 18 sep. | B28: TAKEN & OPDRACHTEN | H28: FALSE | I28: FALSE
A29: Maken | B29: 11 maken van blz. 21 | G29: FALSE
A30: Maken | B30: 12 maken als je alles af hebt | G30: FALSE
A31: Lezen | B31: in je leesboek | G31: FALSE
A32: Keuzemenu | G32: FALSE
A33: Keuzemenu | G33: FALSE
A34: WK39: 21 t/m 25 sep. | B34: TAKEN & OPDRACHTEN | H34: FALSE | I34: FALSE
A35: Maken | B35: 13 maken (blz. 26) | G35: FALSE
A36: Lezen | B36: in je leesboek | G36: FALSE
A37: Keuzemenu | G37: FALSE
A38: Keuzemenu | G38: FALSE
A39: Keuzemenu | G39: FALSE
A40: WK40: 28 t/m 2 okt. | B40: TAKEN & OPDRACHTEN | H40: FALSE | I40: FALSE
A41: Spreken | B41: 14 in een groepje | G41: FALSE
A42: Herhalen | B42: spelling 2.2 | G42: FALSE
...

Sheet RSCH
B1: RESEARCH (RSCH) | K1: PERIODE 1
A3: ALGEMENE INFORMATIE
A4: Welkomswoordje
A5: Wat gaan we deze periode doen? Wat is de Daltontaak? Wat houd de Daltontaak in?
A6: Welke boeken/spullen/materialen zijn er nodig?
A7: Wat moet je geleerd hebben na deze periode?
A9: VAKINHOUD | H9: IK HEB HET GEDAAN | I9: IK BEHEERS HET | J9: RUIMTE VOOR REFLECTIE
A10: WK35: 24 t/m 28 aug. | B10: TAKEN & OPDRACHTEN | H10: FALSE | I10: FALSE
A11: Lezen | B11: Inleiding & 1.1 Water in Nederland | G11: FALSE
A12: Maken | B12: 1.1 Vragen over water in Nederland | G12: FALSE
A13: Keuzemenu | G13: FALSE
A14: Keuzemenu | G14: FALSE
A15: Keuzemenu | G15: FALSE
A16: WK36: 31 t/m 4 sep. | B16: TAKEN & OPDRACHTEN | H16: FALSE | I16: FALSE
A17: Lezen | B17: 1.2 Variabelen in een onderzoek | G17: FALSE
A18: Maken | B18: 1.2 Vragen bij variabelen in een onderzoek | G18: FALSE
A19: Keuzemenu | G19: FALSE
A20: Keuzemenu | G20: FALSE
A21: Keuzemenu | G21: FALSE
A22: WK37: 7 t/m 11 sep. Examenreisweek | B22: TAKEN & OPDRACHTEN | H22: FALSE | I22: FALSE
A23: Practicum | B23: 1.3 Practicum Broeikaseffect | G23: FALSE
A24: Maken | B24: Maak de bijbehorende opdrachten van 1.3 | G24: FALSE
A25: Keuzemenu | G25: FALSE
A26: Keuzemenu | G26: FALSE
A27: Keuzemenu | G27: FALSE
A28: WK38: 14 t/m 18 sep. | B28: TAKEN & OPDRACHTEN | H28: FALSE | I28: FALSE
A29: Maken | B29: 1.4 De wet van communicerende vaten. Zelfstandig lezen en maken. | G29: FALSE
A30: Keuzemenu | G30: FALSE
A31: Keuzemenu | G31: FALSE
A32: Keuzemenu | G32: FALSE
A33: Keuzemenu | G33: FALSE
A34: WK39: 21 t/m 25 sep. | B34: TAKEN & OPDRACHTEN | H34: FALSE | I34: FALSE
A35: Practicum | B35: 1.5 Practicum Invloed van zout op de groei van planten | G35: FALSE
A36: Keuzemenu | G36: FALSE
A37: Keuzemenu | G37: FALSE
A38: Keuzemenu | G38: FALSE
A39: Keuzemenu | G39: FALSE
A40: WK40: 28 t/m 2 okt. | B40: TAKEN & OPDRACHTEN | H40: FALSE | I40: FALSE
A41: Doen | B41: Verzamel een week na het inzetten van de zaadjes de meetresultaten en werk deze uit. Je kunt jouw ingezette kweekbuisjes ophalen bij de TOA. Doe dit samen met de persoon waarmee je hebt samengewerkt. | G41: FALSE
A42: Toets | B42: 4-toets onderzoeksvaardigheden (belangrijk: variabelen!) | G42: FALSE
...

Sheet SP
B1: SPAANS (SP) | K1: PERIODE 1
A3: ALGEMENE INFORMATIE
A4: Bienvenidos al nuevo curso de español.
A5: Dit schooljaar werken we met nieuwe boeken. Bij deze boeken hoort ook een digitale omgeving, waarin jullie extra kunnen oefenen met de stof.
A6: De woordenlijsten staan voor jullie klaar in zowel Quizlet als StudyGo.
A7: Vergeet niet om elke les je materialen en oortjes mee te nemen. Ik hoop dat we er samen weer een gezellig, leerzaam en succesvol schooljaar van maken!
A9: VAKINHOUD | H9: IK HEB HET GEDAAN | I9: IK BEHEERS HET | J9: RUIMTE VOOR REFLECTIE
A10: WK35: 24 t/m 28 aug. | B10: TAKEN & OPDRACHTEN | H10: FALSE | I10: FALSE
A11: Onderzoeken | B11: StudyGo OF Quizlet We bespreken wat we deze periode gaan leren en bekijken samen de online leeromgeving. | G11: FALSE
A12: Luisteren | B12: We bespreken de stamboom van de familie van David (el árbol genealógico de la familia de David) en maken oefeningen 1, 3 en 4 p.32 TB | G12: FALSE
A13: Onderzoeken | B13: Uitleg over de tegenwoordige tijd van regelmatige werkwoorden in het Spaans (-AR, -ER, -IR) p. 34 TB | G13: FALSE
A14: Maken | B14: Oef. 1 en 2 p. 34 TB | G14: FALSE
A15: Keuzemenu | G15: FALSE
A16: WK36: 31 t/m 4 sep. | B16: TAKEN & OPDRACHTEN | H16: FALSE | I16: FALSE
A17: Herhalen | B17: We herhalen de werkwoorden op -AR, -ER en -IR van vorige week. Daarna werk je zelfstandig in de online omgeving aan de onderdelen die jij nog extra wilt oefenen. | G17: FALSE
A18: Maken | B18: We leren een nieuw werkwoord: tener (= hebben). Wij maken daarbij oef. 3 p. 34 TB | G18: FALSE
A19: Onderzoeken | B19: We leren de bezittelijke voornaamwoorden in het Spaans en maken oef. 5 op p.35 TB | G19: FALSE
A20: Keuzemenu
A21: Keuzemenu | G21: FALSE
A22: WK37: 7 t/m 11 sep. Examenreisweek | B22: TAKEN & OPDRACHTEN | H22: FALSE | I22: FALSE
A23: Keuzemenu | G23: FALSE
A24: Luisteren | B24: Oef 1, 2, 3 p.36 TB | G24: FALSE
A25: Onderzoeken | B25: Wij leren de klok in het Spaans | G25: FALSE
A26: Maken | B26: Oef 5 en 6 p.37 TB | G26: FALSE
A27: Keuzemenu | G27: FALSE
A28: WK38: 14 t/m 18 sep. | B28: TAKEN & OPDRACHTEN | H28: FALSE | I28: FALSE
A29: Keuzemenu | G29: FALSE
A30: Lezen | B30: Wij maken oef. 1 en 2 p.38 TB | G30: FALSE
A31: Herhalen | B31: Wij herhalen de grammatica van hfd. 3 | G31: FALSE
A32: Oefenen | B32: Extra oefenmateriaal: Extra boekje of online omgeving.
A33: Keuzemenu | G33: FALSE
A34: WK39: 21 t/m 25 sep. | B34: TAKEN & OPDRACHTEN | H34: FALSE | I34: FALSE
A35: Toets | B35: 2T- woordjestoets UNIDAD 3 (4 lijsten). Jullie werken zelfstandig in de online omgeving aan de onderdelen die jij nog extra wilt oefenen. | G35: FALSE
A36: Onderzoeken | B36: We starten met hoofdstuk 4: comidas y bebidas | G36: FALSE
A37: Leren | B37: We leren een nieuw werkwoord: querer (=willen) | G37: FALSE
A38: Maken | B38: Oef. 1 p. 44 TB | G38: FALSE
A39: Herhalen | B39: We herhalen alle werkwoorden die we tot nu toe hebben geleerd. Daarna maken we zinnen en oefenen we met de juiste woordvolgorde in het Spaans. | G39: FALSE
A40: WK40: 28 t/m 2 okt. | B40: TAKEN & OPDRACHTEN | H40: FALSE | I40: FALSE
A41: Keuzemenu | G41: FALSE
A42: Leren | B42: We leren het werkwoord GUSTAR p. 44-45 TB | G42: FALSE
...

Sheet WI
B1: WISKUNDE (WI) | K1: PERIODE 1
A3: ALGEMENE INFORMATIE
A4: Wat neem je mee: - 1 leerboek - Ruitjesschrift (A4, 1 cm ruit) - iPad (opgeladen) - Oortjes - Rekenmachine - Etui met daarin: Blauwe of zwarte pennen, potlood (HB) of vulpotlood, gum, geodriehoek, passer, kleurpotloden en puntenslijper.
A5: NB. De Daltontaken zijn taken die je maakt als al je huiswerk af is. Niet verplicht, maar wel gewenst!
A9: VAKINHOUD | H9: IK HEB HET GEDAAN | I9: IK BEHEERS HET | J9: RUIMTE VOOR REFLECTIE
A10: WK35: 24 t/m 28 aug. | B10: TAKEN & OPDRACHTEN | H10: FALSE | I10: FALSE
A11: Lezen | B11: Hoofdstuk 2 Statistiek (boek A) Theorie H2 §1 (blz. 51 en 52) Theorie H2 §2 (blz. 54 en 56) | G11: FALSE
A12: Maken & Nakijken | B12: H2 §1, opdr. 1, 2, 5 t/m 7, U1 en U2 (blz. 50) H2 §2, opdr. 8 t/m 11, 13 en U3 (blz. 54) | G12: FALSE
A13: Daltontaak | B13: H2 Samenvatting leerdoelen opdr. E1 t/m E7 (blz. 72) | G13: FALSE
A14: Keuzemenu | G14: FALSE
A15: Keuzemenu | G15: FALSE
A16: WK36: 31 t/m 4 sep. | B16: TAKEN & OPDRACHTEN | H16: FALSE | I16: FALSE
A17: Lezen | B17: Theorie H2 §3 (blz. 58 en 59) Theorie H2 §4 (blz. 62 en 63) Theorie H2 §5 (blz. 67) | G17: FALSE
A18: Maken & Nakijken | B18: H2 §3, opdr. 14, 15, 17 t/m 19 en U4 (blz. 58) H2 §4, opdr. 20, 22, 23, 25, U5 en U6 (blz. 62) H2 §5, opdr. 26 t/m 28, 30 en U7 (blz. 66) | G18: FALSE
A19: Daltontaak | B19: H2 Samenvatting leerdoelen opdr. E8 t/m E14 (blz. 74) | G19: FALSE
A20: Leren | B20: Theorie H2 (blz. 50 t/m 81) | G20: FALSE
A21: Keuzemenu | G21: FALSE
A22: WK37: 7 t/m 11 sep. Examenreisweek | B22: TAKEN & OPDRACHTEN | H22: FALSE | I22: FALSE
A23: Leren | B23: Theorie H2 (blz. 50 t/m 81) | G23: FALSE
A24: Maken & Nakijken | B24: H2 §VWO, opdr. 1 t/m 4 (blz. 80) | G24: FALSE
A25: Inleveren | B25: 2T Praktische opdracht Statistiek (2 lessen) | G25: FALSE
A26: Daltontaak | B26: H2 Samenvatting leerdoelen opdr. E15 t/m E19 (blz. 76) | G26: FALSE
A27: Keuzemenu | G27: FALSE
A28: WK38: 14 t/m 18 sep. | B28: TAKEN & OPDRACHTEN | H28: FALSE | I28: FALSE
A29: Lezen | B29: Hoofdstuk 4 Wortels (boek A) Theorie H4 §1 (blz. 126 en 127) Theorie H4 §2 (blz. 130, 131 en 132) Theorie H4 §3 (blz. 134 en 135) | G29: FALSE
A30: Maken & Nakijken | B30: H4 §1, opdr. 1, 2, 4, 5, 7, U1 en U2 (blz. 126) H4 §2, opdr. 8, 9, 11 t/m 14, U3 en U4 (blz. 130) H4 §3, opdr. 16 t/m 18, 20, 21, 23, 24, U5 en U6 (blz. 134) | G30: FALSE
A31: Daltontaak | B31: H4 Samenvatting leerdoelen opdr. E1 t/m E7 (blz. 144) | G31: FALSE
A32: Keuzemenu | G32: FALSE
A33: Keuzemenu | G33: FALSE
A34: WK39: 21 t/m 25 sep. | B34: TAKEN & OPDRACHTEN | H34: FALSE | I34: FALSE
A35: Leren | B35: Theorie H4 (blz. 126 t/m 136) | G35: FALSE
A36: Maken & Nakijken | B36: Werkblad H4 | G36: FALSE
A37: Toets | B37: H4 Diagnostische toets (formatief) | G37: FALSE
A38: Daltontaak (optioneel) | B38: H4 Samenvatting leerdoelen opdr. E8 t/m E13 (blz. 146) | G38: FALSE
A39: Keuzemenu | G39: FALSE
A40: WK40: 28 t/m 2 okt. | B40: TAKEN & OPDRACHTEN | H40: FALSE | I40: FALSE
A41: Lezen | B41: Hoofdstuk 6 Stelling van Pythagoras (boek A) Theorie H6 §1 (blz. 202 en 203) Theorie H6 §2 (blz. 207 en 208) Theorie H6 §3 (blz. 211) | G41: FALSE
A42: Maken & Nakijken | B42: H6 §1, opdr. 1 t/m 5 en U1 (blz. 202) H6 §2, opdr. 8 t/m 13 en U2 (blz. 206) H6 §3, opdr. 15, 17 t/m 20, U3 en U4 (blz. 210) | G42: FALSE
A43: Daltontaak (optioneel) | B43: H6 Samenvatting leerdoelen opdr. E1 t/m E4 (blz. 224) | G43: FALSE
A44: Keuzemenu | G44: FALSE
...
