Workbook

Sheet Overzicht
A2: AK | D2: BECO | G2: BI | J2: BTE | M2: CKV | P2: DU | S2: ECO | V2: EN | Y2: FA | AB2: GS | AE2: HV | AH2: HAPR | AK2: IN | AN2: KUA | AQ2: KUBV | AT2: MA | AW2: MK | AZ2: MU | BC2: NS | BF2: NAT | BI2: NE | BL2: NLT | BO2: RE | BR2: RSCH | BU2: SK | BX2: SP | CA2: TE | CD2: WI | CG2: WISA | CJ2: WISB | CM2: WOA
A3: WK 45 | B3: =AK!H10 -> FALSE | D3: WK 45 | E3: =BECO!H10 -> FALSE | G3: WK 45 | H3: =BI!H10 -> FALSE | J3: WK 45 | K3: =BTE!H10 -> FALSE | M3: WK 45 | N3: =CKV!H10 -> FALSE | P3: WK 45 | Q3: =DU!H10 -> FALSE | S3: WK 45 | T3: =ECO!H10 -> FALSE | V3: WK 45 | W3: =EN!H10 -> FALSE | Y3: WK 45 | Z3: =FA!H10 -> FALSE | AB3: WK 45 | AC3: =GS!H10 -> FALSE | AE3: WK 45 | AF3: =HV!H10 -> FALSE | AH3: WK 45 | AI3: =HAPR!H10 -> FALSE | AK3: WK 45 | AL3: =IN!H10 -> FALSE | AN3: WK 45 | AO3: =KUA!H10 -> FALSE | AQ3: WK 45 | AR3: =KUBV!H10 -> FALSE | AT3: WK 45 | AU3: =MA!H10 -> FALSE | AW3: WK 45 | AX3: =MK!H10 -> FALSE | AZ3: WK 45 | BA3: =MU!H10 -> FALSE | BC3: WK 45 | BD3: =NS!H10 -> FALSE | BF3: WK 45 | BG3: =NAT!H10 -> FALSE | BI3: WK 45 | BJ3: =NE!H10 -> FALSE | BL3: WK 45 | BM3: =NLT!H10 -> FALSE | BO3: WK 45 | BP3: =RE!H10 -> FALSE | BR3: WK 45 | BS3: =RSCH!H10 -> FALSE | BU3: WK 45 | BV3: =SK!H10 -> FALSE | BX3: WK 45 | BY3: =SP!H10 -> FALSE | CA3: WK 45 | CB3: =TE!H10 -> FALSE | CD3: WK 45 | CE3: =WI!H10 -> FALSE | CG3: WK 45 | CH3: =WISA!H10 -> FALSE | CJ3: WK 45 | CK3: =WISB!H10 -> FALSE | CM3: WK 45 | CN3: =WOA!H10 -> FALSE
A4: WK 46 | B4: =AK!H16 -> FALSE | D4: WK 46 | E4: =BECO!H16 -> FALSE | G4: WK 46 | H4: =BI!H16 -> FALSE | J4: WK 46 | K4: =BTE!H16 -> FALSE | M4: WK 46 | N4: =CKV!H16 -> FALSE | P4: WK 46 | Q4: =DU!H16 -> FALSE | S4: WK 46 | T4: =ECO!H16 -> FALSE | V4: WK 46 | W4: =EN!H16 -> FALSE | Y4: WK 46 | Z4: =FA!H16 -> FALSE | AB4: WK 46 | AC4: =GS!H16 -> FALSE | AE4: WK 46 | AF4: =HV!H16 -> FALSE | AH4: WK 46 | AI4: =HAPR!H16 -> FALSE | AK4: WK 46 | AL4: =IN!H16 -> FALSE | AN4: WK 46 | AO4: =KUA!H16 -> FALSE | AQ4: WK 46 | AR4: =KUBV!H16 -> FALSE | AT4: WK 46 | AU4: =MA!H16 -> FALSE | AW4: WK 46 | AX4: =MK!H16 -> FALSE | AZ4: WK 46 | BA4: =MU!H16 -> FALSE | BC4: WK 46 | BD4: =NS!H16 -> FALSE | BF4: WK 46 | BG4: =NAT!H16 -> FALSE | BI4: WK 46 | BJ4: =NE!H16 -> FALSE | BL4: WK 46 | BM4: =NLT!H16 -> FALSE | BO4: WK 46 | BP4: =RE!H16 -> FALSE | BR4: WK 46 | BS4: =RSCH!H16 -> FALSE | BU4: WK 46 | BV4: =SK!H16 -> FALSE | BX4: WK 46 | BY4: =SP!H16 -> FALSE | CA4: WK 46 | CB4: =TE!H16 -> FALSE | CD4: WK 46 | CE4: =WI!H16 -> FALSE | CG4: WK 46 | CH4: =WISA!H16 -> FALSE | CJ4: WK 46 | CK4: =WISB!H16 -> FALSE | CM4: WK 46 | CN4: =WOA!H16 -> FALSE
A5: WK 47 | B5: =AK!H22 -> FALSE | D5: WK 47 | E5: =BECO!H22 -> FALSE | G5: WK 47 | H5: =BI!H22 -> FALSE | J5: WK 47 | K5: =BTE!H22 -> FALSE | M5: WK 47 | N5: =CKV!H22 -> FALSE | P5: WK 47 | Q5: =DU!H22 -> FALSE | S5: WK 47 | T5: =ECO!H22 -> FALSE | V5: WK 47 | W5: =EN!H22 -> FALSE | Y5: WK 47 | Z5: =FA!H22 -> FALSE | AB5: WK 47 | AC5: =GS!H22 -> FALSE | AE5: WK 47 | AF5: =HV!H22 -> FALSE | AH5: WK 47 | AI5: =HAPR!H22 -> FALSE | AK5: WK 47 | AL5: =IN!H22 -> FALSE | AN5: WK 47 | AO5: =KUA!H22 -> FALSE | AQ5: WK 47 | AR5: =KUBV!H22 -> FALSE | AT5: WK 47 | AU5: =MA!H22 -> FALSE | AW5: WK 47 | AX5: =MK!H22 -> FALSE | AZ5: WK 47 | BA5: =MU!H22 -> FALSE | BC5: WK 47 | BD5: =NS!H22 -> FALSE | BF5: WK 47 | BG5: =NAT!H22 -> FALSE | BI5: WK 47 | BJ5: =NE!H22 -> FALSE | BL5: WK 47 | BM5: =NLT!H22 -> FALSE | BO5: WK 47 | BP5: =RE!H22 -> FALSE | BR5: WK 47 | BS5: =RSCH!H22 -> FALSE | BU5: WK 47 | BV5: =SK!H22 -> FALSE | BX5: WK 47 | BY5: =SP!H22 -> FALSE | CA5: WK 47 | CB5: =TE!H22 -> FALSE | CD5: WK 47 | CE5: =WI!H22 -> FALSE | CG5: WK 47 | CH5: =WISA!H22 -> FALSE | CJ5: WK 47 | CK5: =WISB!H22 -> FALSE | CM5: WK 47 | CN5: =WOA!H22 -> FALSE
A6: WK 48 | B6: =AK!H28 -> FALSE | D6: WK 48 | E6: =BECO!H28 -> FALSE | G6: WK 48 | H6: =BI!H28 -> FALSE | J6: WK 48 | K6: =BTE!H28 -> FALSE | M6: WK 48 | N6: =CKV!H28 -> FALSE | P6: WK 48 | Q6: =DU!H28 -> FALSE | S6: WK 48 | T6: =ECO!H28 -> FALSE | V6: WK 48 | W6: =EN!H28 -> FALSE | Y6: WK 48 | Z6: =FA!H28 -> FALSE | AB6: WK 48 | AC6: =GS!H28 -> FALSE | AE6: WK 48 | AF6: =HV!H28 -> FALSE | AH6: WK 48 | AI6: =HAPR!H28 -> FALSE | AK6: WK 48 | AL6: =IN!H28 -> FALSE | AN6: WK 48 | AO6: =KUA!H28 -> FALSE | AQ6: WK 48 | AR6: =KUBV!H28 -> FALSE | AT6: WK 48 | AU6: =MA!H28 -> FALSE | AW6: WK 48 | AX6: =MK!H28 -> FALSE | AZ6: WK 48 | BA6: =MU!H28 -> FALSE | BC6: WK 48 | BD6: =NS!H28 -> FALSE | BF6: WK 48 | BG6: =NAT!H28 -> FALSE | BI6: WK 48 | BJ6: =NE!H28 -> FALSE | BL6: WK 48 | BM6: =NLT!H28 -> FALSE | BO6: WK 48 | BP6: =RE!H28 -> FALSE | BR6: WK 48 | BS6: =RSCH!H28 -> FALSE | BU6: WK 48 | BV6: =SK!H28 -> FALSE | BX6: WK 48 | BY6: =SP!H28 -> FALSE | CA6: WK 48 | CB6: =TE!H28 -> FALSE | CD6: WK 48 | CE6: =WI!H28 -> FALSE | CG6: WK 48 | CH6: =WISA!H28 -> FALSE | CJ6: WK 48 | CK6: =WISB!H28 -> FALSE | CM6: WK 48 | CN6: =WOA!H28 -> FALSE
A7: WK 49 | B7: =AK!H34 -> FALSE | D7: WK 49 | E7: =BECO!H34 -> FALSE | G7: WK 49 | H7: =BI!H34 -> FALSE | J7: WK 49 | K7: =BTE!H34 -> FALSE | M7: WK 49 | N7: =CKV!H34 -> FALSE | P7: WK 49 | Q7: =DU!H34 -> FALSE | S7: WK 49 | T7: =ECO!H34 -> FALSE | V7: WK 49 | W7: =EN!H34 -> FALSE | Y7: WK 49 | Z7: =FA!H34 -> FALSE | AB7: WK 49 | AC7: =GS!H34 -> FALSE | AE7: WK 49 | AF7: =HV!H34 -> FALSE | AH7: WK 49 | AI7: =HAPR!H34 -> FALSE | AK7: WK 49 | AL7: =IN!H34 -> FALSE | AN7: WK 49 | AO7: =KUA!H34 -> FALSE | AQ7: WK 49 | AR7: =KUBV!H34 -> FALSE | AT7: WK 49 | AU7: =MA!H34 -> FALSE | AW7: WK 49 | AX7: =MK!H34 -> FALSE | AZ7: WK 49 | BA7: =MU!H34 -> FALSE | BC7: WK 49 | BD7: =NS!H34 -> FALSE | BF7: WK 49 | BG7: =NAT!H34 -> FALSE | BI7: WK 49 | BJ7: =NE!H34 -> FALSE | BL7: WK 49 | BM7: =NLT!H34 -> FALSE | BO7: WK 49 | BP7: =RE!H34 -> FALSE | BR7: WK 49 | BS7: =RSCH!H34 -> FALSE | BU7: WK 49 | BV7: =SK!H34 -> FALSE | BX7: WK 49 | BY7: =SP!H34 -> FALSE | CA7: WK 49 | CB7: =TE!H34 -> FALSE | CD7: WK 49 | CE7: =WI!H34 -> FALSE | CG7: WK 49 | CH7: =WISA!H34 -> FALSE | CJ7: WK 49 | CK7: =WISB!H34 -> FALSE | CM7: WK 49 | CN7: =WOA!H34 -> FALSE
A8: WK 50 | B8: =AK!H40 -> FALSE | D8: WK 50 | E8: =BECO!H40 -> FALSE | G8: WK 50 | H8: =BI!H40 -> FALSE | J8: WK 50 | K8: =BTE!H40 -> FALSE | M8: WK 50 | N8: =CKV!H40 -> FALSE | P8: WK 50 | Q8: =DU!H40 -> FALSE | S8: WK 50 | T8: =ECO!H40 -> FALSE | V8: WK 50 | W8: =EN!H40 -> FALSE | Y8: WK 50 | Z8: =FA!H40 -> FALSE | AB8: WK 50 | AC8: =GS!H40 -> FALSE | AE8: WK 50 | AF8: =HV!H40 -> FALSE | AH8: WK 50 | AI8: =HAPR!H40 -> FALSE | AK8: WK 50 | AL8: =IN!H40 -> FALSE | AN8: WK 50 | AO8: =KUA!H40 -> FALSE | AQ8: WK 50 | AR8: =KUBV!H40 -> FALSE | AT8: WK 50 | AU8: =MA!H40 -> FALSE | AW8: WK 50 | AX8: =MK!H40 -> FALSE | AZ8: WK 50 | BA8: =MU!H40 -> FALSE | BC8: WK 50 | BD8: =NS!H40 -> FALSE | BF8: WK 50 | BG8: =NAT!H40 -> FALSE | BI8: WK 50 | BJ8: =NE!H40 -> FALSE | BL8: WK 50 | BM8: =NLT!H40 -> FALSE | BO8: WK 50 | BP8: =RE!H40 -> FALSE | BR8: WK 50 | BS8: =RSCH!H40 -> FALSE | BU8: WK 50 | BV8: =SK!H40 -> FALSE | BX8: WK 50 | BY8: =SP!H40 -> FALSE | CA8: WK 50 | CB8: =TE!H40 -> FALSE | CD8: WK 50 | CE8: =WI!H40 -> FALSE | CG8: WK 50 | CH8: =WISA!H40 -> FALSE | CJ8: WK 50 | CK8: =WISB!H40 -> FALSE | CM8: WK 50 | CN8: =WOA!H40 -> FALSE
A9: WK 51 | B9: =AK!H46 -> FALSE | D9: WK 51 | E9: =BECO!H46 -> FALSE | G9: WK 51 | H9: =BI!H46 -> FALSE | J9: WK 51 | K9: =BTE!H46 -> FALSE | M9: WK 51 | N9: =CKV!H46 -> FALSE | P9: WK 51 | Q9: =DU!H46 -> FALSE | S9: WK 51 | T9: =ECO!H46 -> FALSE | V9: WK 51 | W9: =EN!H46 -> FALSE | Y9: WK 51 | Z9: =FA!H46 -> FALSE | AB9: WK 51 | AC9: =GS!H46 -> FALSE | AE9: WK 51 | AF9: =HV!H46 -> FALSE | AH9: WK 51 | AI9: =HAPR!H46 -> FALSE | AK9: WK 51 | AL9: =IN!H46 -> FALSE | AN9: WK 51 | AO9: =KUA!H46 -> FALSE | AQ9: WK 51 | AR9: =KUBV!H46 -> FALSE | AT9: WK 51 | AU9: =MA!H46 -> FALSE | AW9: WK 51 | AX9: =MK!H46 -> FALSE | AZ9: WK 51 | BA9: =MU!H46 -> FALSE | BC9: WK 51 | BD9: =NS!H46 -> FALSE | BF9: WK 51 | BG9: =NAT!H46 -> FALSE | BI9: WK 51 | BJ9: =NE!H46 -> FALSE | BL9: WK 51 | BM9: =NLT!H46 -> FALSE | BO9: WK 51 | BP9: =RE!H46 -> FALSE | BR9: WK 51 | BS9: =RSCH!H46 -> FALSE | BU9: WK 51 | BV9: =SK!H46 -> FALSE | BX9: WK 51 | BY9: =SP!H46 -> FALSE | CA9: WK 51 | CB9: =TE!H46 -> FALSE | CD9: WK 51 | CE9: =WI!H46 -> FALSE | CG9: WK 51 | CH9: =WISA!H46 -> FALSE | CJ9: WK 51 | CK9: =WISB!H46 -> FALSE | CM9: WK 51 | CN9: =WOA!H46 -> FALSE
A10: WK 1 | B10: =AK!H53 -> FALSE | D10: WK 1 | E10: =BECO!H53 -> FALSE | G10: WK 1 | H10: =BI!H53 -> FALSE | J10: WK 1 | K10: =BTE!H53 -> FALSE | M10: WK 1 | N10: =CKV!H53 -> FALSE | P10: WK 1 | Q10: =DU!H53 -> FALSE | S10: WK 1 | T10: =ECO!H53 -> FALSE | V10: WK 1 | W10: =EN!H53 -> FALSE | Y10: WK 1 | Z10: =FA!H53 -> FALSE | AB10: WK 1 | AC10: =GS!H53 -> FALSE | AE10: WK 1 | AF10: =HV!H53 -> FALSE | AH10: WK 1 | AI10: =HAPR!H53 -> FALSE | AK10: WK 1 | AL10: =IN!H53 -> FALSE | AN10: WK 1 | AO10: =KUA!H53 -> FALSE | AQ10: WK 1 | AR10: =KUBV!H53 -> FALSE | AT10: WK 1 | AU10: =MA!H53 -> FALSE | AW10: WK 1 | AX10: =MK!H53 -> FALSE | AZ10: WK 1 | BA10: =MU!H53 -> FALSE | BC10: WK 1 | BD10: =NS!H53 -> FALSE | BF10: WK 1 | BG10: =NAT!H53 -> FALSE | BI10: WK 1 | BJ10: =NE!H53 -> FALSE | BL10: WK 1 | BM10: =NLT!H53 -> FALSE | BO10: WK 1 | BP10: =RE!H53 -> FALSE | BR10: WK 1 | BS10: =RSCH!H53 -> FALSE | BU10: WK 1 | BV10: =SK!H53 -> FALSE | BX10: WK 1 | BY10: =SP!H53 -> FALSE | CA10: WK 1 | CB10: =TE!H53 -> FALSE | CD10: WK 1 | CE10: =WI!H53 -> FALSE | CG10: WK 1 | CH10: =WISA!H53 -> FALSE | CJ10: WK 1 | CK10: =WISB!H53 -> FALSE | CM10: WK 1 | CN10: =WOA!H53 -> FALSE

Sheet AK
B1: AARDRIJKSKUNDE (AK) | K1: PERIODE 2
A3: ALGEMENE INFORMATIE
A4: Welkomswoordje
A5: Wat gaan we deze periode doen? Wat is de Daltontaak? Wat houd de Daltontaak in?
A6: Welke boeken/spullen/materialen zijn er nodig?
A7: Wat moet je geleerd hebben na deze periode?
A9: VAKINHOUD | H9: IK HEB HET GEDAAN | I9: IK BEHEERS HET | J9: RUIMTE VOOR REFLECTIE
A10: WK45: 2 t/m 6 nov. | B10: TAKEN & OPDRACHTEN | H10: FALSE | I10: FALSE
A11: Keuzemenu | G11: FALSE
A12: Keuzemenu | G12: FALSE
A13: Keuzemenu | G13: FALSE
A14: Keuzemenu | G14: FALSE
A15: Keuzemenu | G15: FALSE
A16: WK46: 9 t/m 13 nov. | B16: TAKEN & OPDRACHTEN | H16: FALSE | I16: FALSE
A17: Keuzemenu | G17: FALSE
A18: Keuzemenu | G18: FALSE
A19: Keuzemenu | G19: FALSE
A20: Keuzemenu | G20: FALSE
A21: Keuzemenu | G21: FALSE
A22: WK47: 16 t/m 20 nov. | B22: TAKEN & OPDRACHTEN | H22: FALSE | I22: FALSE
A23: Keuzemenu | G23: FALSE
A24: Keuzemenu | G24: FALSE
A25: Keuzemenu | G25: FALSE
A26: Keuzemenu | G26: FALSE
A27: Keuzemenu | G27: FALSE
A28: WK48: 23 t/m 27 nov. | B28: TAKEN & OPDRACHTEN | H28: FALSE | I28: FALSE
A29: Keuzemenu | G29: FALSE
A30: Keuzemenu | G30: FALSE
A31: Keuzemenu | G31: FALSE
A32: Keuzemenu | G32: FALSE
A33: Keuzemenu | G33: FALSE
A34: WK49: 30 t/m 4 dec. | B34: TAKEN & OPDRACHTEN | H34: FALSE | I34: FALSE
A35: Keuzemenu | G35: FALSE
A36: Keuzemenu | G36: FALSE
A37: Keuzemenu | G37: FALSE
A38: Keuzemenu | G38: FALSE
A39: Keuzemenu | G39: FALSE
A40: WK50: 7 t/m 11 dec. | B40: TAKEN & OPDRACHTEN | H40: FALSE | I40: FALSE
A41: Keuzemenu | G41: FALSE
A42: Keuzemenu | G42: FALSE
...

Sheet BECO
B1: BEDRIJFSECONOMIE (BECO) | K1: PERIODE 2
A3: ALGEMENE INFORMATIE
A4: Welkomswoordje
A5: Wat gaan we deze periode doen? Wat is de Daltontaak? Wat houd de Daltontaak in?
A6: Welke boeken/spullen/materialen zijn er nodig?
A7: Wat moet je geleerd hebben na deze periode?
A9: VAKINHOUD | H9: IK HEB HET GEDAAN | I9: IK BEHEERS HET | J9: RUIMTE VOOR REFLECTIE
A10: WK45: 2 t/m 6 nov. | B10: TAKEN & OPDRACHTEN | H10: FALSE | I10: FALSE
A11: Keuzemenu | G11: FALSE
A12: Keuzemenu | G12: FALSE
A13: Keuzemenu | G13: FALSE
A14: Keuzemenu | G14: FALSE
A15: Keuzemenu | G15: FALSE
A16: WK46: 9 t/m 13 nov. | B16: TAKEN & OPDRACHTEN | H16: FALSE | I16: FALSE
A17: Keuzemenu | G17: FALSE
A18: Keuzemenu | G18: FALSE
A19: Keuzemenu | G19: FALSE
A20: Keuzemenu | G20: FALSE
A21: Keuzemenu | G21: FALSE
A22: WK47: 16 t/m 20 nov. | B22: TAKEN & OPDRACHTEN | H22: FALSE | I22: FALSE
A23: Keuzemenu | G23: FALSE
A24: Keuzemenu | G24: FALSE
A25: Keuzemenu | G25: FALSE
A26: Keuzemenu | G26: FALSE
A27: Keuzemenu | G27: FALSE
A28: WK48: 23 t/m 27 nov. | B28: TAKEN & OPDRACHTEN | H28: FALSE | I28: FALSE
A29: Keuzemenu | G29: FALSE
A30: Keuzemenu | G30: FALSE
A31: Keuzemenu | G31: FALSE
A32: Keuzemenu | G32: FALSE
A33: Keuzemenu | G33: FALSE
A34: WK49: 30 t/m 4 dec. | B34: TAKEN & OPDRACHTEN | H34: FALSE | I34: FALSE
A35: Keuzemenu | G35: FALSE
A36: Keuzemenu | G36: FALSE
A37: Keuzemenu | G37: FALSE
A38: Keuzemenu | G38: FALSE
A39: Keuzemenu | G39: FALSE
A40: WK50: 7 t/m 11 dec. | B40: TAKEN & OPDRACHTEN | H40: FALSE | I40: FALSE
A41: Keuzemenu | G41: FALSE
A42: Keuzemenu | G42: FALSE
...

Sheet BI
B1: BIOLOGIE (BI) | K1: PERIODE 2
A3: ALGEMENE INFORMATIE
A4: Welkomswoordje
A5: Wat gaan we deze periode doen? Wat is de Daltontaak? Wat houd de Daltontaak in?
A6: Welke boeken/spullen/materialen zijn er nodig?
A7: Wat moet je geleerd hebben na deze periode?
A9: VAKINHOUD | H9: IK HEB HET GEDAAN | I9: IK BEHEERS HET | J9: RUIMTE VOOR REFLECTIE
A10: WK45: 2 t/m 6 nov. | B10: TAKEN & OPDRACHTEN | H10: FALSE | I10: FALSE
A11: Keuzemenu | G11: FALSE
A12: Keuzemenu | G12: FALSE
A13: Keuzemenu | G13: FALSE
A14: Keuzemenu | G14: FALSE
A15: Keuzemenu | G15: FALSE
A16: WK46: 9 t/m 13 nov. | B16: TAKEN & OPDRACHTEN | H16: FALSE | I16: FALSE
A17: Keuzemenu | G17: FALSE
A18: Keuzemenu | G18: FALSE
A19: Keuzemenu | G19: FALSE
A20: Keuzemenu | G20: FALSE
A21: Keuzemenu | G21: FALSE
A22: WK47: 16 t/m 20 nov. | B22: TAKEN & OPDRACHTEN | H22: FALSE | I22: FALSE
A23: Keuzemenu | G23: FALSE
A24: Keuzemenu | G24: FALSE
A25: Keuzemenu | G25: FALSE
A26: Keuzemenu | G26: FALSE
A27: Keuzemenu | G27: FALSE
A28: WK48: 23 t/m 27 nov. | B28: TAKEN & OPDRACHTEN | H28: FALSE | I28: FALSE
A29: Keuzemenu | G29: FALSE
A30: Keuzemenu | G30: FALSE
A31: Keuzemenu | G31: FALSE
A32: Keuzemenu | G32: FALSE
A33: Keuzemenu | G33: FALSE
A34: WK49: 30 t/m 4 dec. | B34: TAKEN & OPDRACHTEN | H34: FALSE | I34: FALSE
A35: Keuzemenu | G35: FALSE
A36: Keuzemenu | G36: FALSE
A37: Keuzemenu | G37: FALSE
A38: Keuzemenu | G38: FALSE
A39: Keuzemenu | G39: FALSE
A40: WK50: 7 t/m 11 dec. | B40: TAKEN & OPDRACHTEN | H40: FALSE | I40: FALSE
A41: Keuzemenu | G41: FALSE
A42: Keuzemenu | G42: FALSE
...

Sheet BTE
B1: BEELDENDE VORMING - TEKENEN (BTE) | K1: PERIODE 2
A3: ALGEMENE INFORMATIE
A4: Welkomswoordje
A5: Wat gaan we deze periode doen? Wat is de Daltontaak? Wat houd de Daltontaak in?
A6: Welke boeken/spullen/materialen zijn er nodig?
A7: Wat moet je geleerd hebben na deze periode?
A9: VAKINHOUD | H9: IK HEB HET GEDAAN | I9: IK BEHEERS HET | J9: RUIMTE VOOR REFLECTIE
A10: WK45: 2 t/m 6 nov. | B10: TAKEN & OPDRACHTEN | H10: FALSE | I10: FALSE
A11: Keuzemenu | G11: FALSE
A12: Keuzemenu | G12: FALSE
A13: Keuzemenu | G13: FALSE
A14: Keuzemenu | G14: FALSE
A15: Keuzemenu | G15: FALSE
A16: WK46: 9 t/m 13 nov. | B16: TAKEN & OPDRACHTEN | H16: FALSE | I16: FALSE
A17: Keuzemenu | G17: FALSE
A18: Keuzemenu | G18: FALSE
A19: Keuzemenu | G19: FALSE
A20: Keuzemenu | G20: FALSE
A21: Keuzemenu | G21: FALSE
A22: WK47: 16 t/m 20 nov. | B22: TAKEN & OPDRACHTEN | H22: FALSE | I22: FALSE
A23: Keuzemenu | G23: FALSE
A24: Keuzemenu | G24: FALSE
A25: Keuzemenu | G25: FALSE
A26: Keuzemenu | G26: FALSE
A27: Keuzemenu | G27: FALSE
A28: WK48: 23 t/m 27 nov. | B28: TAKEN & OPDRACHTEN | H28: FALSE | I28: FALSE
A29: Keuzemenu | G29: FALSE
A30: Keuzemenu | G30: FALSE
A31: Keuzemenu | G31: FALSE
A32: Keuzemenu | G32: FALSE
A33: Keuzemenu | G33: FALSE
A34: WK49: 30 t/m 4 dec. | B34: TAKEN & OPDRACHTEN | H34: FALSE | I34: FALSE
A35: Keuzemenu | G35: FALSE
A36: Keuzemenu | G36: FALSE
A37: Keuzemenu | G37: FALSE
A38: Keuzemenu | G38: FALSE
A39: Keuzemenu | G39: FALSE
A40: WK50: 7 t/m 11 dec. | B40: TAKEN & OPDRACHTEN | H40: FALSE | I40: FALSE
A41: Keuzemenu | G41: FALSE
A42: Keuzemenu | G42: FALSE
...

Sheet CKV
B1: CULTURELE EN KUNSTZINNIGE VORMING (CKV) | K1: PERIODE 2
A3: ALGEMENE INFORMATIE
A4: Welkomswoordje
A5: Wat gaan we deze periode doen? Wat is de Daltontaak? Wat houd de Daltontaak in?
A6: Welke boeken/spullen/materialen zijn er nodig?
A7: Wat moet je geleerd hebben na deze periode?
A9: VAKINHOUD | H9: IK HEB HET GEDAAN | I9: IK BEHEERS HET | J9: RUIMTE VOOR REFLECTIE
A10: WK45: 2 t/m 6 nov. | B10: TAKEN & OPDRACHTEN | H10: FALSE | I10: FALSE
A11: Keuzemenu | G11: FALSE
A12: Keuzemenu | G12: FALSE
A13: Keuzemenu | G13: FALSE
A14: Keuzemenu | G14: FALSE
A15: Keuzemenu | G15: FALSE
A16: WK46: 9 t/m 13 nov. | B16: TAKEN & OPDRACHTEN | H16: FALSE | I16: FALSE
A17: Keuzemenu | G17: FALSE
A18: Keuzemenu | G18: FALSE
A19: Keuzemenu | G19: FALSE
A20: Keuzemenu | G20: FALSE
A21: Keuzemenu | G21: FALSE
A22: WK47: 16 t/m 20 nov. | B22: TAKEN & OPDRACHTEN | H22: FALSE | I22: FALSE
A23: Keuzemenu | G23: FALSE
A24: Keuzemenu | G24: FALSE
A25: Keuzemenu | G25: FALSE
A26: Keuzemenu | G26: FALSE
A27: Keuzemenu | G27: FALSE
A28: WK48: 23 t/m 27 nov. | B28: TAKEN & OPDRACHTEN | H28: FALSE | I28: FALSE
A29: Keuzemenu | G29: FALSE
A30: Keuzemenu | G30: FALSE
A31: Keuzemenu | G31: FALSE
A32: Keuzemenu | G32: FALSE
A33: Keuzemenu | G33: FALSE
A34: WK49: 30 t/m 4 dec. | B34: TAKEN & OPDRACHTEN | H34: FALSE | I34: FALSE
A35: Keuzemenu | G35: FALSE
A36: Keuzemenu | G36: FALSE
A37: Keuzemenu | G37: FALSE
A38: Keuzemenu | G38: FALSE
A39: Keuzemenu | G39: FALSE
A40: WK50: 7 t/m 11 dec. | B40: TAKEN & OPDRACHTEN | H40: FALSE | I40: FALSE
A41: Keuzemenu | G41: FALSE
A42: Keuzemenu | G42: FALSE
...

Sheet DU
B1: DUITS (DU) | K1: PERIODE 2
A3: ALGEMENE INFORMATIE
A4: Herzlich Willkommen! Duits is een nieuw vak in de tweede klas. We werken met de methode Neue Kontakte. Ook is er de online omgeving, waar je via Som kunt inloggen en zelfstandig aan te slag kunt. Daar kun je ook jezelf overhoren als je de woordenlijst geleerd hebt of zelfstandig de luisteropdrachten maken. Een paar keer per jaar zul je ook in groepjes aan een project gaan werken. Viel Spaß (veel plezier)
A5: Het boek Neue Kontakte, neem die altijd mee.
A6: Jij hebt nodig: een schrift, een pen en jouw Neue Kontakte boek A, de weekplanner die wij op het bord laten zien zijn leidend.
A7: Je moet alle hoofdstukken begrijpen na deze periode, je hebt kennisgemaakt met het vak Duits
A9: VAKINHOUD | H9: IK HEB HET GEDAAN | I9: IK BEHEERS HET | J9: RUIMTE VOOR REFLECTIE
A10: WK45: 2 t/m 6 nov. | B10: TAKEN & OPDRACHTEN | H10: FALSE | I10: FALSE
A11: Maken & Nakijken | B11: Afsluiten van hoofdstuk 3 Schule | G11: FALSE
A12: Kijken & Luisteren | B12: Hoofdstuk 4 Tiere | G12: FALSE
A13: Kijken & Luisteren | B13: Introductie film over wolven | G13: FALSE
A14: Maken | B14: A Sehen und B Wortschatz | G14: FALSE
A15: Daltontaak (verplicht) | B15: Leer de Lernliste van hoofdstuk 4 pagina's 136 - 139 | G15: FALSE
A16: WK46: 9 t/m 13 nov. | B16: TAKEN & OPDRACHTEN | H16: FALSE | I16: FALSE
A17: Kijken & Luisteren | B17: C Hören | G17: FALSE
A18: Lezen | B18: D Lesen und Landeskunde | G18: FALSE
A19: Maken | B19: Alle opdrachten tot en met Aufgabe 17 af | G19: FALSE
A20: Daltontaak (verplicht) | G20: FALSE
A21: Daltontaak (verplicht) | B21: Leer de Lernliste van hoodstuk 4 pagina 136 - 139 | G21: FALSE
A22: WK47: 16 t/m 20 nov. | B22: TAKEN & OPDRACHTEN | H22: FALSE | I22: FALSE
A23: Grammatik | B23: E Grammatik van hoofdstuk 4, het werkwoord in de tegenwoordige tijd pagina 118 staat de grammaticaregel | G23: FALSE
A24: Grammatik | B24: E Grammatik | G24: FALSE
A25: Spreken | B25: F Sprechen | G25: FALSE
A26: Spreken | B26: Sprachmittel oefenen en zinnen | G26: FALSE
A27: Daltontaak (verplicht) | B27: Leer de Lernliste van hoofdstuk 4 pagina's 136 - 139 | G27: FALSE
A28: WK48: 23 t/m 27 nov. | B28: TAKEN & OPDRACHTEN | H28: FALSE | I28: FALSE
A29: Schrijven | B29: G Schreiben | G29: FALSE
A30: Maken & Nakijken | B30: Alle opdrachten tot en met Aufgabe 42 moeten af zijn | G30: FALSE
A31: Schrijven | B31: Diktat | G31: FALSE
A32: Test jezelf | B32: Woorden oefenen | G32: FALSE
A33: Daltontaak (verplicht) | B33: Leer de Lernliste van hoodstuk 4 pagina 136 - 139 | G33: FALSE
A34: WK49: 30 t/m 4 dec. | B34: TAKEN & OPDRACHTEN | H34: FALSE | I34: FALSE
A35: Toets | B35: Woordjestoets van hoofdstuk 4 Tiere | G35: FALSE
A36: Nakijken | B36: Woordjestoets bespreken | G36: FALSE
A37: Doen | B37: Project, uitleg van het project Menukaart (Speisekarte) in groepjes maken | G37: FALSE
A38: Test jezelf | B38: Kijk alle woorden van hoofdstuk 1-4 na, welke woorden zijn nog lastig, oefen deze. Sluit hoofdfstuk 4 af. Kijk of je alle opdrachten af hebt. | G38: FALSE
A39: Daltontaak (verplicht) | B39: Leer de Lernliste van hoofdstuk 4 pagina 136 - 139 | G39: FALSE
A40: WK50: 7 t/m 11 dec. | B40: TAKEN & OPDRACHTEN | H40: FALSE | I40: FALSE
A41: Kijken & Luisteren | B41: Hoofdstuk 5 Essen | G41: FALSE
A42: Doen | B42: Project zie afgelopen week, maak een Menukaart | G42: FALSE
...

Sheet ECO
B1: ECONOMIE (ECO) | K1: PERIODE 2
A3: ALGEMENE INFORMATIE
A4: Welkomswoordje
A5: Wat gaan we deze periode doen? Wat is de Daltontaak? Wat houd de Daltontaak in?
A6: Welke boeken/spullen/materialen zijn er nodig?
A7: Wat moet je geleerd hebben na deze periode?
A9: VAKINHOUD | H9: IK HEB HET GEDAAN | I9: IK BEHEERS HET | J9: RUIMTE VOOR REFLECTIE
A10: WK45: 2 t/m 6 nov. | B10: TAKEN & OPDRACHTEN | H10: FALSE | I10: FALSE
A11: Keuzemenu | G11: FALSE
A12: Keuzemenu | G12: FALSE
A13: Keuzemenu | G13: FALSE
A14: Keuzemenu | G14: FALSE
A15: Keuzemenu | G15: FALSE
A16: WK46: 9 t/m 13 nov. | B16: TAKEN & OPDRACHTEN | H16: FALSE | I16: FALSE
A17: Keuzemenu | G17: FALSE
A18: Keuzemenu | G18: FALSE
A19: Keuzemenu | G19: FALSE
A20: Keuzemenu | G20: FALSE
A21: Keuzemenu | G21: FALSE
A22: WK47: 16 t/m 20 nov. | B22: TAKEN & OPDRACHTEN | H22: FALSE | I22: FALSE
A23: Keuzemenu | G23: FALSE
A24: Keuzemenu | G24: FALSE
A25: Keuzemenu | G25: FALSE
A26: Keuzemenu | G26: FALSE
A27: Keuzemenu | G27: FALSE
A28: WK48: 23 t/m 27 nov. | B28: TAKEN & OPDRACHTEN | H28: FALSE | I28: FALSE
A29: Keuzemenu | G29: FALSE
A30: Keuzemenu | G30: FALSE
A31: Keuzemenu | G31: FALSE
A32: Keuzemenu | G32: FALSE
A33: Keuzemenu | G33: FALSE
A34: WK49: 30 t/m 4 dec. | B34: TAKEN & OPDRACHTEN | H34: FALSE | I34: FALSE
A35: Keuzemenu | G35: FALSE
A36: Keuzemenu | G36: FALSE
A37: Keuzemenu | G37: FALSE
A38: Keuzemenu | G38: FALSE
A39: Keuzemenu | G39: FALSE
A40: WK50: 7 t/m 11 dec. | B40: TAKEN & OPDRACHTEN | H40: FALSE | I40: FALSE
A41: Keuzemenu | G41: FALSE
A42: Keuzemenu | G42: FALSE
...

Sheet EN
B1: ENGELS (EN) | K1: PERIODE 2
A3: ALGEMENE INFORMATIE
A4: Welkomswoordje
A5: Wat gaan we deze periode doen? Wat is de Daltontaak? Wat houd de Daltontaak in?
A6: Welke boeken/spullen/materialen zijn er nodig?
A7: Wat moet je geleerd hebben na deze periode?
A9: VAKINHOUD | H9: IK HEB HET GEDAAN | I9: IK BEHEERS HET | J9: RUIMTE VOOR REFLECTIE
A10: WK45: 2 t/m 6 nov. | B10: TAKEN & OPDRACHTEN | H10: FALSE | I10: FALSE
A11: Keuzemenu | G11: FALSE
A12: Keuzemenu | G12: FALSE
A13: Keuzemenu | G13: FALSE
A14: Keuzemenu | G14: FALSE
A15: Keuzemenu | G15: FALSE
A16: WK46: 9 t/m 13 nov. | B16: TAKEN & OPDRACHTEN | H16: FALSE | I16: FALSE
A17: Keuzemenu | G17: FALSE
A18: Keuzemenu | G18: FALSE
A19: Keuzemenu | G19: FALSE
A20: Keuzemenu | G20: FALSE
A21: Keuzemenu | G21: FALSE
A22: WK47: 16 t/m 20 nov. | B22: TAKEN & OPDRACHTEN | H22: FALSE | I22: FALSE
A23: Keuzemenu | G23: FALSE
A24: Keuzemenu | G24: FALSE
A25: Keuzemenu | G25: FALSE
A26: Keuzemenu | G26: FALSE
A27: Keuzemenu | G27: FALSE
A28: WK48: 23 t/m 27 nov. | B28: TAKEN & OPDRACHTEN | H28: FALSE | I28: FALSE
A29: Keuzemenu | G29: FALSE
A30: Keuzemenu | G30: FALSE
A31: Keuzemenu | G31: FALSE
A32: Keuzemenu | G32: FALSE
A33: Keuzemenu | G33: FALSE
A34: WK49: 30 t/m 4 dec. | B34: TAKEN & OPDRACHTEN | H34: FALSE | I34: FALSE
A35: Keuzemenu | G35: FALSE
A36: Keuzemenu | G36: FALSE
A37: Keuzemenu | G37: FALSE
A38: Keuzemenu | G38: FALSE
A39: Keuzemenu | G39: FALSE
A40: WK50: 7 t/m 11 dec. | B40: TAKEN & OPDRACHTEN | H40: FALSE | I40: FALSE
A41: Keuzemenu | G41: FALSE
A42: Keuzemenu | G42: FALSE
...

Sheet FA
B1: FRANS (FA) | K1: PERIODE 2
A3: ALGEMENE INFORMATIE
A4: Welkomswoordje
A5: Wat gaan we deze periode doen? Wat is de Daltontaak? Wat houd de Daltontaak in?
A6: Welke boeken/spullen/materialen zijn er nodig?
A7: Wat moet je geleerd hebben na deze periode?
A9: VAKINHOUD | H9: IK HEB HET GEDAAN | I9: IK BEHEERS HET | J9: RUIMTE VOOR REFLECTIE
A10: WK45: 2 t/m 6 nov. | B10: TAKEN & OPDRACHTEN | H10: FALSE | I10: FALSE
A11: Keuzemenu | G11: FALSE
A12: Keuzemenu | G12: FALSE
A13: Keuzemenu | G13: FALSE
A14: Keuzemenu | G14: FALSE
A15: Keuzemenu | G15: FALSE
A16: WK46: 9 t/m 13 nov. | B16: TAKEN & OPDRACHTEN | H16: FALSE | I16: FALSE
A17: Keuzemenu | G17: FALSE
A18: Keuzemenu | G18: FALSE
A19: Keuzemenu | G19: FALSE
A20: Keuzemenu | G20: FALSE
A21: Keuzemenu | G21: FALSE
A22: WK47: 16 t/m 20 nov. | B22: TAKEN & OPDRACHTEN | H22: FALSE | I22: FALSE
A23: Keuzemenu | G23: FALSE
A24: Keuzemenu | G24: FALSE
A25: Keuzemenu | G25: FALSE
A26: Keuzemenu | G26: FALSE
A27: Keuzemenu | G27: FALSE
A28: WK48: 23 t/m 27 nov. | B28: TAKEN & OPDRACHTEN | H28: FALSE | I28: FALSE
A29: Keuzemenu | G29: FALSE
A30: Keuzemenu | G30: FALSE
A31: Keuzemenu | G31: FALSE
A32: Keuzemenu | G32: FALSE
A33: Keuzemenu | G33: FALSE
A34: WK49: 30 t/m 4 dec. | B34: TAKEN & OPDRACHTEN | H34: FALSE | I34: FALSE
A35: Keuzemenu | G35: FALSE
A36: Keuzemenu | G36: FALSE
A37: Keuzemenu | G37: FALSE
A38: Keuzemenu | G38: FALSE
A39: Keuzemenu | G39: FALSE
A40: WK50: 7 t/m 11 dec. | B40: TAKEN & OPDRACHTEN | H40: FALSE | I40: FALSE
A41: Keuzemenu | G41: FALSE
A42: Keuzemenu | G42: FALSE
...

Sheet GS
B1: GESCHIEDENIS (GS) | K1: PERIODE 2
A3: ALGEMENE INFORMATIE
A4: Welkomswoordje
A5: Wat gaan we deze periode doen? Wat is de Daltontaak? Wat houd de Daltontaak in?
A6: Welke boeken/spullen/materialen zijn er nodig?
A7: Wat moet je geleerd hebben na deze periode?
A9: VAKINHOUD | H9: IK HEB HET GEDAAN | I9: IK BEHEERS HET | J9: RUIMTE VOOR REFLECTIE
A10: WK45: 2 t/m 6 nov. | B10: TAKEN & OPDRACHTEN | H10: FALSE | I10: FALSE
A11: Keuzemenu | G11: FALSE
A12: Keuzemenu | G12: FALSE
A13: Keuzemenu | G13: FALSE
A14: Keuzemenu | G14: FALSE
A15: Keuzemenu | G15: FALSE
A16: WK46: 9 t/m 13 nov. | B16: TAKEN & OPDRACHTEN | H16: FALSE | I16: FALSE
A17: Keuzemenu | G17: FALSE
A18: Keuzemenu | G18: FALSE
A19: Keuzemenu | G19: FALSE
A20: Keuzemenu | G20: FALSE
A21: Keuzemenu | G21: FALSE
A22: WK47: 16 t/m 20 nov. | B22: TAKEN & OPDRACHTEN | H22: FALSE | I22: FALSE
A23: Keuzemenu | G23: FALSE
A24: Keuzemenu | G24: FALSE
A25: Keuzemenu | G25: FALSE
A26: Keuzemenu | G26: FALSE
A27: Keuzemenu | G27: FALSE
A28: WK48: 23 t/m 27 nov. | B28: TAKEN & OPDRACHTEN | H28: FALSE | I28: FALSE
A29: Keuzemenu | G29: FALSE
A30: Keuzemenu | G30: FALSE
A31: Keuzemenu | G31: FALSE
A32: Keuzemenu | G32: FALSE
A33: Keuzemenu | G33: FALSE
A34: WK49: 30 t/m 4 dec. | B34: TAKEN & OPDRACHTEN | H34: FALSE | I34: FALSE
A35: Keuzemenu | G35: FALSE
A36: Keuzemenu | G36: FALSE
A37: Keuzemenu | G37: FALSE
A38: Keuzemenu | G38: FALSE
A39: Keuzemenu | G39: FALSE
A40: WK50: 7 t/m 11 dec. | B40: TAKEN & OPDRACHTEN | H40: FALSE | I40: FALSE
A41: Keuzemenu | G41: FALSE
A42: Keuzemenu | G42: FALSE
...

Sheet HV
B1: HANDVAARDIGHEID (HV) | K1: PERIODE 2
A3: ALGEMENE INFORMATIE
A4: Welkomswoordje
A5: Wat gaan we deze periode doen? Wat is de Daltontaak? Wat houd de Daltontaak in?
A6: Welke boeken/spullen/materialen zijn er nodig?
A7: Wat moet je geleerd hebben na deze periode?
A9: VAKINHOUD | H9: IK HEB HET GEDAAN | I9: IK BEHEERS HET | J9: RUIMTE VOOR REFLECTIE
A10: WK45: 2 t/m 6 nov. | B10: TAKEN & OPDRACHTEN | H10: FALSE | I10: FALSE
A11: Keuzemenu | G11: FALSE
A12: Keuzemenu | G12: FALSE
A13: Keuzemenu | G13: FALSE
A14: Keuzemenu | G14: FALSE
A15: Keuzemenu | G15: FALSE
A16: WK46: 9 t/m 13 nov. | B16: TAKEN & OPDRACHTEN | H16: FALSE | I16: FALSE
A17: Keuzemenu | G17: FALSE
A18: Keuzemenu | G18: FALSE
A19: Keuzemenu | G19: FALSE
A20: Keuzemenu | G20: FALSE
A21: Keuzemenu | G21: FALSE
A22: WK47: 16 t/m 20 nov. | B22: TAKEN & OPDRACHTEN | H22: FALSE | I22: FALSE
A23: Keuzemenu | G23: FALSE
A24: Keuzemenu | G24: FALSE
A25: Keuzemenu | G25: FALSE
A26: Keuzemenu | G26: FALSE
A27: Keuzemenu | G27: FALSE
A28: WK48: 23 t/m 27 nov. | B28: TAKEN & OPDRACHTEN | H28: FALSE | I28: FALSE
A29: Keuzemenu | G29: FALSE
A30: Keuzemenu | G30: FALSE
A31: Keuzemenu | G31: FALSE
A32: Keuzemenu | G32: FALSE
A33: Keuzemenu | G33: FALSE
A34: WK49: 30 t/m 4 dec. | B34: TAKEN & OPDRACHTEN | H34: FALSE | I34: FALSE
A35: Keuzemenu | G35: FALSE
A36: Keuzemenu | G36: FALSE
A37: Keuzemenu | G37: FALSE
A38: Keuzemenu | G38: FALSE
A39: Keuzemenu | G39: FALSE
A40: WK50: 7 t/m 11 dec. | B40: TAKEN & OPDRACHTEN | H40: FALSE | I40: FALSE
A41: Keuzemenu | G41: FALSE
A42: Keuzemenu | G42: FALSE
...

Sheet HAPR
B1: HAVO-Pro (HAPR) | K1: PERIODE 2
A3: ALGEMENE INFORMATIE
A4: Welkomswoordje
A5: Wat gaan we deze periode doen? Wat is de Daltontaak? Wat houd de Daltontaak in?
A6: Welke boeken/spullen/materialen zijn er nodig?
A7: Wat moet je geleerd hebben na deze periode?
A9: VAKINHOUD | H9: IK HEB HET GEDAAN | I9: IK BEHEERS HET | J9: RUIMTE VOOR REFLECTIE
A10: WK45: 2 t/m 6 nov. | B10: TAKEN & OPDRACHTEN | H10: FALSE | I10: FALSE
A11: Keuzemenu | G11: FALSE
A12: Keuzemenu | G12: FALSE
A13: Keuzemenu | G13: FALSE
A14: Keuzemenu | G14: FALSE
A15: Keuzemenu | G15: FALSE
A16: WK46: 9 t/m 13 nov. | B16: TAKEN & OPDRACHTEN | H16: FALSE | I16: FALSE
A17: Keuzemenu | G17: FALSE
A18: Keuzemenu | G18: FALSE
A19: Keuzemenu | G19: FALSE
A20: Keuzemenu | G20: FALSE
A21: Keuzemenu | G21: FALSE
A22: WK47: 16 t/m 20 nov. | B22: TAKEN & OPDRACHTEN | H22: FALSE | I22: FALSE
A23: Keuzemenu | G23: FALSE
A24: Keuzemenu | G24: FALSE
A25: Keuzemenu | G25: FALSE
A26: Keuzemenu | G26: FALSE
A27: Keuzemenu | G27: FALSE
A28: WK48: 23 t/m 27 nov. | B28: TAKEN & OPDRACHTEN | H28: FALSE | I28: FALSE
A29: Keuzemenu | G29: FALSE
A30: Keuzemenu | G30: FALSE
A31: Keuzemenu | G31: FALSE
A32: Keuzemenu | G32: FALSE
A33: Keuzemenu | G33: FALSE
A34: WK49: 30 t/m 4 dec. | B34: TAKEN & OPDRACHTEN | H34: FALSE | I34: FALSE
A35: Keuzemenu | G35: FALSE
A36: Keuzemenu | G36: FALSE
A37: Keuzemenu | G37: FALSE
A38: Keuzemenu | G38: FALSE
A39: Keuzemenu | G39: FALSE
A40: WK50: 7 t/m 11 dec. | B40: TAKEN & OPDRACHTEN | H40: FALSE | I40: FALSE
A41: Keuzemenu | G41: FALSE
A42: Keuzemenu | G42: FALSE
...

Sheet IN
B1: INFORMATICA (IN) | K1: PERIODE 2
A3: ALGEMENE INFORMATIE
A4: Welkomswoordje
A5: Wat gaan we deze periode doen? Wat is de Daltontaak? Wat houd de Daltontaak in?
A6: Welke boeken/spullen/materialen zijn er nodig?
A7: Wat moet je geleerd hebben na deze periode?
A9: VAKINHOUD | H9: IK HEB HET GEDAAN | I9: IK BEHEERS HET | J9: RUIMTE VOOR REFLECTIE
A10: WK45: 2 t/m 6 nov. | B10: TAKEN & OPDRACHTEN | H10: FALSE | I10: FALSE
A11: Keuzemenu | G11: FALSE
A12: Keuzemenu | G12: FALSE
A13: Keuzemenu | G13: FALSE
A14: Keuzemenu | G14: FALSE
A15: Keuzemenu | G15: FALSE
A16: WK46: 9 t/m 13 nov. | B16: TAKEN & OPDRACHTEN | H16: FALSE | I16: FALSE
A17: Keuzemenu | G17: FALSE
A18: Keuzemenu | G18: FALSE
A19: Keuzemenu | G19: FALSE
A20: Keuzemenu | G20: FALSE
A21: Keuzemenu | G21: FALSE
A22: WK47: 16 t/m 20 nov. | B22: TAKEN & OPDRACHTEN | H22: FALSE | I22: FALSE
A23: Keuzemenu | G23: FALSE
A24: Keuzemenu | G24: FALSE
A25: Keuzemenu | G25: FALSE
A26: Keuzemenu | G26: FALSE
A27: Keuzemenu | G27: FALSE
A28: WK48: 23 t/m 27 nov. | B28: TAKEN & OPDRACHTEN | H28: FALSE | I28: FALSE
A29: Keuzemenu | G29: FALSE
A30: Keuzemenu | G30: FALSE
A31: Keuzemenu | G31: FALSE
A32: Keuzemenu | G32: FALSE
A33: Keuzemenu | G33: FALSE
A34: WK49: 30 t/m 4 dec. | B34: TAKEN & OPDRACHTEN | H34: FALSE | I34: FALSE
A35: Keuzemenu | G35: FALSE
A36: Keuzemenu | G36: FALSE
A37: Keuzemenu | G37: FALSE
A38: Keuzemenu | G38: FALSE
A39: Keuzemenu | G39: FALSE
A40: WK50: 7 t/m 11 dec. | B40: TAKEN & OPDRACHTEN | H40: FALSE | I40: FALSE
A41: Keuzemenu | G41: FALSE
A42: Keuzemenu | G42: FALSE
...

Sheet KUA
B1: KUNST ALGEMEEN (KUA) | K1: PERIODE 2
A3: ALGEMENE INFORMATIE
A4: Welkomswoordje
A5: Wat gaan we deze periode doen? Wat is de Daltontaak? Wat houd de Daltontaak in?
A6: Welke boeken/spullen/materialen zijn er nodig?
A7: Wat moet je geleerd hebben na deze periode?
A9: VAKINHOUD | H9: IK HEB HET GEDAAN | I9: IK BEHEERS HET | J9: RUIMTE VOOR REFLECTIE
A10: WK45: 2 t/m 6 nov. | B10: TAKEN & OPDRACHTEN | H10: FALSE | I10: FALSE
A11: Keuzemenu | G11: FALSE
A12: Keuzemenu | G12: FALSE
A13: Keuzemenu | G13: FALSE
A14: Keuzemenu | G14: FALSE
A15: Keuzemenu | G15: FALSE
A16: WK46: 9 t/m 13 nov. | B16: TAKEN & OPDRACHTEN | H16: FALSE | I16: FALSE
A17: Keuzemenu | G17: FALSE
A18: Keuzemenu | G18: FALSE
A19: Keuzemenu | G19: FALSE
A20: Keuzemenu | G20: FALSE
A21: Keuzemenu | G21: FALSE
A22: WK47: 16 t/m 20 nov. | B22: TAKEN & OPDRACHTEN | H22: FALSE | I22: FALSE
A23: Keuzemenu | G23: FALSE
A24: Keuzemenu | G24: FALSE
A25: Keuzemenu | G25: FALSE
A26: Keuzemenu | G26: FALSE
A27: Keuzemenu | G27: FALSE
A28: WK48: 23 t/m 27 nov. | B28: TAKEN & OPDRACHTEN | H28: FALSE | I28: FALSE
A29: Keuzemenu | G29: FALSE
A30: Keuzemenu | G30: FALSE
A31: Keuzemenu | G31: FALSE
A32: Keuzemenu | G32: FALSE
A33: Keuzemenu | G33: FALSE
A34: WK49: 30 t/m 4 dec. | B34: TAKEN & OPDRACHTEN | H34: FALSE | I34: FALSE
A35: Keuzemenu | G35: FALSE
A36: Keuzemenu | G36: FALSE
A37: Keuzemenu | G37: FALSE
A38: Keuzemenu | G38: FALSE
A39: Keuzemenu | G39: FALSE
A40: WK50: 7 t/m 11 dec. | B40: TAKEN & OPDRACHTEN | H40: FALSE | I40: FALSE
A41: Keuzemenu | G41: FALSE
A42: Keuzemenu | G42: FALSE
...

Sheet KUBV
B1: KUNST BEELDENDE VORMING (KUBV) | K1: PERIODE 2
A3: ALGEMENE INFORMATIE
A4: Welkomswoordje
A5: Wat gaan we deze periode doen? Wat is de Daltontaak? Wat houd de Daltontaak in?
A6: Welke boeken/spullen/materialen zijn er nodig?
A7: Wat moet je geleerd hebben na deze periode?
A9: VAKINHOUD | H9: IK HEB HET GEDAAN | I9: IK BEHEERS HET | J9: RUIMTE VOOR REFLECTIE
A10: WK45: 2 t/m 6 nov. | B10: TAKEN & OPDRACHTEN | H10: FALSE | I10: FALSE
A11: Keuzemenu | G11: FALSE
A12: Keuzemenu | G12: FALSE
A13: Keuzemenu | G13: FALSE
A14: Keuzemenu | G14: FALSE
A15: Keuzemenu | G15: FALSE
A16: WK46: 9 t/m 13 nov. | B16: TAKEN & OPDRACHTEN | H16: FALSE | I16: FALSE
A17: Keuzemenu | G17: FALSE
A18: Keuzemenu | G18: FALSE
A19: Keuzemenu | G19: FALSE
A20: Keuzemenu | G20: FALSE
A21: Keuzemenu | G21: FALSE
A22: WK47: 16 t/m 20 nov. | B22: TAKEN & OPDRACHTEN | H22: FALSE | I22: FALSE
A23: Keuzemenu | G23: FALSE
A24: Keuzemenu | G24: FALSE
A25: Keuzemenu | G25: FALSE
A26: Keuzemenu | G26: FALSE
A27: Keuzemenu | G27: FALSE
A28: WK48: 23 t/m 27 nov. | B28: TAKEN & OPDRACHTEN | H28: FALSE | I28: FALSE
A29: Keuzemenu | G29: FALSE
A30: Keuzemenu | G30: FALSE
A31: Keuzemenu | G31: FALSE
A32: Keuzemenu | G32: FALSE
A33: Keuzemenu | G33: FALSE
A34: WK49: 30 t/m 4 dec. | B34: TAKEN & OPDRACHTEN | H34: FALSE | I34: FALSE
A35: Keuzemenu | G35: FALSE
A36: Keuzemenu | G36: FALSE
A37: Keuzemenu | G37: FALSE
A38: Keuzemenu | G38: FALSE
A39: Keuzemenu | G39: FALSE
A40: WK50: 7 t/m 11 dec. | B40: TAKEN & OPDRACHTEN | H40: FALSE | I40: FALSE
A41: Keuzemenu | G41: FALSE
A42: Keuzemenu | G42: FALSE
...

Sheet MA
B1: MAATSCHAPPIJLEER (MA) | K1: PERIODE 2
A3: ALGEMENE INFORMATIE
A4: Welkomswoordje
A5: Wat gaan we deze periode doen? Wat is de Daltontaak? Wat houd de Daltontaak in?
A6: Welke boeken/spullen/materialen zijn er nodig?
A7: Wat moet je geleerd hebben na deze periode?
A9: VAKINHOUD | H9: IK HEB HET GEDAAN | I9: IK BEHEERS HET | J9: RUIMTE VOOR REFLECTIE
A10: WK45: 2 t/m 6 nov. | B10: TAKEN & OPDRACHTEN | H10: FALSE | I10: FALSE
A11: Keuzemenu | G11: FALSE
A12: Keuzemenu | G12: FALSE
A13: Keuzemenu | G13: FALSE
A14: Keuzemenu | G14: FALSE
A15: Keuzemenu | G15: FALSE
A16: WK46: 9 t/m 13 nov. | B16: TAKEN & OPDRACHTEN | H16: FALSE | I16: FALSE
A17: Keuzemenu | G17: FALSE
A18: Keuzemenu | G18: FALSE
A19: Keuzemenu | G19: FALSE
A20: Keuzemenu | G20: FALSE
A21: Keuzemenu | G21: FALSE
A22: WK47: 16 t/m 20 nov. | B22: TAKEN & OPDRACHTEN | H22: FALSE | I22: FALSE
A23: Keuzemenu | G23: FALSE
A24: Keuzemenu | G24: FALSE
A25: Keuzemenu | G25: FALSE
A26: Keuzemenu | G26: FALSE
A27: Keuzemenu | G27: FALSE
A28: WK48: 23 t/m 27 nov. | B28: TAKEN & OPDRACHTEN | H28: FALSE | I28: FALSE
A29: Keuzemenu | G29: FALSE
A30: Keuzemenu | G30: FALSE
A31: Keuzemenu | G31: FALSE
A32: Keuzemenu | G32: FALSE
A33: Keuzemenu | G33: FALSE
A34: WK49: 30 t/m 4 dec. | B34: TAKEN & OPDRACHTEN | H34: FALSE | I34: FALSE
A35: Keuzemenu | G35: FALSE
A36: Keuzemenu | G36: FALSE
A37: Keuzemenu | G37: FALSE
A38: Keuzemenu | G38: FALSE
A39: Keuzemenu | G39: FALSE
A40: WK50: 7 t/m 11 dec. | B40: TAKEN & OPDRACHTEN | H40: FALSE | I40: FALSE
A41: Keuzemenu | G41: FALSE
A42: Keuzemenu | G42: FALSE
...

Sheet MK
B1: MAATSCHAPPIJKUNDE (MK) | K1: PERIODE 2
A3: ALGEMENE INFORMATIE
A4: Welkomswoordje
A5: Wat gaan we deze periode doen? Wat is de Daltontaak? Wat houd de Daltontaak in?
A6: Welke boeken/spullen/materialen zijn er nodig?
A7: Wat moet je geleerd hebben na deze periode?
A9: VAKINHOUD | H9: IK HEB HET GEDAAN | I9: IK BEHEERS HET | J9: RUIMTE VOOR REFLECTIE
A10: WK45: 2 t/m 6 nov. | B10: TAKEN & OPDRACHTEN | H10: FALSE | I10: FALSE
A11: Keuzemenu | G11: FALSE
A12: Keuzemenu | G12: FALSE
A13: Keuzemenu | G13: FALSE
A14: Keuzemenu | G14: FALSE
A15: Keuzemenu | G15: FALSE
A16: WK46: 9 t/m 13 nov. | B16: TAKEN & OPDRACHTEN | H16: FALSE | I16: FALSE
A17: Keuzemenu | G17: FALSE
A18: Keuzemenu | G18: FALSE
A19: Keuzemenu | G19: FALSE
A20: Keuzemenu | G20: FALSE
A21: Keuzemenu | G21: FALSE
A22: WK47: 16 t/m 20 nov. | B22: TAKEN & OPDRACHTEN | H22: FALSE | I22: FALSE
A23: Keuzemenu | G23: FALSE
A24: Keuzemenu | G24: FALSE
A25: Keuzemenu | G25: FALSE
A26: Keuzemenu | G26: FALSE
A27: Keuzemenu | G27: FALSE
A28: WK48: 23 t/m 27 nov. | B28: TAKEN & OPDRACHTEN | H28: FALSE | I28: FALSE
A29: Keuzemenu | G29: FALSE
A30: Keuzemenu | G30: FALSE
A31: Keuzemenu | G31: FALSE
A32: Keuzemenu | G32: FALSE
A33: Keuzemenu | G33: FALSE
A34: WK49: 30 t/m 4 dec. | B34: TAKEN & OPDRACHTEN | H34: FALSE | I34: FALSE
A35: Keuzemenu | G35: FALSE
A36: Keuzemenu | G36: FALSE
A37: Keuzemenu | G37: FALSE
A38: Keuzemenu | G38: FALSE
A39: Keuzemenu | G39: FALSE
A40: WK50: 7 t/m 11 dec. | B40: TAKEN & OPDRACHTEN | H40: FALSE | I40: FALSE
A41: Keuzemenu | G41: FALSE
A42: Keuzemenu | G42: FALSE
...

Sheet MU
B1: MUZIEK (MU) | K1: PERIODE 2
A3: ALGEMENE INFORMATIE
A4: Welkomswoordje
A5: Wat gaan we deze periode doen? Wat is de Daltontaak? Wat houd de Daltontaak in?
A6: Welke boeken/spullen/materialen zijn er nodig?
A7: Wat moet je geleerd hebben na deze periode?
A9: VAKINHOUD | H9: IK HEB HET GEDAAN | I9: IK BEHEERS HET | J9: RUIMTE VOOR REFLECTIE
A10: WK45: 2 t/m 6 nov. | B10: TAKEN & OPDRACHTEN | H10: FALSE | I10: FALSE
A11: Keuzemenu | G11: FALSE
A12: Keuzemenu | G12: FALSE
A13: Keuzemenu | G13: FALSE
A14: Keuzemenu | G14: FALSE
A15: Keuzemenu | G15: FALSE
A16: WK46: 9 t/m 13 nov. | B16: TAKEN & OPDRACHTEN | H16: FALSE | I16: FALSE
A17: Keuzemenu | G17: FALSE
A18: Keuzemenu | G18: FALSE
A19: Keuzemenu | G19: FALSE
A20: Keuzemenu | G20: FALSE
A21: Keuzemenu | G21: FALSE
A22: WK47: 16 t/m 20 nov. | B22: TAKEN & OPDRACHTEN | H22: FALSE | I22: FALSE
A23: Keuzemenu | G23: FALSE
A24: Keuzemenu | G24: FALSE
A25: Keuzemenu | G25: FALSE
A26: Keuzemenu | G26: FALSE
A27: Keuzemenu | G27: FALSE
A28: WK48: 23 t/m 27 nov. | B28: TAKEN & OPDRACHTEN | H28: FALSE | I28: FALSE
A29: Keuzemenu | G29: FALSE
A30: Keuzemenu | G30: FALSE
A31: Keuzemenu | G31: FALSE
A32: Keuzemenu | G32: FALSE
A33: Keuzemenu | G33: FALSE
A34: WK49: 30 t/m 4 dec. | B34: TAKEN & OPDRACHTEN | H34: FALSE | I34: FALSE
A35: Keuzemenu | G35: FALSE
A36: Keuzemenu | G36: FALSE
A37: Keuzemenu | G37: FALSE
A38: Keuzemenu | G38: FALSE
A39: Keuzemenu | G39: FALSE
A40: WK50: 7 t/m 11 dec. | B40: TAKEN & OPDRACHTEN | H40: FALSE | I40: FALSE
A41: Keuzemenu | G41: FALSE
A42: Keuzemenu | G42: FALSE
...

Sheet NS
B1: NATUUR- EN SCHEIKUNDE (NS) | K1: PERIODE 2
A3: ALGEMENE INFORMATIE
A4: Welkomswoordje
A5: Wat gaan we deze periode doen? Wat is de Daltontaak? Wat houd de Daltontaak in?
A6: Welke boeken/spullen/materialen zijn er nodig?
A7: Wat moet je geleerd hebben na deze periode?
A9: VAKINHOUD | H9: IK HEB HET GEDAAN | I9: IK BEHEERS HET | J9: RUIMTE VOOR REFLECTIE
A10: WK45: 2 t/m 6 nov. | B10: TAKEN & OPDRACHTEN | H10: FALSE | I10: FALSE
A11: Keuzemenu | G11: FALSE
A12: Keuzemenu | G12: FALSE
A13: Keuzemenu | G13: FALSE
A14: Keuzemenu | G14: FALSE
A15: Keuzemenu | G15: FALSE
A16: WK46: 9 t/m 13 nov. | B16: TAKEN & OPDRACHTEN | H16: FALSE | I16: FALSE
A17: Keuzemenu | G17: FALSE
A18: Keuzemenu | G18: FALSE
A19: Keuzemenu | G19: FALSE
A20: Keuzemenu | G20: FALSE
A21: Keuzemenu | G21: FALSE
A22: WK47: 16 t/m 20 nov. | B22: TAKEN & OPDRACHTEN | H22: FALSE | I22: FALSE
A23: Keuzemenu | G23: FALSE
A24: Keuzemenu | G24: FALSE
A25: Keuzemenu | G25: FALSE
A26: Keuzemenu | G26: FALSE
A27: Keuzemenu | G27: FALSE
A28: WK48: 23 t/m 27 nov. | B28: TAKEN & OPDRACHTEN | H28: FALSE | I28: FALSE
A29: Keuzemenu | G29: FALSE
A30: Keuzemenu | G30: FALSE
A31: Keuzemenu | G31: FALSE
A32: Keuzemenu | G32: FALSE
A33: Keuzemenu | G33: FALSE
A34: WK49: 30 t/m 4 dec. | B34: TAKEN & OPDRACHTEN | H34: FALSE | I34: FALSE
A35: Keuzemenu | G35: FALSE
A36: Keuzemenu | G36: FALSE
A37: Keuzemenu | G37: FALSE
A38: Keuzemenu | G38: FALSE
A39: Keuzemenu | G39: FALSE
A40: WK50: 7 t/m 11 dec. | B40: TAKEN & OPDRACHTEN | H40: FALSE | I40: FALSE
A41: Keuzemenu | G41: FALSE
A42: Keuzemenu | G42: FALSE
...

Sheet NAT
B1: NATUURKUNDE (NAT) | K1: PERIODE 2
A3: ALGEMENE INFORMATIE
A4: Welkomswoordje
A5: Wat gaan we deze periode doen? Wat is de Daltontaak? Wat houd de Daltontaak in?
A6: Welke boeken/spullen/materialen zijn er nodig?
A7: Wat moet je geleerd hebben na deze periode?
A9: VAKINHOUD | H9: IK HEB HET GEDAAN | I9: IK BEHEERS HET | J9: RUIMTE VOOR REFLECTIE
A10: WK45: 2 t/m 6 nov. | B10: TAKEN & OPDRACHTEN | H10: FALSE | I10: FALSE
A11: Keuzemenu | G11: FALSE
A12: Keuzemenu | G12: FALSE
A13: Keuzemenu | G13: FALSE
A14: Keuzemenu | G14: FALSE
A15: Keuzemenu | G15: FALSE
A16: WK46: 9 t/m 13 nov. | B16: TAKEN & OPDRACHTEN | H16: FALSE | I16: FALSE
A17: Keuzemenu | G17: FALSE
A18: Keuzemenu | G18: FALSE
A19: Keuzemenu | G19: FALSE
A20: Keuzemenu | G20: FALSE
A21: Keuzemenu | G21: FALSE
A22: WK47: 16 t/m 20 nov. | B22: TAKEN & OPDRACHTEN | H22: FALSE | I22: FALSE
A23: Keuzemenu | G23: FALSE
A24: Keuzemenu | G24: FALSE
A25: Keuzemenu | G25: FALSE
A26: Keuzemenu | G26: FALSE
A27: Keuzemenu | G27: FALSE
A28: WK48: 23 t/m 27 nov. | B28: TAKEN & OPDRACHTEN | H28: FALSE | I28: FALSE
A29: Keuzemenu | G29: FALSE
A30: Keuzemenu | G30: FALSE
A31: Keuzemenu | G31: FALSE
A32: Keuzemenu | G32: FALSE
A33: Keuzemenu | G33: FALSE
A34: WK49: 30 t/m 4 dec. | B34: TAKEN & OPDRACHTEN | H34: FALSE | I34: FALSE
A35: Keuzemenu | G35: FALSE
A36: Keuzemenu | G36: FALSE
A37: Keuzemenu | G37: FALSE
A38: Keuzemenu | G38: FALSE
A39: Keuzemenu | G39: FALSE
A40: WK50: 7 t/m 11 dec. | B40: TAKEN & OPDRACHTEN | H40: FALSE | I40: FALSE
A41: Keuzemenu | G41: FALSE
A42: Keuzemenu | G42: FALSE
...

Sheet NE
B1: NEDERLANDS (NE) | K1: PERIODE 2
A3: ALGEMENE INFORMATIE
A4: Welkomswoordje
A5: Wat gaan we deze periode doen? Wat is de Daltontaak? Wat houd de Daltontaak in?
A6: Welke boeken/spullen/materialen zijn er nodig?
A7: Wat moet je geleerd hebben na deze periode?
A9: VAKINHOUD | H9: IK HEB HET GEDAAN | I9: IK BEHEERS HET | J9: RUIMTE VOOR REFLECTIE
A10: WK45: 2 t/m 6 nov. | B10: TAKEN & OPDRACHTEN | H10: FALSE | I10: FALSE
A11: Keuzemenu | G11: FALSE
A12: Keuzemenu | G12: FALSE
A13: Keuzemenu | G13: FALSE
A14: Keuzemenu | G14: FALSE
A15: Keuzemenu | G15: FALSE
A16: WK46: 9 t/m 13 nov. | B16: TAKEN & OPDRACHTEN | H16: FALSE | I16: FALSE
A17: Keuzemenu | G17: FALSE
A18: Keuzemenu | G18: FALSE
A19: Keuzemenu | G19: FALSE
A20: Keuzemenu | G20: FALSE
A21: Keuzemenu | G21: FALSE
A22: WK47: 16 t/m 20 nov. | B22: TAKEN & OPDRACHTEN | H22: FALSE | I22: FALSE
A23: Keuzemenu | G23: FALSE
A24: Keuzemenu | G24: FALSE
A25: Keuzemenu | G25: FALSE
A26: Keuzemenu | G26: FALSE
A27: Keuzemenu | G27: FALSE
A28: WK48: 23 t/m 27 nov. | B28: TAKEN & OPDRACHTEN | H28: FALSE | I28: FALSE
A29: Keuzemenu | G29: FALSE
A30: Keuzemenu | G30: FALSE
A31: Keuzemenu | G31: FALSE
A32: Keuzemenu | G32: FALSE
A33: Keuzemenu | G33: FALSE
A34: WK49: 30 t/m 4 dec. | B34: TAKEN & OPDRACHTEN | H34: FALSE | I34: FALSE
A35: Keuzemenu | G35: FALSE
A36: Keuzemenu | G36: FALSE
A37: Keuzemenu | G37: FALSE
A38: Keuzemenu | G38: FALSE
A39: Keuzemenu | G39: FALSE
A40: WK50: 7 t/m 11 dec. | B40: TAKEN & OPDRACHTEN | H40: FALSE | I40: FALSE
A41: Keuzemenu | G41: FALSE
A42: Keuzemenu | G42: FALSE
...

Sheet NLT
B1: NATUUR, LEVEN EN TECHNIEK (NLT) | K1: PERIODE 2
A3: ALGEMENE INFORMATIE
A4: Welkomswoordje
A5: Wat gaan we deze periode doen? Wat is de Daltontaak? Wat houd de Daltontaak in?
A6: Welke boeken/spullen/materialen zijn er nodig?
A7: Wat moet je geleerd hebben na deze periode?
A9: VAKINHOUD | H9: IK HEB HET GEDAAN | I9: IK BEHEERS HET | J9: RUIMTE VOOR REFLECTIE
A10: WK45: 2 t/m 6 nov. | B10: TAKEN & OPDRACHTEN | H10: FALSE | I10: FALSE
A11: Keuzemenu | G11: FALSE
A12: Keuzemenu | G12: FALSE
A13: Keuzemenu | G13: FALSE
A14: Keuzemenu | G14: FALSE
A15: Keuzemenu | G15: FALSE
A16: WK46: 9 t/m 13 nov. | B16: TAKEN & OPDRACHTEN | H16: FALSE | I16: FALSE
A17: Keuzemenu | G17: FALSE
A18: Keuzemenu | G18: FALSE
A19: Keuzemenu | G19: FALSE
A20: Keuzemenu | G20: FALSE
A21: Keuzemenu | G21: FALSE
A22: WK47: 16 t/m 20 nov. | B22: TAKEN & OPDRACHTEN | H22: FALSE | I22: FALSE
A23: Keuzemenu | G23: FALSE
A24: Keuzemenu | G24: FALSE
A25: Keuzemenu | G25: FALSE
A26: Keuzemenu | G26: FALSE
A27: Keuzemenu | G27: FALSE
A28: WK48: 23 t/m 27 nov. | B28: TAKEN & OPDRACHTEN | H28: FALSE | I28: FALSE
A29: Keuzemenu | G29: FALSE
A30: Keuzemenu | G30: FALSE
A31: Keuzemenu | G31: FALSE
A32: Keuzemenu | G32: FALSE
A33: Keuzemenu | G33: FALSE
A34: WK49: 30 t/m 4 dec. | B34: TAKEN & OPDRACHTEN | H34: FALSE | I34: FALSE
A35: Keuzemenu | G35: FALSE
A36: Keuzemenu | G36: FALSE
A37: Keuzemenu | G37: FALSE
A38: Keuzemenu | G38: FALSE
A39: Keuzemenu | G39: FALSE
A40: WK50: 7 t/m 11 dec. | B40: TAKEN & OPDRACHTEN | H40: FALSE | I40: FALSE
A41: Keuzemenu | G41: FALSE
A42: Keuzemenu | G42: FALSE
...

Sheet RE
B1: REKENEN (RE) | K1: PERIODE 2
A3: ALGEMENE INFORMATIE
A4: Welkomswoordje
A5: Wat gaan we deze periode doen? Wat is de Daltontaak? Wat houd de Daltontaak in?
A6: Welke boeken/spullen/materialen zijn er nodig?
A7: Wat moet je geleerd hebben na deze periode?
A9: VAKINHOUD | H9: IK HEB HET GEDAAN | I9: IK BEHEERS HET | J9: RUIMTE VOOR REFLECTIE
A10: WK45: 2 t/m 6 nov. | B10: TAKEN & OPDRACHTEN | H10: FALSE | I10: FALSE
A11: Keuzemenu | G11: FALSE
A12: Keuzemenu | G12: FALSE
A13: Keuzemenu | G13: FALSE
A14: Keuzemenu | G14: FALSE
A15: Keuzemenu | G15: FALSE
A16: WK46: 9 t/m 13 nov. | B16: TAKEN & OPDRACHTEN | H16: FALSE | I16: FALSE
A17: Keuzemenu | G17: FALSE
A18: Keuzemenu | G18: FALSE
A19: Keuzemenu | G19: FALSE
A20: Keuzemenu | G20: FALSE
A21: Keuzemenu | G21: FALSE
A22: WK47: 16 t/m 20 nov. | B22: TAKEN & OPDRACHTEN | H22: FALSE | I22: FALSE
A23: Keuzemenu | G23: FALSE
A24: Keuzemenu | G24: FALSE
A25: Keuzemenu | G25: FALSE
A26: Keuzemenu | G26: FALSE
A27: Keuzemenu | G27: FALSE
A28: WK48: 23 t/m 27 nov. | B28: TAKEN & OPDRACHTEN | H28: FALSE | I28: FALSE
A29: Keuzemenu | G29: FALSE
A30: Keuzemenu | G30: FALSE
A31: Keuzemenu | G31: FALSE
A32: Keuzemenu | G32: FALSE
A33: Keuzemenu | G33: FALSE
A34: WK49: 30 t/m 4 dec. | B34: TAKEN & OPDRACHTEN | H34: FALSE | I34: FALSE
A35: Keuzemenu | G35: FALSE
A36: Keuzemenu | G36: FALSE
A37: Keuzemenu | G37: FALSE
A38: Keuzemenu | G38: FALSE
A39: Keuzemenu | G39: FALSE
A40: WK50: 7 t/m 11 dec. | B40: TAKEN & OPDRACHTEN | H40: FALSE | I40: FALSE
A41: Keuzemenu | G41: FALSE
A42: Keuzemenu | G42: FALSE
...

Sheet RSCH
B1: RESEARCH (RSCH) | K1: PERIODE 2
A3: ALGEMENE INFORMATIE
A4: welkom bij research
A9: VAKINHOUD | H9: IK HEB HET GEDAAN | I9: IK BEHEERS HET | J9: RUIMTE VOOR REFLECTIE
A10: WK45: 2 t/m 6 nov. | B10: TAKEN & OPDRACHTEN | H10: FALSE | I10: FALSE
A11: Toets | B11: 2t spiekbrief | G11: FALSE
A12: Keuzemenu | G12: FALSE
A13: Keuzemenu | G13: FALSE
A14: Keuzemenu | G14: FALSE
A15: Keuzemenu | G15: FALSE
A16: WK46: 9 t/m 13 nov. | B16: TAKEN & OPDRACHTEN | H16: FALSE | I16: FALSE
A17: Maken | B17: maken onderzoeksverslag | G17: FALSE
A18: Keuzemenu | G18: FALSE
A19: Keuzemenu | G19: FALSE
A20: Keuzemenu | G20: FALSE
A21: Keuzemenu | G21: FALSE
A22: WK47: 16 t/m 20 nov. | B22: TAKEN & OPDRACHTEN | H22: FALSE | I22: FALSE
A23: Inleveren | B23: inleveren onderzoeksverslag | G23: FALSE
A24: Lezen | B24: H3 Duurzaamheid. Ontwerpcyclus. Blz. 30 t/m 33 | G24: FALSE
A25: Maken | B25: 3.3 Stap 1 t/m 4 | G25: FALSE
A26: Keuzemenu | G26: FALSE
A27: Keuzemenu | G27: FALSE
A28: WK48: 23 t/m 27 nov. | B28: TAKEN & OPDRACHTEN | H28: FALSE | I28: FALSE
A29: Maken | B29: stap 5 realiseren | G29: FALSE
A30: Keuzemenu | G30: FALSE
A31: Keuzemenu | G31: FALSE
A32: Keuzemenu | G32: FALSE
A33: Keuzemenu | G33: FALSE
A34: WK49: 30 t/m 4 dec. | B34: TAKEN & OPDRACHTEN | H34: FALSE | I34: FALSE
A35: Maken | B35: stap 5 realiseren | G35: FALSE
A36: Keuzemenu | G36: FALSE
A37: Keuzemenu | G37: FALSE
A38: Keuzemenu | G38: FALSE
A39: Keuzemenu | G39: FALSE
A40: WK50: 7 t/m 11 dec. | B40: TAKEN & OPDRACHTEN | H40: FALSE | I40: FALSE
A41: Maken | B41: stap 5 realiseren | G41: FALSE
A42: Keuzemenu | G42: FALSE
A43: Keuzemenu | G43: FALSE
A44: Keuzemenu | G44: FALSE
A45: Keuzemenu | G45: FALSE
...

Sheet SK
B1: SCHEIKUNDE (SK) | K1: PERIODE 2
A3: ALGEMENE INFORMATIE
A4: Welkomswoordje
A5: Wat gaan we deze periode doen? Wat is de Daltontaak? Wat houd de Daltontaak in?
A6: Welke boeken/spullen/materialen zijn er nodig?
A7: Wat moet je geleerd hebben na deze periode?
A9: VAKINHOUD | H9: IK HEB HET GEDAAN | I9: IK BEHEERS HET | J9: RUIMTE VOOR REFLECTIE
A10: WK45: 2 t/m 6 nov. | B10: TAKEN & OPDRACHTEN | H10: FALSE | I10: FALSE
A11: Keuzemenu | G11: FALSE
A12: Keuzemenu | G12: FALSE
A13: Keuzemenu | G13: FALSE
A14: Keuzemenu | G14: FALSE
A15: Keuzemenu | G15: FALSE
A16: WK46: 9 t/m 13 nov. | B16: TAKEN & OPDRACHTEN | H16: FALSE | I16: FALSE
A17: Keuzemenu | G17: FALSE
A18: Keuzemenu | G18: FALSE
A19: Keuzemenu | G19: FALSE
A20: Keuzemenu | G20: FALSE
A21: Keuzemenu | G21: FALSE
A22: WK47: 16 t/m 20 nov. | B22: TAKEN & OPDRACHTEN | H22: FALSE | I22: FALSE
A23: Keuzemenu | G23: FALSE
A24: Keuzemenu | G24: FALSE
A25: Keuzemenu | G25: FALSE
A26: Keuzemenu | G26: FALSE
A27: Keuzemenu | G27: FALSE
A28: WK48: 23 t/m 27 nov. | B28: TAKEN & OPDRACHTEN | H28: FALSE | I28: FALSE
A29: Keuzemenu | G29: FALSE
A30: Keuzemenu | G30: FALSE
A31: Keuzemenu | G31: FALSE
A32: Keuzemenu | G32: FALSE
A33: Keuzemenu | G33: FALSE
A34: WK49: 30 t/m 4 dec. | B34: TAKEN & OPDRACHTEN | H34: FALSE | I34: FALSE
A35: Keuzemenu | G35: FALSE
A36: Keuzemenu | G36: FALSE
A37: Keuzemenu | G37: FALSE
A38: Keuzemenu | G38: FALSE
A39: Keuzemenu | G39: FALSE
A40: WK50: 7 t/m 11 dec. | B40: TAKEN & OPDRACHTEN | H40: FALSE | I40: FALSE
A41: Keuzemenu | G41: FALSE
A42: Keuzemenu | G42: FALSE
...

Sheet SP
B1: SPAANS (SP) | K1: PERIODE 2
A3: ALGEMENE INFORMATIE
A4: Welkomswoordje
A5: Wat gaan we deze periode doen? Wat is de Daltontaak? Wat houd de Daltontaak in?
A6: Welke boeken/spullen/materialen zijn er nodig?
A7: Wat moet je geleerd hebben na deze periode?
A9: VAKINHOUD | H9: IK HEB HET GEDAAN | I9: IK BEHEERS HET | J9: RUIMTE VOOR REFLECTIE
A10: WK45: 2 t/m 6 nov. | B10: TAKEN & OPDRACHTEN | H10: FALSE | I10: FALSE
A11: Keuzemenu | G11: FALSE
A12: Keuzemenu | G12: FALSE
A13: Keuzemenu | G13: FALSE
A14: Keuzemenu | G14: FALSE
A15: Keuzemenu | G15: FALSE
A16: WK46: 9 t/m 13 nov. | B16: TAKEN & OPDRACHTEN | H16: FALSE | I16: FALSE
A17: Keuzemenu | G17: FALSE
A18: Keuzemenu | G18: FALSE
A19: Keuzemenu | G19: FALSE
A20: Keuzemenu | G20: FALSE
A21: Keuzemenu | G21: FALSE
A22: WK47: 16 t/m 20 nov. | B22: TAKEN & OPDRACHTEN | H22: FALSE | I22: FALSE
A23: Keuzemenu | G23: FALSE
A24: Keuzemenu | G24: FALSE
A25: Keuzemenu | G25: FALSE
A26: Keuzemenu | G26: FALSE
A27: Keuzemenu | G27: FALSE
A28: WK48: 23 t/m 27 nov. | B28: TAKEN & OPDRACHTEN | H28: FALSE | I28: FALSE
A29: Keuzemenu | G29: FALSE
A30: Keuzemenu | G30: FALSE
A31: Keuzemenu | G31: FALSE
A32: Keuzemenu | G32: FALSE
A33: Keuzemenu | G33: FALSE
A34: WK49: 30 t/m 4 dec. | B34: TAKEN & OPDRACHTEN | H34: FALSE | I34: FALSE
A35: Keuzemenu | G35: FALSE
A36: Keuzemenu | G36: FALSE
A37: Keuzemenu | G37: FALSE
A38: Keuzemenu | G38: FALSE
A39: Keuzemenu | G39: FALSE
A40: WK50: 7 t/m 11 dec. | B40: TAKEN & OPDRACHTEN | H40: FALSE | I40: FALSE
A41: Keuzemenu | G41: FALSE
A42: Keuzemenu | G42: FALSE
...

Sheet TE
B1: TEKENEN (TE) | K1: PERIODE 2
A3: ALGEMENE INFORMATIE
A4: Welkomswoordje
A5: Wat gaan we deze periode doen? Wat is de Daltontaak? Wat houd de Daltontaak in?
A6: Welke boeken/spullen/materialen zijn er nodig?
A7: Wat moet je geleerd hebben na deze periode?
A9: VAKINHOUD | H9: IK HEB HET GEDAAN | I9: IK BEHEERS HET | J9: RUIMTE VOOR REFLECTIE
A10: WK45: 2 t/m 6 nov. | B10: TAKEN & OPDRACHTEN | H10: FALSE | I10: FALSE
A11: Keuzemenu | G11: FALSE
A12: Keuzemenu | G12: FALSE
A13: Keuzemenu | G13: FALSE
A14: Keuzemenu | G14: FALSE
A15: Keuzemenu | G15: FALSE
A16: WK46: 9 t/m 13 nov. | B16: TAKEN & OPDRACHTEN | H16: FALSE | I16: FALSE
A17: Keuzemenu | G17: FALSE
A18: Keuzemenu | G18: FALSE
A19: Keuzemenu | G19: FALSE
A20: Keuzemenu | G20: FALSE
A21: Keuzemenu | G21: FALSE
A22: WK47: 16 t/m 20 nov. | B22: TAKEN & OPDRACHTEN | H22: FALSE | I22: FALSE
A23: Keuzemenu | G23: FALSE
A24: Keuzemenu | G24: FALSE
A25: Keuzemenu | G25: FALSE
A26: Keuzemenu | G26: FALSE
A27: Keuzemenu | G27: FALSE
A28: WK48: 23 t/m 27 nov. | B28: TAKEN & OPDRACHTEN | H28: FALSE | I28: FALSE
A29: Keuzemenu | G29: FALSE
A30: Keuzemenu | G30: FALSE
A31: Keuzemenu | G31: FALSE
A32: Keuzemenu | G32: FALSE
A33: Keuzemenu | G33: FALSE
A34: WK49: 30 t/m 4 dec. | B34: TAKEN & OPDRACHTEN | H34: FALSE | I34: FALSE
A35: Keuzemenu | G35: FALSE
A36: Keuzemenu | G36: FALSE
A37: Keuzemenu | G37: FALSE
A38: Keuzemenu | G38: FALSE
A39: Keuzemenu | G39: FALSE
A40: WK50: 7 t/m 11 dec. | B40: TAKEN & OPDRACHTEN | H40: FALSE | I40: FALSE
A41: Keuzemenu | G41: FALSE
A42: Keuzemenu | G42: FALSE
...

Sheet WI
B1: WISKUNDE (WI) | K1: PERIODE 2
A3: ALGEMENE INFORMATIE
A4: Welkomswoordje
A5: Wat gaan we deze periode doen? Wat is de Daltontaak? Wat houd de Daltontaak in?
A6: Welke boeken/spullen/materialen zijn er nodig?
A7: Wat moet je geleerd hebben na deze periode?
A9: VAKINHOUD | H9: IK HEB HET GEDAAN | I9: IK BEHEERS HET | J9: RUIMTE VOOR REFLECTIE
A10: WK45: 2 t/m 6 nov. | B10: TAKEN & OPDRACHTEN | H10: FALSE | I10: FALSE
A11: Keuzemenu | G11: FALSE
A12: Keuzemenu | G12: FALSE
A13: Keuzemenu | G13: FALSE
A14: Keuzemenu | G14: FALSE
A15: Keuzemenu | G15: FALSE
A16: WK46: 9 t/m 13 nov. | B16: TAKEN & OPDRACHTEN | H16: FALSE | I16: FALSE
A17: Keuzemenu | G17: FALSE
A18: Keuzemenu | G18: FALSE
A19: Keuzemenu | G19: FALSE
A20: Keuzemenu | G20: FALSE
A21: Keuzemenu | G21: FALSE
A22: WK47: 16 t/m 20 nov. | B22: TAKEN & OPDRACHTEN | H22: FALSE | I22: FALSE
A23: Keuzemenu | G23: FALSE
A24: Keuzemenu | G24: FALSE
A25: Keuzemenu | G25: FALSE
A26: Keuzemenu | G26: FALSE
A27: Keuzemenu | G27: FALSE
A28: WK48: 23 t/m 27 nov. | B28: TAKEN & OPDRACHTEN | H28: FALSE | I28: FALSE
A29: Keuzemenu | G29: FALSE
A30: Keuzemenu | G30: FALSE
A31: Keuzemenu | G31: FALSE
A32: Keuzemenu | G32: FALSE
A33: Keuzemenu | G33: FALSE
A34: WK49: 30 t/m 4 dec. | B34: TAKEN & OPDRACHTEN | H34: FALSE | I34: FALSE
A35: Keuzemenu | G35: FALSE
A36: Keuzemenu | G36: FALSE
A37: Keuzemenu | G37: FALSE
A38: Keuzemenu | G38: FALSE
A39: Keuzemenu | G39: FALSE
A40: WK50: 7 t/m 11 dec. | B40: TAKEN & OPDRACHTEN | H40: FALSE | I40: FALSE
A41: Keuzemenu | G41: FALSE
A42: Keuzemenu | G42: FALSE
...

Sheet WISA
B1: WISKUNDE A (WISA) | K1: PERIODE 2
A3: ALGEMENE INFORMATIE
A4: Welkomswoordje
A5: Wat gaan we deze periode doen? Wat is de Daltontaak? Wat houd de Daltontaak in?
A6: Welke boeken/spullen/materialen zijn er nodig?
A7: Wat moet je geleerd hebben na deze periode?
A9: VAKINHOUD | H9: IK HEB HET GEDAAN | I9: IK BEHEERS HET | J9: RUIMTE VOOR REFLECTIE
A10: WK45: 2 t/m 6 nov. | B10: TAKEN & OPDRACHTEN | H10: FALSE | I10: FALSE
A11: Keuzemenu | G11: FALSE
A12: Keuzemenu | G12: FALSE
A13: Keuzemenu | G13: FALSE
A14: Keuzemenu | G14: FALSE
A15: Keuzemenu | G15: FALSE
A16: WK46: 9 t/m 13 nov. | B16: TAKEN & OPDRACHTEN | H16: FALSE | I16: FALSE
A17: Keuzemenu | G17: FALSE
A18: Keuzemenu | G18: FALSE
A19: Keuzemenu | G19: FALSE
A20: Keuzemenu | G20: FALSE
A21: Keuzemenu | G21: FALSE
A22: WK47: 16 t/m 20 nov. | B22: TAKEN & OPDRACHTEN | H22: FALSE | I22: FALSE
A23: Keuzemenu | G23: FALSE
A24: Keuzemenu | G24: FALSE
A25: Keuzemenu | G25: FALSE
A26: Keuzemenu | G26: FALSE
A27: Keuzemenu | G27: FALSE
A28: WK48: 23 t/m 27 nov. | B28: TAKEN & OPDRACHTEN | H28: FALSE | I28: FALSE
A29: Keuzemenu | G29: FALSE
A30: Keuzemenu | G30: FALSE
A31: Keuzemenu | G31: FALSE
A32: Keuzemenu | G32: FALSE
A33: Keuzemenu | G33: FALSE
A34: WK49: 30 t/m 4 dec. | B34: TAKEN & OPDRACHTEN | H34: FALSE | I34: FALSE
A35: Keuzemenu | G35: FALSE
A36: Keuzemenu | G36: FALSE
A37: Keuzemenu | G37: FALSE
A38: Keuzemenu | G38: FALSE
A39: Keuzemenu | G39: FALSE
A40: WK50: 7 t/m 11 dec. | B40: TAKEN & OPDRACHTEN | H40: FALSE | I40: FALSE
A41: Keuzemenu | G41: FALSE
A42: Keuzemenu | G42: FALSE
...

Sheet WISB
B1: WISKUNDE B (WISB) | K1: PERIODE 2
A3: ALGEMENE INFORMATIE
A4: Welkomswoordje
A5: Wat gaan we deze periode doen? Wat is de Daltontaak? Wat houd de Daltontaak in?
A6: Welke boeken/spullen/materialen zijn er nodig?
A7: Wat moet je geleerd hebben na deze periode?
A9: VAKINHOUD | H9: IK HEB HET GEDAAN | I9: IK BEHEERS HET | J9: RUIMTE VOOR REFLECTIE
A10: WK45: 2 t/m 6 nov. | B10: TAKEN & OPDRACHTEN | H10: FALSE | I10: FALSE
A11: Keuzemenu | G11: FALSE
A12: Keuzemenu | G12: FALSE
A13: Keuzemenu | G13: FALSE
A14: Keuzemenu | G14: FALSE
A15: Keuzemenu | G15: FALSE
A16: WK46: 9 t/m 13 nov. | B16: TAKEN & OPDRACHTEN | H16: FALSE | I16: FALSE
A17: Keuzemenu | G17: FALSE
A18: Keuzemenu | G18: FALSE
A19: Keuzemenu | G19: FALSE
A20: Keuzemenu | G20: FALSE
A21: Keuzemenu | G21: FALSE
A22: WK47: 16 t/m 20 nov. | B22: TAKEN & OPDRACHTEN | H22: FALSE | I22: FALSE
A23: Keuzemenu | G23: FALSE
A24: Keuzemenu | G24: FALSE
A25: Keuzemenu | G25: FALSE
A26: Keuzemenu | G26: FALSE
A27: Keuzemenu | G27: FALSE
A28: WK48: 23 t/m 27 nov. | B28: TAKEN & OPDRACHTEN | H28: FALSE | I28: FALSE
A29: Keuzemenu | G29: FALSE
A30: Keuzemenu | G30: FALSE
A31: Keuzemenu | G31: FALSE
A32: Keuzemenu | G32: FALSE
A33: Keuzemenu | G33: FALSE
A34: WK49: 30 t/m 4 dec. | B34: TAKEN & OPDRACHTEN | H34: FALSE | I34: FALSE
A35: Keuzemenu | G35: FALSE
A36: Keuzemenu | G36: FALSE
A37: Keuzemenu | G37: FALSE
A38: Keuzemenu | G38: FALSE
A39: Keuzemenu | G39: FALSE
A40: WK50: 7 t/m 11 dec. | B40: TAKEN & OPDRACHTEN | H40: FALSE | I40: FALSE
A41: Keuzemenu | G41: FALSE
A42: Keuzemenu | G42: FALSE
...

Sheet WOA
B1: WETENSCHAPSORIËNTATIE & ACTUALITEITEN ONDERWIJS (WOA) | K1: PERIODE 2
A3: ALGEMENE INFORMATIE
A4: Welkomswoordje
A5: Wat gaan we deze periode doen? Wat is de Daltontaak? Wat houd de Daltontaak in?
A6: Welke boeken/spullen/materialen zijn er nodig?
A7: Wat moet je geleerd hebben na deze periode?
A9: VAKINHOUD | H9: IK HEB HET GEDAAN | I9: IK BEHEERS HET | J9: RUIMTE VOOR REFLECTIE
A10: WK45: 2 t/m 6 nov. | B10: TAKEN & OPDRACHTEN | H10: FALSE | I10: FALSE
A11: Keuzemenu | G11: FALSE
A12: Keuzemenu | G12: FALSE
A13: Keuzemenu | G13: FALSE
A14: Keuzemenu | G14: FALSE
A15: Keuzemenu | G15: FALSE
A16: WK46: 9 t/m 13 nov. | B16: TAKEN & OPDRACHTEN | H16: FALSE | I16: FALSE
A17: Keuzemenu | G17: FALSE
A18: Keuzemenu | G18: FALSE
A19: Keuzemenu | G19: FALSE
A20: Keuzemenu | G20: FALSE
A21: Keuzemenu | G21: FALSE
A22: WK47: 16 t/m 20 nov. | B22: TAKEN & OPDRACHTEN | H22: FALSE | I22: FALSE
A23: Keuzemenu | G23: FALSE
A24: Keuzemenu | G24: FALSE
