Workbook

Sheet Overzicht
A2: AK | D2: BI | G2: BTE | J2: DU | M2: ECO | P2: EN | S2: FA | V2: GS | Y2: MA | AB2: MK | AE2: NAT | AH2: NE | AK2: SK | AN2: WI
A3: WK 35 | B3: =AK!H10 -> FALSE | D3: WK 35 | E3: =BI!H16 -> FALSE | G3: WK 35 | H3: =BTE!H16 -> FALSE | J3: WK 35 | K3: =DU!H16 -> FALSE | M3: WK 35 | N3: =ECO!H16 -> FALSE | P3: WK 35 | Q3: =EN!H16 -> FALSE | S3: WK 35 | T3: =FA!H16 -> FALSE | V3: WK 35 | W3: =GS!H16 -> FALSE | Y3: WK 35 | Z3: =MA!H16 -> FALSE | AB3: WK 35 | AC3: =MK!H16 -> FALSE | AE3: WK 35 | AF3: =NAT!H16 -> FALSE | AH3: WK 35 | AI3: =NE!H16 -> FALSE | AK3: WK 35 | AL3: =SK!H16 -> FALSE | AN3: WK 35 | AO3: =WI!H16 -> FALSE
A4: WK 36 | B4: =AK!H16 -> FALSE | D4: WK 36 | E4: =BI!H22 -> FALSE | G4: WK 36 | H4: =BTE!H22 -> FALSE | J4: WK 36 | K4: =DU!H22 -> FALSE | M4: WK 36 | N4: =ECO!H22 -> FALSE | P4: WK 36 | Q4: =EN!H22 -> FALSE | S4: WK 36 | T4: =FA!H22 -> FALSE | V4: WK 36 | W4: =GS!H22 -> FALSE | Y4: WK 36 | Z4: =MA!H22 -> FALSE | AB4: WK 36 | AC4: =MK!H22 -> FALSE | AE4: WK 36 | AF4: =NAT!H22 -> FALSE | AH4: WK 36 | AI4: =NE!H22 -> ¢ | AK4: WK 36 | AL4: =SK!H22 -> FALSE | AN4: WK 36 | AO4: =WI!H22 -> FALSE
A5: WK 37 | B5: =AK!H22 -> FALSE | D5: WK 37 | E5: =BI!H28 -> FALSE | G5: WK 37 | H5: =BTE!H28 -> FALSE | J5: WK 37 | K5: =DU!H28 -> FALSE | M5: WK 37 | N5: =ECO!H28 -> FALSE | P5: WK 37 | Q5: =EN!H28 -> FALSE | S5: WK 37 | T5: =FA!H28 -> FALSE | V5: WK 37 | W5: =GS!H28 -> FALSE | Y5: WK 37 | Z5: =MA!H28 -> FALSE | AB5: WK 37 | AC5: =MK!H28 -> FALSE | AE5: WK 37 | AF5: =NAT!H28 -> FALSE | AH5: WK 37 | AI5: =NE!H28 -> FALSE | AK5: WK 37 | AL5: =SK!H28 -> FALSE | AN5: WK 37 | AO5: =WI!H28 -> FALSE
A6: WK 38 | B6: =AK!H28 -> FALSE | D6: WK 38 | E6: =BI!H35 | G6: WK 38 | H6: =BTE!H35 | J6: WK 38 | K6: =DU!H35 | M6: WK 38 | N6: =ECO!H35 | P6: WK 38 | Q6: =EN!H35 | S6: WK 38 | T6: =FA!H35 | V6: WK 38 | W6: =GS!H35 | Y6: WK 38 | Z6: =MA!H35 | AB6: WK 38 | AC6: =MK!H35 | AE6: WK 38 | AF6: =NAT!H35 | AH6: WK 38 | AI6: =NE!H35 | AK6: WK 38 | AL6: =SK!H35 | AN6: WK 38 | AO6: =WI!H35
A7: WK 39 | B7: =AK!H34 -> FALSE | D7: WK 39 | E7: =BI!H41 | G7: WK 39 | H7: =BTE!H41 | J7: WK 39 | K7: =DU!H41 | M7: WK 39 | N7: =ECO!H41 | P7: WK 39 | Q7: =EN!H41 | S7: WK 39 | T7: =FA!H41 | V7: WK 39 | W7: =GS!H41 | Y7: WK 39 | Z7: =MA!H41 | AB7: WK 39 | AC7: =MK!H41 | AE7: WK 39 | AF7: =NAT!H41 | AH7: WK 39 | AI7: =NE!H41 | AK7: WK 39 | AL7: =SK!H41 | AN7: WK 39 | AO7: =WI!H41
A8: WK 40 | B8: =AK!H40 -> FALSE | D8: WK 40 | E8: =BI!H47 | G8: WK 40 | H8: =BTE!H47 | J8: WK 40 | K8: =DU!H47 | M8: WK 40 | N8: =ECO!H47 | P8: WK 40 | Q8: =EN!H47 | S8: WK 40 | T8: =FA!H47 | V8: WK 40 | W8: =GS!H47 | Y8: WK 40 | Z8: =MA!H47 | AB8: WK 40 | AC8: =MK!H47 | AE8: WK 40 | AF8: =NAT!H47 | AH8: WK 40 | AI8: =NE!H47 | AK8: WK 40 | AL8: =SK!H47 | AN8: WK 40 | AO8: =WI!H47
A9: WK 41 | B9: =AK!H46 -> FALSE | D9: WK 41 | E9: =BI!H54 | G9: WK 41 | H9: =BTE!H54 | J9: WK 41 | K9: =DU!H54 | M9: WK 41 | N9: =ECO!H54 | P9: WK 41 | Q9: =EN!H54 | S9: WK 41 | T9: =FA!H54 | V9: WK 41 | W9: =GS!H54 | Y9: WK 41 | Z9: =MA!H54 | AB9: WK 41 | AC9: =MK!H54 | AE9: WK 41 | AF9: =NAT!H54 | AH9: WK 41 | AI9: =NE!H54 | AK9: WK 41 | AL9: =SK!H54 | AN9: WK 41 | AO9: =WI!H54
A10: WK 43 | B10: =AK!H53 -> FALSE | D10: WK 43 | E10: =BI!H60 | G10: WK 43 | H10: =BTE!H60 | J10: WK 43 | K10: =DU!H60 | M10: WK 43 | N10: =ECO!H60 | P10: WK 43 | Q10: =EN!H60 | S10: WK 43 | T10: =FA!H60 | V10: WK 43 | W10: =GS!H60 | Y10: WK 43 | Z10: =MA!H60 | AB10: WK 43 | AC10: =MK!H60 | AE10: WK 43 | AF10: =NAT!H60 | AH10: WK 43 | AI10: =NE!H60 | AK10: WK 43 | AL10: =SK!H60 | AN10: WK 43 | AO10: =WI!H60

Sheet AK
B1: AARDRIJKSKUNDE (AK) | K1: PERIODE 1
A3: ALGEMENE INFORMATIE
A4: Neem elke les je leerboek en je werkboek mee.
A9: VAKINHOUD | H9: IK HEB HET GEDAAN | I9: IK BEHEERS HET | J9: RUIMTE VOOR REFLECTIE
A10: WK35: 24 t/m 28 aug. | B10: TAKEN & OPDRACHTEN | H10: FALSE | I10: FALSE
A11: Lezen | B11: Bladzijde 4 en 5 leerboek | G11: FALSE
A12: Maken & Nakijken | B12: Par 1.1: Nigeria de reus van Afrika | G12: FALSE
A13: Keuzemenu | G13: FALSE
A14: Keuzemenu | G14: FALSE
A15: Keuzemenu | G15: FALSE
A16: WK36: 31 t/m 4 sep. | B16: TAKEN & OPDRACHTEN | H16: FALSE | I16: FALSE
A17: Maken & Nakijken | B17: Par 1.2: Armoede in Nigeria (Maken 1, 2, 4, 5 en 6 (t/m e)) | G17: FALSE
A18: Maken & Nakijken | B18: Par 1.4: Nigeria in de wereldeconomie (Maken opdracht: 1, 2, 4, 5, 6 en 7) | G18: FALSE
A19: Daltontaak | B19: Par 1.3: Bronnen (Maken: 1, 2, 3, 5 en 7) | G19: FALSE
A20: Lezen | B20: Par 1.6: Pas toe | G20: FALSE
A21: Keuzemenu | G21: FALSE
A22: WK37: 7 t/m 11 sep. Examenreisweek | B22: TAKEN & OPDRACHTEN | H22: FALSE | I22: FALSE
A23: Keuzemenu | G23: FALSE
A24: Keuzemenu | G24: FALSE
A25: Keuzemenu | G25: FALSE
A26: Keuzemenu | G26: FALSE
A27: Keuzemenu | G27: FALSE
A28: WK38: 14 t/m 18 sep. | B28: TAKEN & OPDRACHTEN | H28: FALSE | I28: FALSE
A29: Maken & Nakijken | B29: Par 2.1: Arm en rijk in Detroit (Maken 1, 2, 3, 5 en 6 ) | G29: FALSE
A30: Maken & Nakijken | B30: Par 2.2: Armoede en rijkdom in de Verenigde Staten. (Maken opdracht 1, 2, 3, 4efgh en 6) | G30: FALSE
A31: Daltontaak | B31: Afronden opdrachten par 2.1 en 2.2 | G31: FALSE
A32: Keuzemenu | G32: FALSE
A33: Keuzemenu | G33: FALSE
A34: WK39: 21 t/m 25 sep. | B34: TAKEN & OPDRACHTEN | H34: FALSE | I34: FALSE
A35: Maken & Nakijken | B35: Par 2.3: Landbouw in de VS (Maken opdracht 1a en c, 2, 3, 4 en 6) | G35: FALSE
A36: Toets | B36: 2T Hoofdstuk 1: par 1, 2, 3 en 4 | G36: FALSE
A37: Keuzemenu | G37: FALSE
A38: Keuzemenu | G38: FALSE
A39: Keuzemenu | G39: FALSE
A40: WK40: 28 t/m 2 okt. | B40: TAKEN & OPDRACHTEN | H40: FALSE | I40: FALSE
A41: Maken & Nakijken | B41: Par 2.4: Bronnen (Maken par 2.4: 1, 2, 4, 6 en 7) | G41: FALSE
A42: Maken & Nakijken | B42: Par 3.1: Arm en rijk binnen steden ( Maken: 1, 2ab, 3, 4, 5 en 7ab) | G42: FALSE
A43: Keuzemenu | G43: FALSE
A44: Keuzemenu | G44: FALSE
A45: Keuzemenu | G45: FALSE
...

Sheet BI
B1: BIOLOGIE (BI) | K1: PERIODE 1
A3: ALGEMENE INFORMATIE
A4: Welkom bij het leukste vak!
A9: VAKINHOUD | H9: IK HEB HET GEDAAN | I9: IK BEHEERS HET | J9: RUIMTE VOOR REFLECTIE
A10: WK35: 24 t/m 28 aug. | B10: TAKEN & OPDRACHTEN | H10: FALSE | I10: FALSE
A11: Maken & Nakijken | B11: 1.1 t/m 1.2 als je het moeilijk vind dan maak je de kennisopdrachten + de inzichtsopdrachten, vind je het makkelijk dan start je met de samenvattingsopdracht en maak je de inzichtsopdrachten | G11: FALSE
A12: Keuzemenu | G12: FALSE
A13: Keuzemenu | G13: FALSE
A14: Keuzemenu | G14: FALSE
A15: Daltontaak (optioneel) | B15: begrippenlijst uit de digitale methode halen (te vinden bij afsluiting) en betekenis in eigen woorden opschrijven | G15: FALSE
A16: WK36: 31 t/m 4 sep. | B16: TAKEN & OPDRACHTEN | H16: FALSE | I16: FALSE
A17: Maken & Nakijken | B17: 1.3 als je het moeilijk vind dan maak je de kennisopdrachten + de inzichtsopdrachten, vind je het makkelijk dan start je met de samenvattingsopdracht en maak je de inzichtsopdrachten | G17: FALSE
A18: Practicum | B18: waterpest en ui microscopie | G18: FALSE
A19: Keuzemenu | G19: FALSE
A20: Keuzemenu | G20: FALSE
A21: Daltontaak (optioneel) | B21: begrippenlijst uit de digitale methode halen (te vinden bij afsluiting) en betekenis in eigen woorden opschrijven | G21: FALSE
A22: WK37: 7 t/m 11 sep. Examenreisweek | B22: TAKEN & OPDRACHTEN | H22: FALSE | I22: FALSE
A23: Practicum | B23: wangslijmvlies microscopie | G23: FALSE
A24: Maken & Nakijken | B24: 1.4 als je het moeilijk vind dan maak je de kennisopdrachten + de inzichtsopdrachten, vind je het makkelijk dan start je met de samenvattingsopdracht en maak je de inzichtsopdrachten | G24: FALSE
A25: Keuzemenu | G25: FALSE
A26: Keuzemenu | G26: FALSE
A27: Daltontaak (optioneel) | B27: begrippenlijst uit de digitale methode halen (te vinden bij afsluiting) en betekenis in eigen woorden opschrijven | G27: FALSE
A28: WK38: 14 t/m 18 sep. | B28: TAKEN & OPDRACHTEN | H28: FALSE | I28: FALSE
A29: Maken & Nakijken | B29: 1.5 en 1.6 als je het moeilijk vind dan maak je de kennisopdrachten + de inzichtsopdrachten, vind je het makkelijk dan start je met de samenvattingsopdracht en maak je de inzichtsopdrachten | G29: FALSE
A30: Keuzemenu | G30: FALSE
A31: Keuzemenu | G31: FALSE
A32: Keuzemenu | G32: FALSE
A33: Daltontaak (optioneel) | B33: begrippenlijst uit de digitale methode halen (te vinden bij afsluiting) en betekenis in eigen woorden opschrijven | G33: FALSE
A34: WK39: 21 t/m 25 sep. | B34: TAKEN & OPDRACHTEN | H34: FALSE | I34: FALSE
A35: Maken & Nakijken | B35: 2.1 en 2.2 als je het moeilijk vind dan maak je de kennisopdrachten + de inzichtsopdrachten, vind je het makkelijk dan start je met de samenvattingsopdracht en maak je de inzichtsopdrachten | G35: FALSE
A36: Keuzemenu | G36: FALSE
A37: Keuzemenu | G37: FALSE
A38: Keuzemenu | G38: FALSE
A39: Daltontaak (optioneel) | B39: begrippenlijst uit de digitale methode halen (te vinden bij afsluiting) en betekenis in eigen woorden opschrijven | G39: FALSE
A40: WK40: 28 t/m 2 okt. | B40: TAKEN & OPDRACHTEN | H40: FALSE | I40: FALSE
A41: Maken & Nakijken | B41: 2.3 en 2.4 als je het moeilijk vind dan maak je de kennisopdrachten + de inzichtsopdrachten, vind je het makkelijk dan start je met de samenvattingsopdracht en maak je de inzichtsopdrachten | G41: FALSE
A42: Keuzemenu | G42: FALSE
A43: Keuzemenu | G43: FALSE
A44: Keuzemenu | G44: FALSE
A45: Daltontaak (optioneel) | B45: begrippenlijst uit de digitale methode halen (te vinden bij afsluiting) en betekenis in eigen woorden opschrijven | G45: FALSE
...

Sheet BTE
B1: BEELDENDE VORMING - TEKENEN (BTE) | K1: PERIODE 1
A3: ALGEMENE INFORMATIE
A4: Welkomswoordje
A5: Wat gaan we deze periode doen? Wat is de Daltontaak? Wat houd de Daltontaak in?
A6: Welke boeken/spullen/materialen zijn er nodig?
A7: Wat moet je geleerd hebben na deze periode?
A9: VAKINHOUD | H9: IK HEB HET GEDAAN | I9: IK BEHEERS HET | J9: RUIMTE VOOR REFLECTIE
A10: WK35: 24 t/m 28 aug. | B10: TAKEN & OPDRACHTEN | H10: FALSE | I10: FALSE
A11: Luisteren | B11: Algemene afspraken | G11: FALSE
A12: Luisteren & Maken | B12: Ontwerpen map. Uitleg Beeldaspect Structuur | G12: FALSE
A13: Maken | B13: Illustratie van de naam op een map. Letters invullen met structuur. | G13: FALSE
A14: Keuzemenu | G14: FALSE
A15: Keuzemenu | G15: FALSE
A16: WK36: 31 t/m 4 sep. | B16: TAKEN & OPDRACHTEN | H16: FALSE | I16: FALSE
A17: Luisteren | B17: Uitleg Beeldaspect Licht. | G17: FALSE
A18: Maken | B18: Werkblad Licht (2T) De 2 bovenste vakjes afgerond | G18: FALSE
A19: Herhalen | B19: Je weet wat Plasticiteit is. | G19: FALSE
A20: Herhalen | B20: Je kunt licht en schaduw maken door met je potlood grijstinten en verloopjes te maken. | G20: FALSE
A21: Keuzemenu | G21: FALSE
A22: WK37: 7 t/m 11 sep. Examenreisweek | B22: TAKEN & OPDRACHTEN | H22: FALSE | I22: FALSE
A23: Maken | B23: Werkblad Licht (2T) De 2 middelste vakjes afgerond | G23: FALSE
A24: Keuzemenu | G24: FALSE
A25: Keuzemenu | G25: FALSE
A26: Keuzemenu | G26: FALSE
A27: Keuzemenu | G27: FALSE
A28: WK38: 14 t/m 18 sep. | B28: TAKEN & OPDRACHTEN | H28: FALSE | I28: FALSE
A29: Maken | B29: Werkblad Licht (2T) De 2 onderste vakjes afgerond | G29: FALSE
A30: Inleveren | B30: Werkblad Licht (2T) Alle vakjes zijn netjes ingevuld | G30: FALSE
A31: Keuzemenu | G31: FALSE
A32: Keuzemenu | G32: FALSE
A33: Keuzemenu | G33: FALSE
A34: WK39: 21 t/m 25 sep. | B34: TAKEN & OPDRACHTEN | H34: FALSE | I34: FALSE
A35: Luisteren | B35: Uitleg Eindwerk Licht: Schoen vol fantasie (4T en PTA, telt dus mee voor schoolexamens). | G35: FALSE
A36: Oefenen | B36: Observeren: Verhoudingen, close-up, stofuitdrukking, plasticiteit, details, naar de waarneming tekenen | G36: FALSE
A37: Maken | B37: Eindwerk Licht: Schoen vol fantasie (4T en PTA) | G37: FALSE
A38: Aantekening | G38: FALSE
A39: Keuzemenu | G39: FALSE
A40: WK40: 28 t/m 2 okt. | B40: TAKEN & OPDRACHTEN | H40: FALSE | I40: FALSE
A41: Maken | B41: Eindwerk Licht: Schoen vol fantasie (4T en PTA). | G41: FALSE
A42: Aantekening | B42: Je hebt de schoen in de basis opgezet. Klopt de verhouding? Past er een voet in? | G42: FALSE
...

Sheet DU
B1: DUITS (DU) | K1: PERIODE 1
A3: ALGEMENE INFORMATIE
A4: Aan het begin van de les zie je de weekplanner op het bord en weet je precies wat we gaan doen!
A5: De eerste les van de week leg ik uit wat de "weektaak" wordt en je noteert dit in je DALTONPLANNER!
A6: De wekelijkse "planner" op het bord vind je ook terug in SOM / studiewijzer / Duitse taal / Planning
A7: Onderaan deze studiewijzer zie je wat deze periode getoetst wordt en hoe het meetelt (toets)
A9: VAKINHOUD | H9: IK HEB HET GEDAAN | I9: IK BEHEERS HET | J9: RUIMTE VOOR REFLECTIE
A10: WK35: 24 t/m 28 aug. | B10: TAKEN & OPDRACHTEN | H10: FALSE | I10: FALSE
A11: Informatie | B11: Informatie en introductie nieuw boek 3 vmbo-gt / wat ga je leren / wat gaan we doen / Wörterkram testjes enz. | G11: FALSE
A12: Maken | B12: Brückenschlag - je maakt herhalingsopdrachten leerjaar 2 online (alleen "sich vorstellen" en "im Alltag"!) | G12: FALSE
A13: Spreken | B13: Gesprekje... | G13: FALSE
A14: Keuzemenu | G14: FALSE
A15: Keuzemenu | G15: FALSE
A16: WK36: 31 t/m 4 sep. | B16: TAKEN & OPDRACHTEN | H16: FALSE | I16: FALSE
A17: Nakijken | B17: Herhalingsopdrachten leerjaar 2 online - wat ging goed, waar had je moeite mee? | G17: FALSE
A18: Kijken & Luisteren | B18: Start Kapitel 1 "Umgebung": Aufgabe 2 (zie S.51 Wörter A!) / 1 Sehen | G18: FALSE
A19: Woordenschat | B19: Wörter B - S.50 / Aufgabe 3 hören | G19: FALSE
A20: Spreken | B20: Aufgabe 4-8 (duo) | G20: FALSE
A21: Informatie | B21: Instructie "Daltontaak - Ich suche einen Partner" | G21: FALSE
A22: WK37: 7 t/m 11 sep. Examenreisweek | B22: TAKEN & OPDRACHTEN | H22: FALSE | I22: FALSE
A23: Informatie | B23: Geen les i.v.m. examenreis M4 | G23: FALSE
A24: Daltontaak (verplicht) | B24: Je werkt deze week zelfstandig aan de "Daltontaak - Ich suche einen Partner" | G24: FALSE
A25: Daltontaak (verplicht) | B25: Je maakt Aufgabe 1-8 oefend het gesprek Aufgabe 8 (duo) | G25: FALSE
A26: Keuzemenu | G26: FALSE
A27: Keuzemenu | G27: FALSE
A28: WK38: 14 t/m 18 sep. | B28: TAKEN & OPDRACHTEN | H28: FALSE | I28: FALSE
A29: Inleveren | B29: Je levert de eerste les je Daltontaak "Ich suche einen Partner" in | G29: FALSE
A30: Nakijken | B30: Aufgabe 1-8 & gesprekje klassikaal | G30: FALSE
A31: Herhalen | B31: Leesopdrachten en teksten? Hoe pak je dat ook alweer aan? / Info Aufgabe 11&12 Lesen | G31: FALSE
A32: Informatie | B32: Presentatie "Meine Ferien" instructie en informatie mondeling (MO - duo) / info Aufgabe 23-38 | G32: FALSE
A33: Daltontaak (verplicht) | B33: Je hebt Aufgabe 9-12 gemaakt / "Wörterkram 1" je leert de woordjes B-links S. 50 en A&C S.51 | G33: FALSE
A34: WK39: 21 t/m 25 sep. | B34: TAKEN & OPDRACHTEN | H34: FALSE | I34: FALSE
A35: Nakijken | B35: Aufgabe 9-12 | G35: FALSE
A36: Test jezelf | B36: "Wörterkram 1" woordjestest | G36: FALSE
A37: Grammatica | B37: Het werkwoord SEIN vervoegen in de verleden tijd & het VOLTOOID DEELWOORD | G37: FALSE
A38: Daltontaak (verplicht) | B38: Je maakt Aufgabe 13-21 / bent klaar voor de "presentatie" | G38: FALSE
A39: Daltontaak (optioneel) | B39: Je kunt Aufgabe 28-38 maken ter voorbereiding van de "presentatie" | G39: FALSE
A40: WK40: 28 t/m 2 okt. | B40: TAKEN & OPDRACHTEN | H40: FALSE | I40: FALSE
A41: Nakijken | B41: Aufgabe 13-21 | G41: FALSE
A42: Test jezelf | B42: Presentaties "Meine Ferien" | G42: FALSE
...

Sheet ECO
B1: ECONOMIE (ECO) | K1: PERIODE 1
A3: ALGEMENE INFORMATIE
A4: Welkomswoordje
A5: Wat gaan we deze periode doen? Wat is de Daltontaak? Wat houd de Daltontaak in?
A6: Welke boeken/spullen/materialen zijn er nodig?
A7: Wat moet je geleerd hebben na deze periode?
A9: VAKINHOUD | H9: IK HEB HET GEDAAN | I9: IK BEHEERS HET | J9: RUIMTE VOOR REFLECTIE
A10: WK35: 24 t/m 28 aug. | B10: TAKEN & OPDRACHTEN | H10: FALSE | I10: FALSE
A11: Onderzoeken | B11: Kennismaking | G11: FALSE
A12: Maken & Nakijken | B12: Maak en kijk na paragraaf 1.1 | G12: FALSE
A13: Maken & Nakijken | B13: Maak en kijk na paragraaf 1.2 | G13: FALSE
A14: Keuzemenu | G14: FALSE
A15: Daltontaak | B15: Maak in Quizlet je eigen flitskaarten of memoryspel van §1.1 t/m §1.4 | G15: FALSE
A16: WK36: 31 t/m 4 sep. | B16: TAKEN & OPDRACHTEN | H16: FALSE | I16: FALSE
A17: Maken & Nakijken | B17: Maak en kijk na paragraaf 1.3 | G17: FALSE
A18: Maken & Nakijken | B18: Maak en kijk na paragraaf 1.4 | G18: FALSE
A19: Maken & Nakijken | B19: Maak de herhalingsopgaven deel 1 (oneven) van hoofdstuk 1 | G19: FALSE
A20: Keuzemenu | G20: FALSE
A21: Daltontaak | B21: Maak in Quizlet je eigen flitskaarten of memoryspel van §1.1 t/m §1.4 | G21: FALSE
A22: WK37: 7 t/m 11 sep. Examenreisweek | B22: TAKEN & OPDRACHTEN | H22: FALSE | I22: FALSE
A23: Maken & Nakijken | B23: Maak de herhalingsopgaven deel 2 (oneven) van hoofdstuk 1 | G23: FALSE
A24: Maken & Nakijken | B24: Maak de eerste helft van de rekenparagraaf van hoofdstuk 1 | G24: FALSE
A25: Maken & Nakijken | B25: Maak de tweede helft van de rekenparagraaf van hoofdstuk 1 | G25: FALSE
A26: Keuzemenu | G26: FALSE
A27: Daltontaak | B27: Oefenen/leren met je eigen flitskaarten of memoryspel van hoofdstuk 1 in Quizlet | G27: FALSE
A28: WK38: 14 t/m 18 sep. | B28: TAKEN & OPDRACHTEN | H28: FALSE | I28: FALSE
A29: Maken & Nakijken | B29: Maak en kijk na paragraaf 2.1 | G29: FALSE
A30: Maken & Nakijken | B30: Maak en kijk na paragraaf 2.2 | G30: FALSE
A31: Maken & Nakijken | B31: Maak en kijk na paragraaf 2.3 | G31: FALSE
A32: Keuzemenu | G32: FALSE
A33: Daltontaak | B33: Oefenen/leren met je eigen flitskaarten of memoryspel van hoofdstuk 1 in Quizlet | G33: FALSE
A34: WK39: 21 t/m 25 sep. | B34: TAKEN & OPDRACHTEN | H34: FALSE | I34: FALSE
A35: Maken & Nakijken | B35: Maak en kijk na paragraaf 2.4 | G35: FALSE
A36: Maken & Nakijken | B36: Maak de herhalingsopgaven deel 1 (oneven) van hoofdstuk 2 | G36: FALSE
A37: Maken & Nakijken | B37: Maak de herhalingsopgaven deel 2 (oneven) van hoofdstuk 2 | G37: FALSE
A38: Keuzemenu | G38: FALSE
A39: Daltontaak | B39: Maak in Quizlet je eigen flitskaarten of memoryspel van §2.1 t/m §2.4 | G39: FALSE
A40: WK40: 28 t/m 2 okt. | B40: TAKEN & OPDRACHTEN | H40: FALSE | I40: FALSE
A41: Maken & Nakijken | B41: Maak de eerste helft van de rekenparagraaf van hoofdstuk 2 | G41: FALSE
A42: Maken & Nakijken | B42: Maak de tweede helft van de rekenparagraaf van hoofdstuk 2 | G42: FALSE
...

Sheet EN
B1: ENGELS (EN) | K1: PERIODE 1
A3: ALGEMENE INFORMATIE
A4: Period 1 - Unit 1 and 2
A5: During this first period you are going to work your way through Unit 1 and 2
A6: You will look again at the gramar, learn new vocabulary and and practice your listening skills in WOOTS
A7: For every lesson you need to bring your All Right workbook A, pen and notebook. A charged iPad and earbuds or headphones too, but you don't need them every lesson
A9: VAKINHOUD | H9: IK HEB HET GEDAAN | I9: IK BEHEERS HET | J9: RUIMTE VOOR REFLECTIE
A10: WK35: 24 t/m 28 aug. | B10: TAKEN & OPDRACHTEN | H10: FALSE | I10: FALSE
A11: Maken | B11: Introduction and Unit 1 lesson 1 - exercsises 1-4 | G11: FALSE
A12: Maken | B12: Check Unit 1 lesson 1 and start Unit 1 lesson 2 - exercises 1-5 | G12: FALSE
A13: Leren | B13: Study box Unit 1 lesson 2 (page 51) | G13: FALSE
A14: Keuzemenu | G14: FALSE
A15: Keuzemenu | G15: FALSE
A16: WK36: 31 t/m 4 sep. | B16: TAKEN & OPDRACHTEN | H16: FALSE | I16: FALSE
A17: Maken | B17: Unit 1 lesson 2 - exercises 8-10 | G17: FALSE
A18: Maken | B18: Check Unit 1 lesson 2 and start Unit 1 lesson 3 - exercises 1-7 | G18: FALSE
A19: Aantekening | B19: Present simple and present continuous | G19: FALSE
A20: Leren | B20: Study box Unit 1 lesson 2 (page 52) and lesson 3 (page 54, only the expressions!) | G20: FALSE
A21: Keuzemenu | G21: FALSE
A22: WK37: 7 t/m 11 sep. Examenreisweek | B22: TAKEN & OPDRACHTEN | H22: FALSE | I22: FALSE
A23: Maken | B23: Check Unit 1 lesson 3 and start Unit 1 lesson 4 - exercises 1-9 | G23: FALSE
A24: Kijken & Luisteren | B24: WOOTS - practice - BRING YOUR IPAD AND EARBUDS OR HEADPHONES! | G24: FALSE
A25: Aantekening | B25: Intensifiers and prepositions of place | G25: FALSE
A26: Leren | B26: Study box Unit 1 lesson 4 (page 55 and 56) | G26: FALSE
A27: Daltontaak (verplicht) | B27: Woots - practice - Your teacher will tell you what to do and where you can find it | G27: FALSE
A28: WK38: 14 t/m 18 sep. | B28: TAKEN & OPDRACHTEN | H28: FALSE | I28: FALSE
A29: Maken | B29: Check Unit 1 lesson 4 and start Unit 1 lesson 5 - exercises 1-8 | G29: FALSE
A30: Kijken & Luisteren | B30: WOOTS - practice - BRING YOUR IPAD AND EARBUDS OR HEADPHONES! | G30: FALSE
A31: Aantekening | B31: Degrees of comparison | G31: FALSE
A32: Leren | B32: Study box lesson 5 (page 57 and 58) | G32: FALSE
A33: Daltontaak (verplicht) | B33: Woots - practice - Your teacher will tell you what to do and where you can find it | G33: FALSE
A34: WK39: 21 t/m 25 sep. | B34: TAKEN & OPDRACHTEN | H34: FALSE | I34: FALSE
A35: Toets | B35: 2T - Watching in WOOTS - BRING YOUR IPAD AND EARBUDS OR HEADPHONES! Time left: Check Unit 1 lesson 5 | G35: FALSE
A36: Toets | B36: 2T - Listening in WOOTS - BRING YOUR IPAD AND EARBUDS OR HEADPHONES! Time left: start Test Yourself Unit 1 | G36: FALSE
A37: Leren | B37: Study box Unit 1 lesson 1 -5 (page 51-58) | G37: FALSE
A38: Keuzemenu | G38: FALSE
A39: Keuzemenu | G39: FALSE
A40: WK40: 28 t/m 2 okt. | B40: TAKEN & OPDRACHTEN | H40: FALSE | I40: FALSE
A41: Maken | B41: Unit 2 lesson 2 - exercises 1-9 | G41: FALSE
A42: Maken | B42: Work on Unit 2 lesson 2 - exercises 1-9 (end of the lesson check!) | G42: FALSE
...

Sheet FA
B1: FRANS (FA) | K1: PERIODE 1
A3: ALGEMENE INFORMATIE
A4: Bienvenue! Je gaat door met het leren van Frans!
A5: Om goed Frans te leren is het belangrijk dat je vanaf nu actief aan de slag gaat met REGARDER (kijken) , LIRE (lezen), GRAMMAIRE (grammatica), ECOUTER (luisteren), PARLER (spreken) en ECRIRE (schrijven). Tijdens de instructie-lessen wordt er klassikaal stilgestaan bij onderdelen uit het boek. Tijdens de Daltonuren werk je aan je huiswerk. Vragen mag je altijd stellen!
A6: Boek Libre Service deel A , een schrift A4 en/ of een snelhechter A4 met lijntjespapier A4, opgeladen Ipad + oortjes
A7: Unité 1 : Raconte tes vacances. Je kunt beschrijven wat je tijdens de vakantie hebt gedaan, je begrijpt teksten over vakantie-bestemmingen.
A9: VAKINHOUD | H9: IK HEB HET GEDAAN | I9: IK BEHEERS HET | J9: RUIMTE VOOR REFLECTIE
A10: WK35: 24 t/m 28 aug. | B10: TAKEN & OPDRACHTEN | H10: FALSE | I10: FALSE
A11: Keuzemenu | B11: start lessen Frans | G11: FALSE
A12: Herhalen | B12: Questions personnelles uit klas 2 | G12: FALSE
A13: Keuzemenu | G13: FALSE
A14: Keuzemenu | G14: FALSE
A15: Keuzemenu | G15: FALSE
A16: WK36: 31 t/m 4 sep. | B16: TAKEN & OPDRACHTEN | H16: FALSE | I16: FALSE
A17: Inleveren | B17: Antwoorden op de questions personnelles (jezelf voorstellen) | G17: FALSE
A18: Kijken | B18: (REGARDER) : p.10 : 1 + 2 | G18: FALSE
A19: Lezen | B19: (LIRE) : p.12+13+14: 4, 5 ,6 | G19: FALSE
A20: Leren | B20: voca Unité 1 : lijst A | G20: FALSE
A21: Doen | B21: p.11: 3 p.15: 7 | G21: FALSE
A22: WK37: 7 t/m 11 sep. Examenreisweek | B22: TAKEN & OPDRACHTEN | H22: FALSE | I22: FALSE
A23: Maken | B23: (GRAMMAIRE I) : p.16 : 8A +8B Keuze : 8C + 8E | G23: FALSE
A24: Luisteren | B24: (ECOUTER) : p.19 + 20 : 9, 12, 13 Keuze: p.19: 10 | G24: FALSE
A25: Leren | B25: voca Unité 1 : lijst A | G25: FALSE
A26: Keuzemenu | G26: FALSE
A27: Keuzemenu | G27: FALSE
A28: WK38: 14 t/m 18 sep. | B28: TAKEN & OPDRACHTEN | H28: FALSE | I28: FALSE
A29: Toets | B29: voca Unité 1 : lijst A (cummulatief) | G29: FALSE
A30: Maken | B30: (GRAMMAIRE II) : p.22 + 23 + 25 : 16A, 16B, 16C , 16G | G30: FALSE
A31: Spreken | B31: (PARLER) : p.26 + 27 + 28: 17, 18, 19, 20, 21 + 23 | G31: FALSE
A32: Leren | B32: voca Unité 1 : lijst B | G32: FALSE
A33: Doen | B33: p.30: 24 | G33: FALSE
A34: WK39: 21 t/m 25 sep. | B34: TAKEN & OPDRACHTEN | H34: FALSE | I34: FALSE
A35: Schrijven | B35: (ECRIRE) : p.33 + 34: 29 + 30 + uitleg VLOG vacances (p.35: 31) | G35: FALSE
A36: Toets | B36: 0-meting leesvaardigheid Unité 1 | G36: FALSE
A37: Lezen | B37: (LIRE) EXTRA : p.40 + 41 : * + ** | G37: FALSE
A38: Leren | B38: voca Unité 1 : lijst B | G38: FALSE
A39: Doen | B39: p.32: 25 | G39: FALSE
A40: WK40: 28 t/m 2 okt. | B40: TAKEN & OPDRACHTEN | H40: FALSE | I40: FALSE
A41: Toets | B41: voca Unité 1 : lijst B (cummulatief) | G41: FALSE
A42: Maken & Nakijken | B42: Afronden van de gemaakte opdrachten van Unité 1 + werken aan VLOG | G42: FALSE
...

Sheet GS
B1: GESCHIEDENIS (GS) | K1: PERIODE 1
A3: ALGEMENE INFORMATIE
A4: Je krijgt voor geschiedenis in MAVO3 een stapeltje boeken, waarvan je er maar één per periode nodig hebt. Je levert daarom al je boeken bij je docent in en die zorgt dat je het juiste boek gebruikt.
A5: We werken deze periode aan het onderwerp Koude Oorlog (uit het boek en in Learnbeat), het conflict dat ontstond na de Tweede Wereldoorlog
A6: Tijdens de lessen krijg je uitleg, lezen we de teksten, maak je aantekeningen en kun je misschien al wat opdrachten maken, in de Daltonuren zorg je dat je alle opdrachten afmaakt.
A7: Aan het einde van deze periode weet je welke gebeurtenissen in de Koude Oorlog plaatsvonden, en waarom kenmerkend zijn voor die periode van de geschiedenis
A9: VAKINHOUD | H9: IK HEB HET GEDAAN | I9: IK BEHEERS HET | J9: RUIMTE VOOR REFLECTIE
A10: WK35: 24 t/m 28 aug. | B10: TAKEN & OPDRACHTEN | H10: FALSE | I10: FALSE
A11: Kijken & Luisteren | B11: Je krijgt van de docent een algemene introductie over de Koude Oorlog, maak aantekeningen over de twee politieke systemen die in de Koude Oorlog belangrijk zijn (kapitalisme / communisme) | G11: FALSE
A12: Keuzemenu | G12: FALSE
A13: Keuzemenu | G13: FALSE
A14: Keuzemenu | G14: FALSE
A15: Keuzemenu | G15: FALSE
A16: WK36: 31 t/m 4 sep. | B16: TAKEN & OPDRACHTEN | H16: FALSE | I16: FALSE
A17: Lezen | B17: §1 Het begin van de Koude Oorlog | G17: FALSE
A18: Maken | B18: Maak deze week de opdrachten van §1 in Learnbeat | G18: FALSE
A19: Keuzemenu | G19: FALSE
A20: Keuzemenu | G20: FALSE
A21: Keuzemenu | G21: FALSE
A22: WK37: 7 t/m 11 sep. Examenreisweek | B22: TAKEN & OPDRACHTEN | H22: FALSE | I22: FALSE
A23: Lezen | B23: §2 Een verdeeld Duitsland | G23: FALSE
A24: Maken | B24: Maak deze week de opdrachten van §2 in Learnbeat | G24: FALSE
A25: Keuzemenu | G25: FALSE
A26: Keuzemenu | G26: FALSE
A27: Keuzemenu | G27: FALSE
A28: WK38: 14 t/m 18 sep. | B28: TAKEN & OPDRACHTEN | H28: FALSE | I28: FALSE
A29: Herhalen | B29: Tijdens de les neem je met de docent de belangrijkste begrippen uit §1 en §2 door | G29: FALSE
A30: Leren | B30: De teksten en begrippen van §1 en §2 | G30: FALSE
A31: Nakijken | B31: De gemaakte opdrachten van §1 en §2 in Learnbeat | G31: FALSE
A32: Toets | B32: 0-toets over De Koude Oorlog §1 en §2 (hoger dan een 6 scoren, anders opnieuw maken) | G32: FALSE
A33: Keuzemenu | G33: FALSE
A34: WK39: 21 t/m 25 sep. | B34: TAKEN & OPDRACHTEN | H34: FALSE | I34: FALSE
A35: Lezen | B35: §3 Drie conflicten in de Koude Oorlog | G35: FALSE
A36: Maken | B36: Maak deze week de opdrachten van §3 in Learnbeat | G36: FALSE
A37: Keuzemenu | G37: FALSE
A38: Keuzemenu | G38: FALSE
A39: Keuzemenu | G39: FALSE
A40: WK40: 28 t/m 2 okt. | B40: TAKEN & OPDRACHTEN | H40: FALSE | I40: FALSE
A41: Lezen | B41: §4 Het einde van de Koude Oorlog | G41: FALSE
A42: Maken | B42: Maak deze week de opdrachten van §4 in Learnbeat | G42: FALSE
...

Sheet MA
B1: MAATSCHAPPIJLEER (MA) | K1: PERIODE 1
A3: ALGEMENE INFORMATIE
A4: Deze periode behandelen we thema's media en werk (+ par 1.2 en 1.3). Je hebt tijdens de les je tekstboek, werkboek, schrift en een pen nodig.
A5: Zie het Kennen & Kunnen lijstje in SomToday voor de leerdoelen! (Deze komt voor de herfstvakantie op SomToday)
A9: VAKINHOUD | H9: IK HEB HET GEDAAN | I9: IK BEHEERS HET | J9: RUIMTE VOOR REFLECTIE
A10: WK35: 24 t/m 28 aug. | B10: TAKEN & OPDRACHTEN | H10: FALSE | I10: FALSE
A11: Kijken | B11: Het (jeugd)journaal | G11: FALSE
A12: Keuzemenu | G12: FALSE
A13: Keuzemenu | G13: FALSE
A14: Keuzemenu | G14: FALSE
A15: Keuzemenu | G15: FALSE
A16: WK36: 31 t/m 4 sep. | B16: TAKEN & OPDRACHTEN | H16: FALSE | I16: FALSE
A17: Daltontaak (optioneel) | B17: PO 'Tijd voor maatschappij' | G17: FALSE
A18: Kijken | B18: Het (jeugd)journaal | G18: FALSE
A19: Keuzemenu | G19: FALSE
A20: Keuzemenu | G20: FALSE
A21: Keuzemenu | G21: FALSE
A22: WK37: 7 t/m 11 sep. Examenreisweek | B22: TAKEN & OPDRACHTEN | H22: FALSE | I22: FALSE
A23: Daltontaak (optioneel) | B23: PO 'Tijd voor maatschappij' | G23: FALSE
A24: Kijken | B24: Het (jeugd)journaal | G24: FALSE
A25: Keuzemenu | G25: FALSE
A26: Keuzemenu | G26: FALSE
A27: Keuzemenu | G27: FALSE
A28: WK38: 14 t/m 18 sep. | B28: TAKEN & OPDRACHTEN | H28: FALSE | I28: FALSE
A29: Maken | B29: Par 2.3. Vraag 3, 6, 7, 10, 11 en 12 | G29: FALSE
A30: Maken | B30: Par. 2.4. Vraag 6 en 8 t/m 13 | G30: FALSE
A31: Daltontaak (verplicht) | B31: PO 'Tijd voor maatschappij' | G31: FALSE
A32: Kijken | B32: Het (jeugd)journaal | G32: FALSE
A33: Keuzemenu | G33: FALSE
A34: WK39: 21 t/m 25 sep. | B34: TAKEN & OPDRACHTEN | H34: FALSE | I34: FALSE
A35: Toets | B35: ACTUALITEITENTOETS! (over het nieuws van week 35 t/m week 38) | G35: FALSE
A36: Daltontaak (verplicht) | B36: PO 'Tijd voor maatschappij' | G36: FALSE
A37: Maken & Nakijken | B37: Oefentoets paragraaf 1.2, 1.3, 2.3 en 2.4. | G37: FALSE
A38: Keuzemenu | G38: FALSE
A39: Keuzemenu | G39: FALSE
A40: WK40: 28 t/m 2 okt. | B40: TAKEN & OPDRACHTEN | H40: FALSE | I40: FALSE
A41: Maken | B41: Par. 8.2. Vraag 2, 3, 4, 7, 10, 11, 12 | G41: FALSE
A42: Maken | B42: Par. 8.4. Vraag 3, 4, 7 t/m 11 | G42: FALSE
A43: Inleveren | B43: PO 'Tijd voor maatschappij' (VOOR EEN CIJFER!) | G43: FALSE
A44: Keuzemenu | G44: FALSE
...

Sheet MK
B1: MAATSCHAPPIJKUNDE (MK) | K1: PERIODE 1
A3: ALGEMENE INFORMATIE
A4: Deze periode werken we aan thema werk. Je hebt hiervoor je boek van thema werk, een schrift en een pen nodig.
A5: Zie het Kennen & Kunnen lijstje in SomToday voor de leerdoelen! (Deze komt voor de herfstvakantie op SomToday)
A9: VAKINHOUD | H9: IK HEB HET GEDAAN | I9: IK BEHEERS HET | J9: RUIMTE VOOR REFLECTIE
A10: WK35: 24 t/m 28 aug. | B10: TAKEN & OPDRACHTEN | H10: FALSE | I10: FALSE
A11: Daltontaak (optioneel) | B11: Werken aan PO 'Welke baan past bij mij?' | G11: FALSE
A12: Maken | B12: H1 vraag 1, 3, 5, 6, 9, 12, 14, 15, 16 | G12: FALSE
A13: Keuzemenu | G13: FALSE
A14: Keuzemenu | G14: FALSE
A15: Keuzemenu | G15: FALSE
A16: WK36: 31 t/m 4 sep. | B16: TAKEN & OPDRACHTEN | H16: FALSE | I16: FALSE
A17: Maken | B17: H4 vraag 2 t/m 6, 8 t/m 11, 15 en 18 en 19 | G17: FALSE
A18: Daltontaak (optioneel) | B18: Werken aan PO 'Welke baan past bij mij?' | G18: FALSE
A19: Keuzemenu | G19: FALSE
A20: Keuzemenu | G20: FALSE
A21: Keuzemenu | G21: FALSE
A22: WK37: 7 t/m 11 sep. Examenreisweek | B22: TAKEN & OPDRACHTEN | H22: FALSE | I22: FALSE
A23: Daltontaak (optioneel) | B23: Werken aan PO 'Welke baan past bij mij?' | G23: FALSE
A24: Keuzemenu | G24: FALSE
A25: Keuzemenu | G25: FALSE
A26: Keuzemenu | G26: FALSE
A27: Keuzemenu | G27: FALSE
A28: WK38: 14 t/m 18 sep. | B28: TAKEN & OPDRACHTEN | H28: FALSE | I28: FALSE
A29: Maken | B29: H6 vraag 1 t/m 15 | G29: FALSE
A30: Maken | B30: H7 vraag 1, 2, 3, 6, 7, 9, 10, 11, 14, 17 | G30: FALSE
A31: Daltontaak (verplicht) | B31: Werken aan PO 'Welke baan past bij mij?' | G31: FALSE
A32: Keuzemenu | G32: FALSE
A33: Keuzemenu | G33: FALSE
A34: WK39: 21 t/m 25 sep. | B34: TAKEN & OPDRACHTEN | H34: FALSE | I34: FALSE
A35: Maken | B35: H8.2 vraag 4, 5, 6, 12 t/m 17 | G35: FALSE
A36: Daltontaak (verplicht) | B36: Werken aan PO 'Welke baan past bij mij?' | G36: FALSE
A37: Keuzemenu | G37: FALSE
A38: Keuzemenu | G38: FALSE
A39: Keuzemenu | G39: FALSE
A40: WK40: 28 t/m 2 okt. | B40: TAKEN & OPDRACHTEN | H40: FALSE | I40: FALSE
A41: Maken & Nakijken | B41: Oefentoets thema werk | G41: FALSE
A42: Inleveren | B42: PO 'Welke baan past bij mij?' (VOOR EEN CIJFER!) | G42: FALSE
A43: Keuzemenu | G43: FALSE
A44: Keuzemenu | G44: FALSE
...

Sheet NAT
B1: NATUURKUNDE (NAT) | K1: PERIODE 1
A3: ALGEMENE INFORMATIE
A4: Deze periode bespreken we Hoofdstuk 1 en 2 van de boekjes die je in de les krijgt
A5: In learnbeat staat aanvullende informatie zoals practica en oefenmateriaal
A6: In de standaard uitrusting voor de natuurkundeles heb je nodig: een ruitjesschrift, een rekenmachine, Geodriehoek pen en potlood.
A9: VAKINHOUD | H9: IK HEB HET GEDAAN | I9: IK BEHEERS HET | J9: RUIMTE VOOR REFLECTIE
A10: WK35: 24 t/m 28 aug. | B10: TAKEN & OPDRACHTEN | H10: FALSE | I10: FALSE
A11: Lezen | B11: van §1.1 en §1.2 de theorie Energie | G11: FALSE
A12: Maken & Nakijken | B12: van §1.1 en §1.2 de opgave | G12: FALSE
A13: Daltontaak (verplicht) | B13: Ophalen Binas bij de mediatheek | G13: FALSE
A14: Keuzemenu | G14: FALSE
A15: Test jezelf | B15: vraag jezelf af of je de leerdoelen beheerst, De leerdoelen beheers je door de opgaves zelfstandig te kunnen maken. | G15: FALSE
A16: WK36: 31 t/m 4 sep. | B16: TAKEN & OPDRACHTEN | H16: FALSE | I16: FALSE
A17: Lezen | B17: van §1.3 en 1.4 de theorie Energie | G17: FALSE
A18: Maken & Nakijken | B18: van §1.3 en 1.4 de vragen | G18: FALSE
A19: Daltontaak | B19: Ophalen Binas bij de mediatheek | G19: FALSE
A20: Keuzemenu | G20: FALSE
A21: Test jezelf | B21: vraag jezelf af of je de leerdoelen beheerst, De leerdoelen beheers je door de opgaves zelfstandig te kunnen maken. | G21: FALSE
A22: WK37: 7 t/m 11 sep. Examenreisweek | B22: TAKEN & OPDRACHTEN | H22: FALSE | I22: FALSE
A23: Lezen | B23: van §1.5 en 1.6 de theorie Energie | G23: FALSE
A24: Maken & Nakijken | B24: van §1.5 en 1.6 de vragen | G24: FALSE
A25: Keuzemenu | G25: FALSE
A26: Keuzemenu | G26: FALSE
A27: Daltontaak | B27: Maak de oefentoets uit het boekje | G27: FALSE
A28: WK38: 14 t/m 18 sep. | B28: TAKEN & OPDRACHTEN | H28: FALSE | I28: FALSE
A29: Test jezelf | B29: Oefenen voor 2T H1 §1 tm §6 Energie | G29: FALSE
A30: Keuzemenu | G30: FALSE
A31: Keuzemenu | G31: FALSE
A32: Keuzemenu | G32: FALSE
A33: Toets | B33: 2T H1 Energie Paragraaf 1 tm 6 | G33: FALSE
A34: WK39: 21 t/m 25 sep. | B34: TAKEN & OPDRACHTEN | H34: FALSE | I34: FALSE
A35: Lezen | B35: van §2.1, §2.2 en §2.3 de theorie | G35: FALSE
A36: Maken & Nakijken | B36: van §2.1, §2.2 en §2.3 de vragen | G36: FALSE
A37: Keuzemenu | G37: FALSE
A38: Keuzemenu | G38: FALSE
A39: Test jezelf | B39: vraag jezelf af of je de leerdoelen beheerst, De leerdoelen beheers je door de opgaves zelfstandig te kunnen maken. | G39: FALSE
A40: WK40: 28 t/m 2 okt. | B40: TAKEN & OPDRACHTEN | H40: FALSE | I40: FALSE
A41: Lezen | B41: van §2.4 en §2.5 de theorie | G41: FALSE
A42: Maken & Nakijken | B42: van §2.4 en §2.5 de vragen | G42: FALSE
A43: Keuzemenu | G43: FALSE
...

Sheet NE
B1: NEDERLANDS (NE) | K1: PERIODE 1
A3: ALGEMENE INFORMATIE
A4: Je hebt de volgende spullen iedere les bij je: boek 3A, schrift voor aantekeningen en opdrachten (A4), drie pennen, iPad.
A5: In deze periode behandelen we de paragrafen fictie, spelling, grammatica, woorden en lezen.
A7: Stof toetsweek: woordenschat en leesvaardigheid
A9: VAKINHOUD | H9: IK HEB HET GEDAAN | I9: IK BEHEERS HET | J9: RUIMTE VOOR REFLECTIE
A10: WK35: 24 t/m 28 aug. | B10: TAKEN & OPDRACHTEN | H10: FALSE | I10: FALSE
A11: Lezen | B11: H1 Verhaal Dwarsloper, blz. 12 en 13. | G11: FALSE
A12: Maken | B12: Opdr. 3, blz. 11. | G12: FALSE
A13: Lezen | B13: H1 Verhaal Alleen Thuis, blz.14 en 15. | G13: FALSE
A14: Maken | B14: H1 Verhalen Opdr. 4, blz. 13. | G14: FALSE
A15: Maken | B15: H3 Taal Opdr. 2 en 3, blz. 71-72. | G15: FALSE
A16: WK36: 31 t/m 4 sep. | B16: TAKEN & OPDRACHTEN | H16: FALSE | I16: FALSE
A17: Lezen | B17: Verhaal Oever. | G17: FALSE
A18: Maken | B18: H1 Verhalen - Opdr. 6, blz. 16 en 17 + Opdr. 7, blz. 19 (begrip: leeservaring) | G18: FALSE
A19: Maken | G19: FALSE
A20: Maken | B20: H3: Opdr. 4 en 5 (manieren van lezen, onderwerp + kernzin), blz. 73 t/m 76. | G20: FALSE
A21: Maken | G21: FALSE
A22: WK37: 7 t/m 11 sep. Examenreisweek | B22: TAKEN & OPDRACHTEN | H22: ¢ | I22: FALSE
A23: Maken | B23: Grammatica: opdr. 8 en 10 (1, 2, 4 , 6, 8) (volledig ontleden. pv / wwg / ond / lv / mv / bwb), blz. 46 t/m 49 | G23: FALSE
A24: Maken | B24: Werkwoordspelling: opdr. 12 t/m 15, blz. 51 t/m 54. | G24: FALSE
A25: Maken & Nakijken | B25: Oefenen met materiaal uit de studiewijzer. | G25: FALSE
A26: Daltontaak (verplicht) | B26: Woordenschat online oefenen (schooltaalwoorden) | G26: ¢
A27: Keuzemenu | G27: ¢
A28: WK38: 14 t/m 18 sep. | B28: TAKEN & OPDRACHTEN | H28: FALSE | I28: FALSE
A29: Maken | B29: Spelling: opdr. 16 t/m 20, blz. 55 t/m 58. (koppeltekens en tussen-n) | G29: FALSE
A30: Maken | B30: Taalbewustzijn: opdr. 36 t/m 38 (voorvoegsels en achtervoegsels), blz. 68 en 69. | G30: FALSE
A31: Daltontaak (verplicht) | B31: Woordenschat online oefenen (themawoorden) | G31: FALSE
A32: Maken & Nakijken | B32: H3 Taal: m. opdr. 6 + 7 + 10 t/m 13, blz. 78 t/m 87. (neem oortjes mee) | G32: FALSE
A33: Keuzemenu | G33: FALSE
A34: WK39: 21 t/m 25 sep. | B34: TAKEN & OPDRACHTEN | H34: FALSE | I34: FALSE
A35: Maken & Nakijken | B35: H3 Taal: opdr. 16, 17, 18 (digitaal en onderzoek beoordelen) | G35: FALSE
A36: Maken & Nakijken | B36: H3 Taal: opdr. 24 en 25 (alinea's verbinden, tekstverbanden en signaalwoorden) | G36: FALSE
A37: Daltontaak (verplicht) | B37: Woordenschat online oefenen (alle woorden) | G37: FALSE
A38: Toets | B38: Handelingsdeel fictie. | G38: FALSE
A39: Keuzemenu | G39: FALSE
A40: WK40: 28 t/m 2 okt. | B40: TAKEN & OPDRACHTEN | H40: FALSE | I40: FALSE
A41: Herhalen | B41: Herhalen grammatica, spelling en ww-spelling | G41: FALSE
A42: Leren | B42: Uitleg schrijfdoelen en tekstsoorten, blz. 114 en 115. | G42: FALSE
A43: Leren | B43: Uitleg inleiding, middenstuk, slot, blz. 115. | G43: FALSE
...

Sheet SK
B1: SCHEIKUNDE (SK) | K1: PERIODE 1
A3: ALGEMENE INFORMATIE
A4: Welkomswoordje
A5: Wat gaan we deze periode doen? Wat is de Daltontaak? Wat houd de Daltontaak in?
A6: Welke boeken/spullen/materialen zijn er nodig?
A7: Wat moet je geleerd hebben na deze periode?
A9: VAKINHOUD | H9: IK HEB HET GEDAAN | I9: IK BEHEERS HET | J9: RUIMTE VOOR REFLECTIE
A10: WK35: 24 t/m 28 aug. | B10: TAKEN & OPDRACHTEN | H10: FALSE | I10: FALSE
A11: Leren | B11: Oplossen wat is dat? Wat krijg je als stoffen niet oplossen? Paragraaf 1.1 Learnbeat. | G11: FALSE
A12: Practicum | B12: Paragraaf 1.1 Learnbeat. | G12: FALSE
A13: Maken & Nakijken | B13: Opgaven bij paragraaf 1.1 Learnbeat en Nova hoofdstuk 1 paragraaf 1.3 opgaven. | G13: FALSE
A14: Daltontaak (verplicht) | B14: Waarom scheikunde? Open paragraaf 1.2 van Learnbeat en beantwoord de verschillende opdrachten. Koop een A4 schrift met grote ruitjes (1 cm bij 1 cm) deze gebruiken we voor aantekeningen en extra opdrachten. | G14: FALSE
A15: Doen | B15: Open paragraaf 1.1 B van learnbeat en maak en doe de opdrachten. | G15: FALSE
A16: WK36: 31 t/m 4 sep. | B16: TAKEN & OPDRACHTEN | H16: FALSE | I16: FALSE
A17: Leren | B17: Molecuulmodel; fase overgangen; Stofeigenschappen. | G17: FALSE
A18: Practicum | B18: Paragraaf 1.3 Learnbeat | G18: FALSE
A19: Maken & Nakijken | B19: Opgaven bij paragraaf 1.3 Learnbeat en Nova hoofdstuk 1 paragraaf 1.2 opgaven. | G19: FALSE
A20: Daltontaak (verplicht) | B20: Doe de test jezelf van paragraaf 1.2; Gebruik de flitskaarten van Nova paragraaf 1.2 om de begrippen te leren. | G20: FALSE
A21: Doen | B21: Open paragraaf 1.2 B van learnbeat en maak en doe de opdrachten. | G21: FALSE
A22: WK37: 7 t/m 11 sep. Examenreisweek | B22: TAKEN & OPDRACHTEN | H22: FALSE | I22: FALSE
A23: Keuzemenu | G23: FALSE
A24: Keuzemenu | G24: FALSE
A25: Keuzemenu | G25: FALSE
A26: Keuzemenu | G26: FALSE
A27: Keuzemenu | G27: FALSE
A28: WK38: 14 t/m 18 sep. | B28: TAKEN & OPDRACHTEN | H28: FALSE | I28: FALSE
A29: Leren | B29: Stofeigenschappen toepassen in verschillende scheidingsmethodes. | G29: FALSE
A30: Practicum | B30: Paragraaf 1.5 Learnbeat | G30: FALSE
A31: Maken & Nakijken | B31: Opgaven bij paragraaf 1.5 Learnbeat en Nova hoofdstuk 1 paragraaf 1.4 opgaven maken. | G31: FALSE
A32: Daltontaak (optioneel) | B32: Doe de test jezelf van paragraaf 1.4; Gebruik de flitskaarten van Nova paragraaf 1.4 om de begrippen te leren. | G32: FALSE
A33: Doen | B33: Open paragraaf 1.5 B van learnbeat en maak en doe de opdrachten. | G33: FALSE
A34: WK39: 21 t/m 25 sep. | B34: TAKEN & OPDRACHTEN | H34: FALSE | I34: FALSE
A35: Leren | B35: Stofeigenschappen toepassen in verschillende scheidingsmethodes. | G35: FALSE
A36: Practicum | B36: Paragraaf 1.6 Learnbeat Destilleren. | G36: FALSE
A37: Maken & Nakijken | B37: Opgaven bij paragraaf 1.6 Learnbeat en Nova hoofdstuk 1 paragraaf 1.4 opgaven maken. | G37: FALSE
A38: Daltontaak (optioneel) | B38: Doe de test jezelf van paragraaf 1.1; Gebruik de flitskaarten van Nova paragraaf 1.1 om de begrippen te leren. | G38: FALSE
A39: Doen | B39: Open paragraaf 1.6 B van learnbeat en maak en doe de opdrachten. | G39: FALSE
A40: WK40: 28 t/m 2 okt. | B40: TAKEN & OPDRACHTEN | H40: FALSE | I40: FALSE
A41: Leren | B41: Stofeigenschappen toepassen in verschillende scheidingsmethodes. | G41: FALSE
A42: Practicum | B42: Paragraaf 1.8 Learnbeat Adsorberen. | G42: FALSE
...

Sheet WI
B1: WISKUNDE (WI) | K1: PERIODE 1
A3: ALGEMENE INFORMATIE
A4: Welkomswoordje
A5: Wat gaan we deze periode doen? Wat is de Daltontaak? Wat houd de Daltontaak in?
A6: Welke boeken/spullen/materialen zijn er nodig?
A7: Wat moet je geleerd hebben na deze periode?
A9: VAKINHOUD | H9: IK HEB HET GEDAAN | I9: IK BEHEERS HET | J9: RUIMTE VOOR REFLECTIE
A10: WK35: 24 t/m 28 aug. | B10: TAKEN & OPDRACHTEN | H10: FALSE | I10: FALSE
A11: Herhalen | B11: Introductieles wiskunde mavo 3 | G11: FALSE
A12: Maken & Nakijken | B12: H2 Voorkennis: Opdracht V1 tm V7 blz. (44-45) | G12: FALSE
A13: Maken & Nakijken | B13: H2.1: Opdracht 1 tm 4 blz. (46-49) | G13: FALSE
A14: Keuzemenu | G14: FALSE
A15: Keuzemenu | G15: FALSE
A16: WK36: 31 t/m 4 sep. | B16: TAKEN & OPDRACHTEN | H16: FALSE | I16: FALSE
A17: Maken & Nakijken | B17: H2.2: Opdracht 5 tm 9 blz. (50-53) | G17: FALSE
A18: Maken & Nakijken | B18: H2.3: Opdracht 10 tm 14 blz. (54-57) | G18: FALSE
A19: Maken & Nakijken | B19: H2.4: Opdracht 15 tm 20 blz. (58-61) | G19: FALSE
A20: Keuzemenu | G20: FALSE
A21: Keuzemenu | G21: FALSE
A22: WK37: 7 t/m 11 sep. Examenreisweek | B22: TAKEN & OPDRACHTEN | H22: FALSE | I22: FALSE
A23: Maken & Nakijken | B23: H2.5: Opdracht 21 tm 25 blz. (62-65) | G23: FALSE
A24: Maken & Nakijken | B24: Oefenproefwerk: Opdracht P1 tm P6 blz. (76-77) | G24: FALSE
A25: Oefenen | B25: E-opdrachten: Opdracht E1 tm E14 blz. (66-73) | G25: FALSE
A26: Oefenen | B26: Gemengde opdrachten: Opdracht G1 tm G5 blz. (74-75) | G26: FALSE
A27: Keuzemenu | G27: FALSE
A28: WK38: 14 t/m 18 sep. | B28: TAKEN & OPDRACHTEN | H28: FALSE | I28: FALSE
A29: Toets | B29: 2-Toets: Hoofdstuk 2 (35 min (+10 min extra tijd met faciliteitenkaart)) | G29: FALSE
A30: Maken & Nakijken | B30: H1 Voorkennis: Opdracht V1 tm V7 blz. (8-9) | G30: FALSE
A31: Maken & Nakijken | B31: H1.1: Opdracht 1 tm 6 blz. (10-13) | G31: FALSE
A32: Keuzemenu | G32: FALSE
A33: Keuzemenu | G33: FALSE
A34: WK39: 21 t/m 25 sep. | B34: TAKEN & OPDRACHTEN | H34: FALSE | I34: FALSE
A35: Maken & Nakijken | B35: H1.2: Opdracht 7 tm 13 blz. (14-17) | G35: FALSE
A36: Maken & Nakijken | B36: H1.3: Opdracht 14 tm 20 blz. (18-21) | G36: FALSE
A37: Maken & Nakijken | B37: H1.4: Opdracht 21 tm 27 blz. (22-25) | G37: FALSE
A38: Keuzemenu | G38: FALSE
A39: Keuzemenu | G39: FALSE
A40: WK40: 28 t/m 2 okt. | B40: TAKEN & OPDRACHTEN | H40: FALSE | I40: FALSE
A41: Maken & Nakijken | B41: H1.5: Opdracht 28 tm 35 blz. (26-29) | G41: FALSE
A42: Oefenen | B42: Gemengde opdrachten: Opdracht G1 tm G6 blz. (38-39) | G42: FALSE
...
