Workbook

Sheet Overzicht
A2: AK | D2: EN | G2: FA | J2: GS | M2: MU | P2: NE | S2: TE | V2: WI
A3: WK 35 | B3: =AK!H10 -> FALSE | D3: WK 35 | E3: =EN!H16 -> FALSE | G3: WK 35 | H3: =FA!H16 -> FALSE | J3: WK 35 | K3: =GS!H16 -> FALSE | M3: WK 35 | N3: =MU!H16 -> FALSE | P3: WK 35 | Q3: =NE!H16 -> FALSE | S3: WK 35 | T3: =TE!H16 -> FALSE | V3: WK 35 | W3: =WI!H16 -> FALSE
A4: WK 36 | B4: =AK!H16 -> FALSE | D4: WK 36 | E4: =EN!H22 -> FALSE | G4: WK 36 | H4: =FA!H22 -> FALSE | J4: WK 36 | K4: =GS!H22 -> FALSE | M4: WK 36 | N4: =MU!H22 -> FALSE | P4: WK 36 | Q4: =NE!H22 -> FALSE | S4: WK 36 | T4: =TE!H22 -> FALSE | V4: WK 36 | W4: =WI!H22 -> FALSE
A5: WK 37 | B5: =AK!H22 -> FALSE | D5: WK 37 | E5: =EN!H28 -> TRUE | G5: WK 37 | H5: =FA!H28 -> TRUE | J5: WK 37 | K5: =GS!H28 -> FALSE | M5: WK 37 | N5: =MU!H28 -> FALSE | P5: WK 37 | Q5: =NE!H28 -> FALSE | S5: WK 37 | T5: =TE!H28 -> FALSE | V5: WK 37 | W5: =WI!H28 -> FALSE
A6: WK 38 | B6: =AK!H28 -> FALSE | D6: WK 38 | E6: =EN!H35 | G6: WK 38 | H6: =FA!H35 | J6: WK 38 | K6: =GS!H35 | M6: WK 38 | N6: =MU!H35 | P6: WK 38 | Q6: =NE!H35 | S6: WK 38 | T6: =TE!H35 | V6: WK 38 | W6: =WI!H35
A7: WK 39 | B7: =AK!H34 -> FALSE | D7: WK 39 | E7: =EN!H41 | G7: WK 39 | H7: =FA!H41 | J7: WK 39 | K7: =GS!H41 | M7: WK 39 | N7: =MU!H41 | P7: WK 39 | Q7: =NE!H41 | S7: WK 39 | T7: =TE!H41 | V7: WK 39 | W7: =WI!H41
A8: WK 40 | B8: =AK!H40 -> FALSE | D8: WK 40 | E8: =EN!H47 | G8: WK 40 | H8: =FA!H47 | J8: WK 40 | K8: =GS!H47 | M8: WK 40 | N8: =MU!H47 | P8: WK 40 | Q8: =NE!H47 | S8: WK 40 | T8: =TE!H47 | V8: WK 40 | W8: =WI!H47
A9: WK 41 | B9: =AK!H46 -> FALSE | D9: WK 41 | E9: =EN!H54 | G9: WK 41 | H9: =FA!H54 | J9: WK 41 | K9: =GS!H54 | M9: WK 41 | N9: =MU!H54 | P9: WK 41 | Q9: =NE!H54 | S9: WK 41 | T9: =TE!H54 | V9: WK 41 | W9: =WI!H54
A10: WK 43 | B10: =AK!H53 -> FALSE | D10: WK 43 | E10: =EN!H60 | G10: WK 43 | H10: =FA!H60 | J10: WK 43 | K10: =GS!H60 | M10: WK 43 | N10: =MU!H60 | P10: WK 43 | Q10: =NE!H60 | S10: WK 43 | T10: =TE!H60 | V10: WK 43 | W10: =WI!H60

Sheet AK
B1: AARDRIJKSKUNDE (AK) | K1: PERIODE 1
A3: ALGEMENE INFORMATIE
A5: Elke week heb je opdrachten uit het werkboek die je moet maken als huiswerk en vaak ook een daltontaak die je in een daltonuur moet uitvoeren. Er wordt na elke paragraaf een huiswerkcontrole gedaan.
A6: Voor de lessen aardrijkskunde moet je altijd je Ipad, werkboek én leerboek bij je hebben. Uiteraard is je Ipad opgeladen en heb je ook een pen bij je. Het basisboek mag je thuis laten, deze hebben we ook in het lokaal.
A7: Je krijgt deze periode een toets over de begrippen van H2 - §1 en §2 (je krijgt er elke periode een en het gemiddelde vormt aan het einde van het jaar een 2-toets), een 2-toets voor een praktisch opdracht en een 4-toets over heel hoofdstuk 1 - §1234
A9: VAKINHOUD | H9: IK HEB HET GEDAAN | I9: IK BEHEERS HET | J9: RUIMTE VOOR REFLECTIE
A10: WK35: 24 t/m 28 aug. | B10: TAKEN & OPDRACHTEN | H10: FALSE | I10: FALSE
A11: Lezen | B11: H1 - start - leerboek blz 6 en 7 | G11: FALSE
A12: Maken | B12: H1 - start - opdr 1 t/m 4 - werkboek blz 4 en 5 | G12: FALSE
A13: Keuzemenu | G13: FALSE
A14: Keuzemenu | G14: FALSE
A15: Keuzemenu | G15: FALSE
A16: WK36: 31 t/m 4 sep. | B16: TAKEN & OPDRACHTEN | H16: FALSE | I16: FALSE
A17: Lezen | B17: H1 - §1 - leerboek blz 8 en 9 | G17: FALSE
A18: Maken | B18: H1 - §1 - opdr 1 t/m 4 - werkboek blz 6 en 7 | G18: FALSE
A19: Daltontaak (verplicht) | B19: De begrippen (dikgedrukte blauwe woorden) van H1 §1 en §2 arceren in je begrippenlijst + flitskaartjes maken ter voorbereiding van de begrippentoets (Let op! bij de leerdoelen in je werkboek staat per § precies welke je moet weten) | G19: FALSE
A20: Keuzemenu | G20: FALSE
A21: Keuzemenu | G21: FALSE
A22: WK37: 7 t/m 11 sep. Examenreisweek | B22: TAKEN & OPDRACHTEN | H22: FALSE | I22: FALSE
A23: Lezen | B23: H1 - §1 - leerboek blz 8 en 9 | G23: FALSE
A24: Maken | B24: H1 - §1 - opdr 5, 6, 7, 8 - werkboek blz 7, 8 en 9 | G24: FALSE
A25: Daltontaak (optioneel) | B25: Nakijken via het nakijkblad H1 - §1 | G25: FALSE
A26: Keuzemenu | G26: FALSE
A27: Keuzemenu | G27: FALSE
A28: WK38: 14 t/m 18 sep. | B28: TAKEN & OPDRACHTEN | H28: FALSE | I28: FALSE
A29: Lezen | B29: H1 - §2 - leerboek blz 10 en 11 | G29: FALSE
A30: Maken | B30: H1 - §2 - opdr 1, 2, 3, 4, 5 - werkboek blz 11, 12 en 13 | G30: FALSE
A31: Daltontaak (verplicht) | B31: werken aan PO - ontwerp je eigen wijk (2-toetscijfer) | G31: FALSE
A32: Keuzemenu | G32: FALSE
A33: Keuzemenu | G33: FALSE
A34: WK39: 21 t/m 25 sep. | B34: TAKEN & OPDRACHTEN | H34: FALSE | I34: FALSE
A35: Lezen | B35: H1 - §3 - leerboek blz 12 en 13 | G35: FALSE
A36: Maken | B36: H1 - §3 - opdr 1, 2, 3, 4 - werkboek blz 15 en 16 | G36: FALSE
A37: Daltontaak (verplicht) | B37: werken aan PO - ontwerp je eigen wijk (2-toetscijfer) | G37: FALSE
A38: Daltontaak (optioneel) | B38: Nakijken via het nakijkblad H1 - §2 | G38: FALSE
A39: Leren | B39: Leren mbv flitskaarts kaartjes voor de begrippen toets - begrippen hoofdstuk 1 - §1 en §2 (gemiddelde van de 4 begrippen toetsen dit jaar wordt een 2-toets cijfer in de laatste periode) | G39: FALSE
A40: WK40: 28 t/m 2 okt. | B40: TAKEN & OPDRACHTEN | H40: FALSE | I40: FALSE
A41: Lezen | B41: H1 - §3 - leerboek blz 12 en 13 | G41: FALSE
A42: Maken | B42: H1 - §3 - opdr 5, 6, 7, 8 - werkboek blz 17 en 18 | G42: FALSE
A43: Daltontaak (verplicht) | B43: werken aan PO - ontwerp je eigen wijk (2-toetscijfer) | G43: FALSE
A44: Daltontaak (optioneel) | B44: Nakijken via het nakijkblad H1 - §3 | G44: FALSE
A45: Toets | B45: begrippen toets - begrippen (dikgedrukte blauwe woorden) hoofdstuk 1 - §1 en §2 (Let op! bij de leerdoelen in je werkboek staat per § precies welke je moet weten) (gemiddelde van de 4 begrippen toetsen dit jaar wordt een 2-toets cijfer in de laatste periode) DEZE TOETS IS OP DE IPAD! | G45: FALSE
A46: WK41: 5 t/m 9 okt. Di. Brugklasdag | B46: TAKEN & OPDRACHTEN | H46: FALSE | I46: FALSE
A47: Lezen | B47: H1 - §4 - leerboek blz 14 en 15 | G47: FALSE
A48: Maken | B48: H1 - §4- opdr 1, 2abc, 3, 4, 5, 6, 7 - werkboek blz 21 t/m 24 | G48: FALSE
A49: Inleveren | B49: vrijdag vóór 17:00 inelveren - PO - ontwerp je eigen wijk (2-toetscijfer) | G49: FALSE
A50: Doen | B50: Je basisboek meenemen deze week! | G50: FALSE
A51: Keuzemenu | G51: FALSE
A52: WEEK 42 HERFSTVAKANTIE
A53: WK43: 19 t/m 23 okt. Vr. Daltondag | B53: TAKEN & OPDRACHTEN | H53: FALSE | I53: FALSE
A54: Herhalen | B54: Herhalings odprachten in Learnbeat. 1.1 t/m 1.4 telkens onderdeel D beide opdrachten maken. | G54: FALSE
A55: Leren | B55: Leren voor de 4-toets in de toetsweek, zie hieronder wat je moet leren | G55: FALSE
A56: Daltontaak (optioneel) | B56: Nakijken via het nakijkblad H1 - §4 | G56: FALSE
A57: Keuzemenu | G57: FALSE
A58: Keuzemenu | G58: FALSE
A59: WEEK 44 TOETSWEEK ONDERBOUW EN BOVENBOUW (MA. 26 OKT. T/M VR. 30 OKT.)
A61: UITDAGINGEN/EXTRA MOGELIJKHEDEN
A69: TOETS
A70: 4 toets (LET OP! DEZE TOETS IS OP DE IPAD) toetsweek Hoofdstuk 1 Paragraaf 1, 2, 3, 4 Leer de dik gedrukte woorden van de paragrafen op bladzijde 16 en 17 (Let op! bij de leerdoelen in je werkboek staat per § precies welke je moet weten) Lees de tekst in je leerboek een aantal keer goed door Lees de basisboeknummer door Kijk de PowerPoint door Aan het einde van elke paragraaf in je werkboek staan de leerdoelen voor die paragraaf. Lees de leerdoelen nogmaals door als je denkt dat je goed genoeg geleerd hebt en kijk of je de antwoorden op de leerdoelen kan verzinnen uit je hoofd en opschrijven. Je kunt in Learnbeat de herhalingsopdrachten maken. Je kunt in Learnbeat ook de Test jezelf maken, dit kun je doen door naar 1.1 t/m 1.4 te gaan en onderdeel E te maken.

Sheet EN
B1: ENGELS (EN) | K1: PERIODE 1
A3: ALGEMENE INFORMATIE
A4: Voor de lessen Engels heb je altijd je boek, etui en schrift nodig! De iPad gebruiken we ook regelmatig, daarbij heb je ook oortjes nodig. Zorg ervoor dat je die altijd mee hebt!
A5: Elke week heb je opdrachten die aan het einde van de week allemaal af moeten zijn. Er wordt aan het begin van de nieuwe week altijd een huiswerk controle gedaan!
A7: Ook heb je elke week leerwerk. Zorg dat je dit bijhoudt! De woordjes kun je oefenen in het desbetreffende onderdeel van de paragraaf óf in je boek.
A9: VAKINHOUD | H9: IK HEB HET GEDAAN | I9: IK BEHEERS HET | J9: RUIMTE VOOR REFLECTIE
A10: WK35: 24 t/m 28 aug. | B10: TAKEN & OPDRACHTEN | H10: FALSE | I10: FALSE
A11: Maken | B11: Weektaak: Unit 1 lesson 1 + lesson 2 | G11: TRUE
A12: Daltontaak (optioneel) | B12: Versterk jezelf: personal pronouns and possessive pronouns | G12: FALSE
A13: Leren | B13: Study box page 45 (personal pronouns and possessive pronouns) | G13: FALSE
A14: Keuzemenu | G14: FALSE
A15: Keuzemenu | G15: FALSE
A16: WK36: 31 t/m 4 sep. | B16: TAKEN & OPDRACHTEN | H16: FALSE | I16: FALSE
A17: Maken | B17: Weektaak: Unit 1 lesson 3 + Werkblad first day of school | G17: FALSE
A18: Daltontaak (verplicht) | B18: Do: Challenge + The Extra Mile page 24 | G18: FALSE
A19: Leren | B19: Words and expressions lesson 3 (page 46-47) | G19: FALSE
A20: Keuzemenu | G20: FALSE
A21: Keuzemenu | G21: FALSE
A22: WK37: 7 t/m 11 sep. Examenreisweek | B22: TAKEN & OPDRACHTEN | H22: FALSE | I22: FALSE
A23: Maken | B23: Weektaak: Unit 1 lesson 4, lesson 5 exercises 1-4 | G23: FALSE
A24: Daltontaak (verplicht) | B24: Versterk jezelf: present simple van 'to be' en 'to have (got)' | G24: FALSE
A25: Leren | B25: Words and expressions lesson 4 (page 47-48) | G25: FALSE
A26: Keuzemenu | G26: FALSE
A27: Keuzemenu | G27: FALSE
A28: WK38: 14 t/m 18 sep. | B28: TAKEN & OPDRACHTEN | H28: TRUE | I28: TRUE
A29: Maken | B29: Weektaak: This is me project (boekje) | G29: TRUE
A30: Daltontaak (optioneel) | B30: Maak de lessen uit het boekje af tijdens de dalton uren als het tijdens de Engelse les nog niet helemaal af is. | G30: TRUE
A31: Keuzemenu | G31: TRUE
A32: Keuzemenu | G32: TRUE
A33: Keuzemenu | G33: TRUE
A34: WK39: 21 t/m 25 sep. | B34: TAKEN & OPDRACHTEN | H34: FALSE | I34: FALSE
A35: Maken | B35: Weektaak: Unit 1 lesson 5: exercise 5-11 + Challenge & The Extra Mile (exercises 12+13) | G35: FALSE
A36: Daltontaak (optioneel) | B36: Do: Test Jezelf van lesson 4 + 5 | G36: FALSE
A37: Leren | B37: Study box pages 49 - 41 | G37: FALSE
A38: Keuzemenu | G38: FALSE
A39: Keuzemenu | G39: FALSE
A40: WK40: 28 t/m 2 okt. | B40: TAKEN & OPDRACHTEN | H40: FALSE | I40: FALSE
A41: Maken | B41: Weektaak: Unit 1 lesson 6 + Unit 2 lesson 1 | G41: FALSE
A42: Leren | B42: Study box page 44-51 | G42: FALSE
A43: Toets | B43: 2T Listening Unit 1 + 2 | G43: FALSE
A44: Keuzemenu | G44: FALSE
A45: Keuzemenu | G45: FALSE
A46: WK41: 5 t/m 9 okt. Di. Brugklasdag | B46: TAKEN & OPDRACHTEN | H46: FALSE | I46: FALSE
A47: Maken | B47: Weektaak: Unit 2 lesson 2 exercises 1-6, planning maken toetsweek, Diaplus Roald Dahl & Diaplus Halloween | G47: FALSE
A48: Schrijven | B48: (in de les) AANT. Plurals | G48: FALSE
A49: Keuzemenu | G49: FALSE
A50: Keuzemenu | G50: FALSE
A51: Keuzemenu | G51: FALSE
A52: WEEK 42 HERFSTVAKANTIE
A53: WK43: 19 t/m 23 okt. Vr. Daltondag | B53: TAKEN & OPDRACHTEN | H53: FALSE | I53: FALSE
A54: Maken | B54: Oefentoets Unit 1 | G54: FALSE
A55: Leren | B55: Study vocabulary and expressions for 2T Unit 1 | G55: FALSE
A56: Herhalen | B56: Versterk jezelf Unit 1: present simple van 'to be', to have (got), personal pronouns, possessive pronouns, lidwoorden a/an | G56: FALSE
A57: Oefenen | B57: Leerstrategieën ontdekken | G57: FALSE
A58: Keuzemenu | G58: FALSE
A59: WEEK 44 TOETSWEEK ONDERBOUW EN BOVENBOUW (MA. 26 OKT. T/M VR. 30 OKT.)
A61: UITDAGINGEN/EXTRA MOGELIJKHEDEN
A62: In de wekelijkse Daltontaken staan extra oefenopdrachten voor grammatica en de hoofdvaardigheden (lezen, luisteren, spreken en schrijven).
A66: Wil je je Engels nog sneller verbeteren? Lees dan eens een van de boeken uit de mediatheek. Er is een speciale boekenkast met boeken voor klas 1 en 2.
A69: TOETS
A70: 2TEST Listening Units 1&2
A72: 2TEST Unit 1 (testweek): Words and expressions Unit 1 (EN-NE & NE-EN!) on pages 44-51 AND ... study and practice all grammar Unit 1 (personal pronouns, possessive pronouns to be, to have (got), a/an. You can also do 'versterk jezelf' online for some extra practice.

Sheet FA
B1: FRANS (FA) | K1: PERIODE 1
A3: ALGEMENE INFORMATIE
A4: BIENVENUE! Je gaat Frans leren!
A5: Vanaf nu ga je actief aan de slag met REGARDER (kijken) , LIRE (lezen), GRAMMAIRE (grammatica), ECOUTER (luisteren), PARLER (spreken) en ECRIRE (schrijven). Vragen mag je altijd stellen!
A6: Boek Libre Service deelA. Een snelhechter A4 met 4 insteekhoezen + lijntjesbladen A4. Opgeladen Ipad en oortjes.
A7: Unité 1 : Bonjour! Je kunt iemand in het Frans begroeten, afscheid nemen en iets over jezelf vertellen. Je kunt vragen stellen en beantwoorden over je leeftijd en over waar en met wie je woont.
A9: VAKINHOUD | H9: IK HEB HET GEDAAN | I9: IK BEHEERS HET | J9: RUIMTE VOOR REFLECTIE
A10: WK35: 24 t/m 28 aug. | B10: TAKEN & OPDRACHTEN | H10: FALSE | I10: FALSE
A11: Keuzemenu | B11: Intro lessen Frans | G11: FALSE
A12: Keuzemenu | G12: FALSE
A13: Keuzemenu | G13: FALSE
A14: Keuzemenu | G14: FALSE
A15: Keuzemenu | G15: FALSE
A16: WK36: 31 t/m 4 sep. | B16: TAKEN & OPDRACHTEN | H16: FALSE | I16: FALSE
A17: Kijken | B17: (REGARDER) : p.12: 1 + 2 | G17: FALSE
A18: Lezen | B18: (LIRE) : p.13 : 3, p.14: 5 + 6 | G18: FALSE
A19: Leren | B19: voca Unité 1 : lijst A | G19: FALSE
A20: Doen | B20: (KEUZE) : p.16: 17 | G20: FALSE
A21: Keuzemenu | G21: FALSE
A22: WK37: 7 t/m 11 sep. Examenreisweek | B22: TAKEN & OPDRACHTEN | H22: FALSE | I22: FALSE
A23: Toets | B23: voca Unité 1 : lijst A : cummulatief | G23: FALSE
A24: Maken | B24: (GRAMMAIRE I) : p.18: 8C + 8D Moeilijk? Maak dan ook p.17: 8A + 8B HAVO: 8E | G24: FALSE
A25: Luisteren | B25: (ECOUTER) : p.19: 9 + 10, p.20: 12 + 13. Keuze : p.20: 11 + p.21 : 15 | G25: FALSE
A26: Leren | B26: voca Unité 1 : lijst A | G26: FALSE
A27: Keuzemenu | G27: FALSE
A28: WK38: 14 t/m 18 sep. | B28: TAKEN & OPDRACHTEN | H28: TRUE | I28: TRUE
A29: Maken | B29: (GRAMMAIRE II) : p.23+24 : 16C + 16D Moeilijk? Maak dan ook p. 22 + 23 : 16A + 16B HAVO : p.24: 16E | G29: TRUE
A30: Spreken | B30: Questions personnelles (in snelhechter) | G30: TRUE
A31: Leren | B31: voca Unité 1 : lijst B | G31: TRUE
A32: Keuzemenu | G32: TRUE
A33: Keuzemenu | G33: TRUE
A34: WK39: 21 t/m 25 sep. | B34: TAKEN & OPDRACHTEN | H34: FALSE | I34: FALSE
A35: Spreken | B35: (PARLER) : p.25 + 26 + 27: 17, 18, 19, 20, 21. Keuze : p.22+23 : 22 | G35: FALSE
A36: Herhalen | B36: Questions personnelles (in snelhechter) | G36: FALSE
A37: Leren | B37: voca Unité 1 : lijst B | G37: FALSE
A38: Doen | B38: (PARLER) : p.27 : 24 | G38: FALSE
A39: Keuzemenu | G39: FALSE
A40: WK40: 28 t/m 2 okt. | B40: TAKEN & OPDRACHTEN | H40: FALSE | I40: FALSE
A41: Toets | B41: voca Unité 1 : lijst B : cummulatief | G41: FALSE
A42: Schrijven | B42: (ECRIRE) : p.28+29+30: 25, 26, 28, 29. Keuze: p. 31 : 30B | G42: FALSE
A43: Leren | B43: voca Unité 1 : lijst C | G43: FALSE
A44: Herhalen | B44: Questions personnelles (in snelhechter) | G44: FALSE
A45: Doen | B45: (ECRIRE) : p.31: 30A | G45: FALSE
A46: WK41: 5 t/m 9 okt. Di. Brugklasdag | B46: TAKEN & OPDRACHTEN | H46: FALSE | I46: FALSE
A47: Luisteren | B47: (ECOUTER) : 0-meting luistervaardigheid Unité 1 | G47: FALSE
A48: Lezen | B48: (LIRE) EXTRA : p.36+37 : * + ** Keuze : p.37 + 38 *** | G48: FALSE
A49: Leren | B49: voca Unité 1 : lijst C | G49: FALSE
A50: Herhalen | B50: Questions personnelles (in snelhechter) | G50: FALSE
A51: Keuzemenu | G51: FALSE
A52: WEEK 42 HERFSTVAKANTIE
A53: WK43: 19 t/m 23 okt. Vr. Daltondag | B53: TAKEN & OPDRACHTEN | H53: FALSE | I53: FALSE
A54: Leren | B54: voca Unité 1 : lijst C | G54: FALSE
A55: Herhalen | B55: Questions personnelles (in snelhechter) | G55: FALSE
A56: Keuzemenu | G56: FALSE
A57: Keuzemenu | G57: FALSE
A58: Keuzemenu | G58: FALSE
A59: WEEK 44 TOETSWEEK ONDERBOUW EN BOVENBOUW (MA. 26 OKT. T/M VR. 30 OKT.)
A61: UITDAGINGEN/EXTRA MOGELIJKHEDEN
A62: Heb je tijd over? Vraag je docent dan naar een daltontaak periode 1.
A69: TOETS
A70: In de toetsweek : Unité 1 : 2T voca lijst C + 2T leesvaardigheid
A72: In de les volgens planning : Unité 1 : voca A + B / 0-meting luistervaardigheid Unité 1

Sheet GS
B1: GESCHIEDENIS (GS) | K1: PERIODE 1
A3: ALGEMENE INFORMATIE
A4: Mee te nemen naar de les:
A5: Leerboeken en werkboek Feniks
A6: Opgeladen iPad + oortjes
A7: Etui met pen, potlood en markeerstift
A9: VAKINHOUD | H9: IK HEB HET GEDAAN | I9: IK BEHEERS HET | J9: RUIMTE VOOR REFLECTIE
A10: WK35: 24 t/m 28 aug. | B10: TAKEN & OPDRACHTEN | H10: FALSE | I10: FALSE
A11: Maken | B11: Introductie opdracht geschiedenis | G11: FALSE
A12: Keuzemenu | G12: FALSE
A13: Keuzemenu | G13: FALSE
A14: Keuzemenu | G14: FALSE
A15: Keuzemenu | G15: FALSE
A16: WK36: 31 t/m 4 sep. | B16: TAKEN & OPDRACHTEN | H16: FALSE | I16: FALSE
A17: Lezen | B17: § 1.1 Op zoek naar voedsel blz. 10 en 11 in het leerboek | G17: FALSE
A18: Maken | B18: Opdrachten § 1.1 Op zoek naar voedsel | G18: FALSE
A19: Keuzemenu | G19: FALSE
A20: Keuzemenu | G20: FALSE
A21: Keuzemenu | G21: FALSE
A22: WK37: 7 t/m 11 sep. Examenreisweek | B22: TAKEN & OPDRACHTEN | H22: FALSE | I22: FALSE
A23: Lezen | B23: § 1.2 Jagers werden boer blz. 12 en 13 in het leerboek | G23: FALSE
A24: Maken | B24: Opdrachten § 1.2 Jagers werden boer | G24: FALSE
A25: Leren | B25: § 1.1 en 1.2 blz. 10 t/m 13 | G25: FALSE
A26: Keuzemenu | G26: FALSE
A27: Keuzemenu | G27: FALSE
A28: WK38: 14 t/m 18 sep. | B28: TAKEN & OPDRACHTEN | H28: FALSE | I28: FALSE
A29: Toets | B29: 2-toets H1 § 1.1 en 1.2 blz. 10 t/m 13 | G29: FALSE
A30: Keuzemenu | G30: FALSE
A31: Keuzemenu | G31: FALSE
A32: Keuzemenu | G32: FALSE
A33: Keuzemenu | G33: FALSE
A34: WK39: 21 t/m 25 sep. | B34: TAKEN & OPDRACHTEN | H34: FALSE | I34: FALSE
A35: Lezen | B35: Hoofdstuk 2 § 2.1 Griekse stadstaten blz. 28 en 29 | G35: FALSE
A36: Maken & Nakijken | B36: Opdrachten § 2.1 | G36: FALSE
A37: Keuzemenu | G37: FALSE
A38: Keuzemenu | G38: FALSE
A39: Keuzemenu | G39: FALSE
A40: WK40: 28 t/m 2 okt. | B40: TAKEN & OPDRACHTEN | H40: FALSE | I40: FALSE
A41: Lezen | B41: § 2.3 Griekse goden en helden blz. 32 en 33 | G41: FALSE
A42: Maken & Nakijken | B42: Opdrachten § 2.3 | G42: FALSE
A43: Keuzemenu | G43: FALSE
A44: Keuzemenu | G44: FALSE
A45: Keuzemenu | G45: FALSE
A46: WK41: 5 t/m 9 okt. Di. Brugklasdag | B46: TAKEN & OPDRACHTEN | H46: FALSE | I46: FALSE
A47: Lezen | B47: § 2.5 Vrijheid om te denken blz. 36 en 37 | G47: FALSE
A48: Maken & Nakijken | B48: Opdrachten § 2.5 | G48: FALSE
A49: Keuzemenu | G49: FALSE
A50: Keuzemenu | G50: FALSE
A51: Keuzemenu | G51: FALSE
A52: WEEK 42 HERFSTVAKANTIE
A53: WK43: 19 t/m 23 okt. Vr. Daltondag | B53: TAKEN & OPDRACHTEN | H53: FALSE | I53: FALSE
A54: Herhalen | B54: Voorbereiding op de 4-toets | G54: FALSE
A55: Keuzemenu | G55: FALSE
A56: Keuzemenu | G56: FALSE
A57: Keuzemenu | G57: FALSE
A58: Keuzemenu | G58: FALSE
A59: WEEK 44 TOETSWEEK ONDERBOUW EN BOVENBOUW (MA. 26 OKT. T/M VR. 30 OKT.)
A61: UITDAGINGEN/EXTRA MOGELIJKHEDEN
A69: TOETS
A70: 2-toets Hoofdstuk 1 § 1.1 en 1.2 Blz. 10 t/m 13 - Leertekst (alle tekst die niet bij bronnen staat) - Begrippen‘ - Jaartallen - Personen - Handig om de opdrachten in je werkboek nog eens te bekijken | E70: Toetsweek 4-toets Hoofdstuk 2 § 2.1, 2.3, 2.5 Blz. 28, 29, 32, 33, 36, 37 - Leertekst (alle tekst die niet bij bronnen staat) - Begrippen‘ - Jaartallen - Personen - Handig om de opdrachten in je werkboek nog eens te bekijken

Sheet MU
B1: MUZIEK (MU) | K1: PERIODE 1
A3: ALGEMENE INFORMATIE
A4: Log in bij muziekmethode Beats'n Bits
A5: Hoofdstuk 1 Lead
A9: VAKINHOUD | H9: IK HEB HET GEDAAN | I9: IK BEHEERS HET | J9: RUIMTE VOOR REFLECTIE
A10: WK35: 24 t/m 28 aug. | B10: TAKEN & OPDRACHTEN | H10: FALSE | I10: FALSE
A11: Kijken & Luisteren | B11: Wat ga je leren? | G11: FALSE
A12: Kijken & Luisteren | B12: Videoles: Toonhoogte | G12: FALSE
A13: Oefenen | B13: Oefenen Shotgun | G13: FALSE
A14: Keuzemenu | G14: FALSE
A15: Keuzemenu | G15: FALSE
A16: WK36: 31 t/m 4 sep. | B16: TAKEN & OPDRACHTEN | H16: FALSE | I16: FALSE
A17: Maken | B17: Noteren | G17: FALSE
A18: Maken | B18: Videoles: Toonhoogte | G18: FALSE
A19: Maken | B19: Studio | G19: FALSE
A20: Keuzemenu | G20: FALSE
A21: Keuzemenu | G21: FALSE
A22: WK37: 7 t/m 11 sep. Examenreisweek | B22: TAKEN & OPDRACHTEN | H22: FALSE | I22: FALSE
A23: Maken | B23: Luisteren | G23: FALSE
A24: Maken | B24: Speelradar Shotgun | G24: FALSE
A25: Keuzemenu | G25: FALSE
A26: Keuzemenu | G26: FALSE
A27: Keuzemenu | G27: FALSE
A28: WK38: 14 t/m 18 sep. | B28: TAKEN & OPDRACHTEN | H28: FALSE | I28: FALSE
A29: Oefenen | B29: Notenlezen Level 1, 2 en 3 | G29: FALSE
A30: Inleveren | B30: Speelstuk Shotgun (indien niet tijdens de les ingeleverd) | G30: FALSE
A31: Keuzemenu | G31: FALSE
A32: Keuzemenu | G32: FALSE
A33: Keuzemenu | G33: FALSE
A34: WK39: 21 t/m 25 sep. | B34: TAKEN & OPDRACHTEN | H34: FALSE | I34: FALSE
A35: Maken | B35: Training | G35: FALSE
A36: Keuzemenu | G36: FALSE
A37: Keuzemenu | G37: FALSE
A38: Keuzemenu | G38: FALSE
A39: Keuzemenu | G39: FALSE
A40: WK40: 28 t/m 2 okt. | B40: TAKEN & OPDRACHTEN | H40: FALSE | I40: FALSE
A41: Inleveren | B41: Filmpje 1e instrument inleveren in Classroom | G41: FALSE
A42: Keuzemenu | G42: FALSE
A43: Keuzemenu | G43: FALSE
A44: Keuzemenu | G44: FALSE
A45: Keuzemenu | G45: FALSE
A46: WK41: 5 t/m 9 okt. Di. Brugklasdag | B46: TAKEN & OPDRACHTEN | H46: FALSE | I46: FALSE
A47: Maken | B47: Test jezelf | G47: FALSE
A48: Inleveren | B48: Filmpje 2e instrument inleveren in Classroom | G48: FALSE
A49: Keuzemenu | G49: FALSE
A50: Keuzemenu | G50: FALSE
A51: Keuzemenu | G51: FALSE
A52: WEEK 42 HERFSTVAKANTIE
A53: WK43: 19 t/m 23 okt. Vr. Daltondag | B53: TAKEN & OPDRACHTEN | H53: FALSE | I53: FALSE
A54: Oefenen | B54: Instrumenten Level 1 en 2 | G54: FALSE
A55: Inleveren | B55: Filmpje 3e instrument inleveren in Classroom | G55: FALSE
A56: Keuzemenu | G56: FALSE
A57: Keuzemenu | G57: FALSE
A58: Keuzemenu | G58: FALSE
A59: WEEK 44 TOETSWEEK ONDERBOUW EN BOVENBOUW (MA. 26 OKT. T/M VR. 30 OKT.)
A61: UITDAGINGEN/EXTRA MOGELIJKHEDEN
A62: Tijdens een Daltonuur kan je de speelstukken oefenen in een muzieklokaal
A69: TOETS

Sheet NE
B1: NEDERLANDS (NE) | K1: PERIODE 1
A3: ALGEMENE INFORMATIE
A4: Welkom bij het vak Nederlands!
A5: In deze periode gaan we aan de slag met fictie en taalverzorging.
A6: Op Niveau, leerwerkboek A / Een groot lijntjesschrift / Gevulde etui (zwarte of blauwe pennen, markeerstiften) / Een opgeladen iPad.
A7: Aan het einde van deze periode heb je je verdiept in grammatica (zinsdelen en woordsoorten), spelling, formuleren en taalbewustzijn.
A9: VAKINHOUD | H9: IK HEB HET GEDAAN | I9: IK BEHEERS HET | J9: RUIMTE VOOR REFLECTIE
A10: WK35: 24 t/m 28 aug. | B10: TAKEN & OPDRACHTEN | H10: FALSE | I10: FALSE
A11: Keuzemenu | B11: Hoofdstuk 1: Verhalen over mensen | G11: FALSE
A12: Maken & Nakijken | B12: 1.2 t/m 1.4: blz. 10-29 | G12: FALSE
A13: Lezen | B13: Verhalen: 'Daar gaan we weer' (blz. 11 t/m 14) / 'Katvis' (blz. 17-20) | G13: FALSE
A14: Lezen | B14: Gedichten: 'Studiegids' en 'Mijn beste vak' (blz. 15) | G14: FALSE
A15: Keuzemenu | G15: FALSE
A16: WK36: 31 t/m 4 sep. | B16: TAKEN & OPDRACHTEN | H16: FALSE | I16: FALSE
A17: Keuzemenu | B17: Taalverzorging 1: Grammatica, blz. 34 t/m 41 | G17: FALSE
A18: Maken & Nakijken | B18: Opdr. 1 t/m 14 | G18: FALSE
A19: Keuzemenu | G19: FALSE
A20: Keuzemenu | G20: FALSE
A21: Lezen | B21: Klassikaal een boek lezen | G21: FALSE
A22: WK37: 7 t/m 11 sep. Examenreisweek | B22: TAKEN & OPDRACHTEN | H22: FALSE | I22: FALSE
A23: Keuzemenu | B23: Taalverzorging 1: Spelling, blz. 42 t/m 52 | G23: FALSE
A24: Maken & Nakijken | B24: Opdracht 15 t/m 33 | G24: FALSE
A25: Keuzemenu | G25: FALSE
A26: Keuzemenu | G26: FALSE
A27: Lezen | B27: Klassikaal een boek lezen. | G27: FALSE
A28: WK38: 14 t/m 18 sep. | B28: TAKEN & OPDRACHTEN | H28: FALSE | I28: FALSE
A29: Keuzemenu | B29: Taalverzorging 1: Formuleren en taalbewustzijn, blz. 53 t/m 59 | G29: FALSE
A30: Maken & Nakijken | B30: Opdracht 34 t/m 42 | G30: FALSE
A31: Keuzemenu | G31: FALSE
A32: Daltontaak (verplicht) | B32: Lees de eerste 25 blz. van je zelfgekozen boek en maak de opdrachten op blz. 30 van je leerwerkboek. | G32: FALSE
A33: Lezen | B33: Klassikaal een boek lezen. | G33: FALSE
A34: WK39: 21 t/m 25 sep. | B34: TAKEN & OPDRACHTEN | H34: FALSE | I34: FALSE
A35: Keuzemenu | B35: Taalverzorging 2: Grammatica, blz. 95 t/m 104 | G35: FALSE
A36: Maken & Nakijken | B36: Opdracht 1 t/m 19 | G36: FALSE
A37: Keuzemenu | G37: FALSE
A38: Daltontaak (verplicht) | B38: Lees de eerste 25 blz. van je zelfgekozen boek en maak de opdrachten op blz. 30 van je leerwerkboek. | G38: FALSE
A39: Lezen | B39: Klassikaal een boek lezen. | G39: FALSE
A40: WK40: 28 t/m 2 okt. | B40: TAKEN & OPDRACHTEN | H40: FALSE | I40: FALSE
A41: Keuzemenu | B41: Taalverzorging 2: Spelling, blz. 105-111 | G41: FALSE
A42: Maken & Nakijken | B42: Opdracht 20 t/m 28 | G42: FALSE
A43: Keuzemenu | G43: FALSE
A44: Daltontaak (verplicht) | B44: Lees de eerste 25 blz. van je zelfgekozen boek en maak de opdrachten op blz. 30 van je leerwerkboek. | G44: FALSE
A45: Lezen | B45: Klassikaal een boek lezen. | G45: FALSE
A46: WK41: 5 t/m 9 okt. Di. Brugklasdag | B46: TAKEN & OPDRACHTEN | H46: FALSE | I46: FALSE
A47: Keuzemenu | B47: Taalverzorging 2: Formuleren en taalbewustzijn, blz. 112-119 | G47: FALSE
A48: Maken & Nakijken | B48: Opdracht 29 t/m 38 | G48: FALSE
A49: Keuzemenu | G49: FALSE
A50: Daltontaak (verplicht) | B50: Lees de eerste 25 blz. van je zelfgekozen boek en maak de opdrachten op blz. 30 van je leerwerkboek. | G50: FALSE
A51: Lezen | B51: Klassikaal een boek lezen. | G51: FALSE
A52: WEEK 42 HERFSTVAKANTIE
A53: WK43: 19 t/m 23 okt. Vr. Daltondag | B53: TAKEN & OPDRACHTEN | H53: FALSE | I53: FALSE
A54: Oefenen | B54: Taalverzorging 1 en 2 - oefentoets + oefenen in de online methode | G54: FALSE
A55: Keuzemenu | G55: FALSE
A56: Keuzemenu | G56: FALSE
A57: Inleveren | B57: Lever de Daltontaak (opdrachten van blz. 30) geprint of handgeschreven in een snelhechter in. | G57: FALSE
A58: Keuzemenu | G58: FALSE
A59: WEEK 44 TOETSWEEK ONDERBOUW EN BOVENBOUW (MA. 26 OKT. T/M VR. 30 OKT.)
A61: UITDAGINGEN/EXTRA MOGELIJKHEDEN
A69: TOETS
A70: Daltontaak: eindopdracht fictie 1.5 Beoordeling O, V, G. Je moet hiervoor minimaal een V behalen.
A74: 4-toets in de toetsweek: Taalverzorging 1 (blz. 34-59) en Taalverzorging 2 (blz. 94-119). TIP: op blz. 185-191 en 194-200 vind je alle theorie bij elkaar!

Sheet TE
B1: TEKENEN (TE) | K1: PERIODE 1
A3: ALGEMENE INFORMATIE
A4: Hier zien jullie de Dalton Studiewijzer Tekenen Brugklas
A5: De volgende onderdelen komen aan bod: Grijswaarden en Structuur
A6: Na elke 4T opdracht schrijf je een kleine evaluatie op de achterkant van je werk.
A9: VAKINHOUD | H9: IK HEB HET GEDAAN | I9: IK BEHEERS HET | J9: RUIMTE VOOR REFLECTIE
A10: WK35: 24 t/m 28 aug. | B10: TAKEN & OPDRACHTEN | H10: FALSE | I10: FALSE
A11: Luisteren & Maken | B11: Algemene afspraken, uitdelen materiaal | G11: FALSE
A12: Maken | B12: 2T WB grijswaarden (balken en bollen) | G12: FALSE
A13: Keuzemenu | G13: FALSE
A14: Keuzemenu | G14: FALSE
A15: Keuzemenu | G15: FALSE
A16: WK36: 31 t/m 4 sep. | B16: TAKEN & OPDRACHTEN | H16: FALSE | I16: FALSE
A17: Maken | B17: 2T WB grijswaarden (balken en bollen) | G17: FALSE
A18: Keuzemenu | G18: FALSE
A19: Keuzemenu | G19: FALSE
A20: Keuzemenu | G20: FALSE
A21: Keuzemenu | G21: FALSE
A22: WK37: 7 t/m 11 sep. Examenreisweek | B22: TAKEN & OPDRACHTEN | H22: FALSE | I22: FALSE
A23: Maken | B23: 4T Opdracht grijswaarden | G23: FALSE
A24: Schrijven | B24: Reflectie/evalueren WB grijswaarden en 4T grijswaarden (optioneel) | G24: FALSE
A25: Keuzemenu | G25: FALSE
A26: Keuzemenu | G26: FALSE
A27: Keuzemenu | G27: FALSE
A28: WK38: 14 t/m 18 sep. | B28: TAKEN & OPDRACHTEN | H28: FALSE | I28: FALSE
A29: Luisteren & Maken | B29: introductie oost indische inkt en kroontjespen | G29: FALSE
A30: Maken | B30: WB structuur | G30: FALSE
A31: Keuzemenu | G31: FALSE
A32: Keuzemenu | G32: FALSE
A33: Keuzemenu | G33: FALSE
A34: WK39: 21 t/m 25 sep. | B34: TAKEN & OPDRACHTEN | H34: FALSE | I34: FALSE
A35: Maken | B35: WB structuur | G35: FALSE
A36: Luisteren & Maken | B36: Introductie fantasiedier | G36: FALSE
A37: Maken | B37: Fantasiedier/ Insect | G37: FALSE
A38: Keuzemenu | G38: FALSE
A39: Keuzemenu | G39: FALSE
A40: WK40: 28 t/m 2 okt. | B40: TAKEN & OPDRACHTEN | H40: FALSE | I40: FALSE
A41: Maken | B41: 4T fantasiedier | G41: FALSE
A42: Keuzemenu | G42: FALSE
A43: Keuzemenu | G43: FALSE
A44: Keuzemenu | G44: FALSE
A45: Keuzemenu | G45: FALSE
A46: WK41: 5 t/m 9 okt. Di. Brugklasdag | B46: TAKEN & OPDRACHTEN | H46: FALSE | I46: FALSE
A47: Maken | B47: 4T fantasiedier | G47: FALSE
A48: Keuzemenu | G48: FALSE
A49: Keuzemenu | G49: FALSE
A50: Keuzemenu | G50: FALSE
A51: Keuzemenu | G51: FALSE
A52: WEEK 42 HERFSTVAKANTIE
A53: WK43: 19 t/m 23 okt. Vr. Daltondag | B53: TAKEN & OPDRACHTEN | H53: FALSE | I53: FALSE
A54: Maken | B54: 4T fantasiedier | G54: FALSE
A55: Schrijven | B55: Reflectie/evalueren WB structuur en 4T structuur | G55: FALSE
A56: Keuzemenu | G56: FALSE
A57: Keuzemenu | G57: FALSE
A58: Keuzemenu | G58: FALSE
A59: WEEK 44 TOETSWEEK ONDERBOUW EN BOVENBOUW (MA. 26 OKT. T/M VR. 30 OKT.)
A61: UITDAGINGEN/EXTRA MOGELIJKHEDEN
A69: TOETS

Sheet WI
B1: WISKUNDE (WI) | K1: PERIODE 1
A3: ALGEMENE INFORMATIE
A4: Welkom bij het vak wiskunde! Het is bij wiskunde erg belangrijk dat je al je spullen op orde hebt, je neemt dus alles mee. Neem een actieve leerhouding aan, je leert wiskunde door een nieuwsgierige houding aan te nemen de door te vragen wanneer je iets nog niet weet. Bij wiskunde is fouten maken heel normaal, hoe je hiermee omgaat is belangrijk. Klopt iets nog niet, ga uitzoeken hoe dit komt!
A5: We gaan aan de slag met de leerdoelen die in de paragrafen van de hoofdstukken 2, 3 en 4 behandeld worden. Je hebt een deel kennis (leerwerk) een deel vaardiheden aanleren (maken-nakijken-verbeteren) en inzicht (snappen hoe het werkt) De daltontaken zijn oefeningen (L) in het boek die controleren of je de theorie begrepen hebt.
A6: Welke boeken/spullen/materialen zijn er nodig? Wat neem je mee: - 1 leerboek - Ruitjesschrift (A4, 1 cm ruit) - iPad (opgeladen) - Oortjes - Rekenmachine - Etui met daarin: Blauwe of zwarte pennen, potlood (HB) of vulpotlood, gum, geodriehoek, passer, kleurpotloden en puntenslijper. - Markeerstiften zijn handig.
A7: Wat moet je geleerd hebben na deze periode? Je kent de theorie van H2, H3 en H4 Je hebt de leerstrategieën eigen gemaakt van H2, H3 en H4 Je kan de leerstrategieën toepassen
A9: VAKINHOUD | H9: IK HEB HET GEDAAN | I9: IK BEHEERS HET | J9: RUIMTE VOOR REFLECTIE
A10: WK35: 24 t/m 28 aug. | B10: TAKEN & OPDRACHTEN | H10: FALSE | I10: FALSE
A11: Leren | B11: Aan de slag! (blz. 6 en 7) | G11: FALSE
A12: Lezen | B12: H2 Ruimtefiguren boek A Theorie H2 §1 (blz. 52 t/m 54) Theorie H2 §2 (blz. 56 t/m 58) | G12: FALSE
A13: Maken & Nakijken | B13: H2 §1 Opgave 1 t/m 7 (blz. 52) H2 §2 Opgave 9 t/m 14 (blz. 56) | G13: FALSE
A14: Daltontaak (verplicht) | B14: L8 (blz 54) L17 (blz 18) | G14: FALSE
A15: Keuzemenu | G15: FALSE
A16: WK36: 31 t/m 4 sep. | B16: TAKEN & OPDRACHTEN | H16: FALSE | I16: FALSE
A17: Lezen | B17: Theorie H2 §3 (blz. 60 t/m 62) Theorie H2 §4 (blz. 64 t/m 66) | G17: FALSE
A18: Maken & Nakijken | B18: H2 §3 Opgave 16 t/m 21 (blz. 60) H2 §4 Opgave 23 t/m 28 (blz. 64) | G18: FALSE
A19: Daltontaak (verplicht) | B19: L22 (blz 62) L29 (blz 66) | G19: FALSE
A20: Keuzemenu | G20: FALSE
A21: Keuzemenu | G21: FALSE
A22: WK37: 7 t/m 11 sep. Examenreisweek | B22: TAKEN & OPDRACHTEN | H22: FALSE | I22: FALSE
A23: Lezen | B23: Theorie H2 §5 (blz. 68 t/m 70) Theorie H2 §havo (blz. 84 t/m 85) | G23: FALSE
A24: Maken & Nakijken | B24: H2 §5 Opgave 30 t/m 35 (blz. 68) H2 §havo Opgave H1 t/m H5 (blz. 84) H2 Oefenproefwerk P1 t/m P6 (blz 82 & 83) | G24: FALSE
A25: Daltontaak (verplicht) | B25: L36 (blz 70) + gemengde opdrachten (blz 80 t/m 81) | G25: FALSE
A26: Keuzemenu | G26: FALSE
A27: Keuzemenu | G27: FALSE
A28: WK38: 14 t/m 18 sep. | B28: TAKEN & OPDRACHTEN | H28: FALSE | I28: FALSE
A29: Leren | B29: H2 §1, §2, §3, §4, §5 | G29: FALSE
A30: Test jezelf | B30: H2 Oefenproefwerk P1 t/m P6 (blz 82 & 83) | G30: FALSE
A31: Toets | B31: 2T H2 Ruimtefiguren | G31: FALSE
A32: Lezen | B32: H3 Rekenen met getallen boek A Theorie H3 §1 (blz. 90 t/m 92) | G32: FALSE
A33: Maken & Nakijken | B33: H3 §1 Opgave 1 t/m 8 (blz 90) | G33: FALSE
A34: WK39: 21 t/m 25 sep. | B34: TAKEN & OPDRACHTEN | H34: FALSE | I34: FALSE
A35: Lezen | B35: H3 Rekenen met getallen Theorie H3 §2 (blz. 94 t/m 96) Theorie H3 §3 (blz. 98 t/m 100) Theorie H3 §4 (blz. 102 t/m 104) | G35: FALSE
A36: Maken & Nakijken | B36: H3 §2 Opgave 10 t/m 19 (blz 94) H3 §3 Opgave 21 t/m 28 (blz 98) H3 §4 Opgave 21 t/m 28 (blz 102) | G36: FALSE
A37: Daltontaak (verplicht) | B37: L9 (blz 92) L20 (blz. 96) L29 (blz. 100) L40 (blz. 104) | G37: FALSE
A38: Keuzemenu | G38: FALSE
A39: Keuzemenu | G39: FALSE
A40: WK40: 28 t/m 2 okt. | B40: TAKEN & OPDRACHTEN | H40: FALSE | I40: FALSE
A41: Lezen | B41: Theorie H3 §5 (blz. 106 t/m 108) Theorie H3 §havo (blz 126 t/m 127) H4 Grafieken Theorie H4 §1 (blz 132 t/m 134) | G41: FALSE
A42: Maken & Nakijken | B42: H3 §5 Opgave 41 t/m 48 (blz 106) H3 §havo Opgave H1 t/m H16 (blz 127) H4 §1 Opgave 1 t/m 6 (blz 132) | G42: FALSE
A43: Daltontaak (verplicht) | B43: L49 (blz. 108) L7 (blz. 134) | G43: FALSE
A44: Keuzemenu | G44: FALSE
A45: Keuzemenu | G45: FALSE
A46: WK41: 5 t/m 9 okt. Di. Brugklasdag | B46: TAKEN & OPDRACHTEN | H46: FALSE | I46: FALSE
A47: Lezen | B47: Theorie H4 §2 (blz 136 t/m 138) Theorie H4 §3 (blz 140 t/m 142) Theorie H4 §4 (blz 144 t/m 146) | G47: FALSE
A48: Maken & Nakijken | B48: H4 §2 Opgave 8 t/m 14 (blz 136) H4 §3 Opgave 16 t/m 19 (blz 140) H4 §4 Opgave 21 t/m 26 (blz 144) | G48: FALSE
A49: Daltontaak (verplicht) | B49: L15 (blz. 138) L20 (blz. 142) L27 (blz. 144) | G49: FALSE
A50: Keuzemenu | G50: FALSE
A51: Keuzemenu | G51: FALSE
A52: WEEK 42 HERFSTVAKANTIE
A53: WK43: 19 t/m 23 okt. Vr. Daltondag | B53: TAKEN & OPDRACHTEN | H53: FALSE | I53: FALSE
A54: Lezen | B54: Theorie H4 §5 (blz 148 t/m 150) Theorie H4 §havo1 (blz 166 t/m 167) Theorie H4 §havo1 (blz 168 t/m 169) | G54: FALSE
A55: Maken & Nakijken | B55: H4 §5 Opgave 28 t/m 33 (blz 150) H4 § havo 1 (blz 166 t/m 167) H4 § havo 2 (blz 168 t/m 169) | G55: FALSE
A56: Daltontaak (verplicht) | B56: L34 (blz. 150) | G56: FALSE
A57: Test jezelf | B57: Oefentoets H3H4(op papier) | G57: FALSE
A58: Nakijken | B58: Oefentoets H3H4(op papier) | G58: FALSE
A59: WEEK 44 TOETSWEEK ONDERBOUW EN BOVENBOUW (MA. 26 OKT. T/M VR. 30 OKT.)
A61: UITDAGINGEN/EXTRA MOGELIJKHEDEN
A62: H2 Ruimtefiguren extra: O2-O6 (blz 55), O12 (blz 59), O18 (blz 63), O24 - O27 (blz 67), O34 (blz 71) en E1 t/m E13 (blz 74 t/m 79) Uitdaging: U1-U2 (blz 55), U3 (blz 59), U4 (blz 63), U5 - U6 (blz 67), U7 (blz 71)
A64: H3 Rekenen met getallen extra: O6 (blz 93), O15 (blz 97), O23-O27 (blz 101), O34-O39 (blz 105), O44-O46 (blz 109) + E1 t/m E17 (blz 112 t/m 119) Uitdaging: U1 (blz 93), U2-U3 (blz 97), U4-U5 (blz 101), U6-U7 (blz 105), U8-U9 (blz 109) + H3 §6 Wiskunde is overal (blz. 110 t/m 111)
A66: H4 Grafieken extra: O3-O5 (blz 135), O11 (blz 139), O18 (blz 143), O23-O26 (blz 147), O31-O32 (blz 151) + E1 t/m E17 (blz 154 t/m 161) Uitdaging: U1-U2 (blz 135), U3 (blz 139), U4 (blz 143), U5 (blz 147), U6-U7 (blz 151) + H4 §6 Wiskunde is overal (blz. 152 t/m 153)
A69: TOETS
A70: Week 38 2T H2 Ruimtefiguren - Ik weet de namen van de ruimtefiguren - Ik weet wat een draadmodel, grensvlakken, hoekpunten en ribben zijn. - Ik weet wat een doorsnede is. - Ik kan de vorm van een doorsnede herkennen. - Ik weet wat een prisma is. - Ik kan de hoogte van een prisma herkennen. - Ik kan de uitslag van een ruimtefiguur herkennen. - Ik kan de uitslag van een kubus en een balk tekenen. - Ik kan een vooraanzicht, zijaanzicht en bovenaanzicht herkennen. extra voor havo - Ik kan werken met hoogtegetallen in een bovenaanzicht. - Ik kan een bovenaanzicht van een samengesteld figuur tekenen.
A72: TOETSWEEK 44 4T H3 Rekenen met getallen & H4 Grafieken 4 toets H3 - Ik weet wat som, verschil, product en quotiënt betekent. - Ik kan berekeningen in de juiste volgorde uitvoeren. - Ik kan een deel van een hoeveelheid berekenen. - Ik weet wat een decimaal getal is. - Ik kan een breuk als decimaal getal opschijven. - Ik weet de handige decimale getallen en de bijbehorende breuken. - Ik kan een decimaal getal als breuk schijven - Ik kan breuken en decimale getallen met elkaar vergelijken. - Ik kan een getal afronden op 1 en 2 decimalen. - Ik kan zinvol afronden. extra voor havo - Ik weet wat natuurlijke getallen zijn. - Ik weet wat delers, veelvouden, even getallen en oneven getallen zijn. - Ik weet wat priemgetallen zijn. - Ik kan breuken gelijknamig maken - Ik kan breuken vermenigvuldigen. H4 - Ik weet wat een assenstelel, coördinaten, horizontale as, verticale as en oorsprong is. - Ik weet hoe ik coördinaten van een punt aflees en noteer. - Ik weet wat een roosterpunt is. - Ik kan een punt met decimale cördinaten noteren. - Ik kan een assenstelsel tekenen. - Ik kan een gegeven punt in een assenstelsel tekenen. - Ik kan waarden uit een grafiek aflezen. - Ik kan aangeven wat het verband is van een grafiek. - Ik kan aangeven wanneer een grafiek stijgend, constand of dalend is. - Ik kan een snellere stijging of daling herkennen in een grafiek. - Ik kan een grafiek bij een tabel tekenen. - Ik weet wat een zaagtand is. - Ik kan een geschikte stapgrootte bij een assenstelsel kiezen. extra voor havo: - Ik weet wat grootheden en eenheden zijn bij een verband. - Ik weet wat een periodieke grafiek is. - Ik kan een periode uit een periodieke grafiek aflezen. - Ik kan de evenwichtsstand en amplitude berekenen bij een periodieke grafiek.
