Workbook

Sheet Overzicht
A2: AK | D2: ECO | G2: EN | J2: FA | M2: GS | P2: NAT | S2: NE | V2: RSCH | Y2: SK | AB2: SP | AE2: TE | AH2: WI
A3: WK 35 | B3: =AK!H10 -> FALSE | D3: WK 35 | E3: =ECO!H16 -> FALSE | G3: WK 35 | H3: =EN!H16 -> FALSE | J3: WK 35 | K3: =FA!H16 -> FALSE | M3: WK 35 | N3: =GS!H16 -> FALSE | P3: WK 35 | Q3: =NAT!H16 -> FALSE | S3: WK 35 | T3: =NE!H16 -> FALSE | V3: WK 35 | W3: =RSCH!H16 -> FALSE | Y3: WK 35 | Z3: =SK!H16 -> FALSE | AB3: WK 35 | AC3: =SP!H16 -> FALSE | AE3: WK 35 | AF3: =TE!H16 -> FALSE | AH3: WK 35 | AI3: =WI!H16 -> FALSE
A4: WK 36 | B4: =AK!H16 -> FALSE | D4: WK 36 | E4: =ECO!H22 -> FALSE | G4: WK 36 | H4: =EN!H22 -> FALSE | J4: WK 36 | K4: =FA!H22 -> FALSE | M4: WK 36 | N4: =GS!H22 -> FALSE | P4: WK 36 | Q4: =NAT!H22 -> FALSE | S4: WK 36 | T4: =NE!H22 -> FALSE | V4: WK 36 | W4: =RSCH!H22 -> FALSE | Y4: WK 36 | Z4: =SK!H22 -> FALSE | AB4: WK 36 | AC4: =SP!H22 -> FALSE | AE4: WK 36 | AF4: =TE!H22 -> FALSE | AH4: WK 36 | AI4: =WI!H22 -> FALSE
A5: WK 37 | B5: =AK!H22 -> FALSE | D5: WK 37 | E5: =ECO!H28 -> FALSE | G5: WK 37 | H5: =EN!H28 -> FALSE | J5: WK 37 | K5: =FA!H28 -> FALSE | M5: WK 37 | N5: =GS!H28 -> FALSE | P5: WK 37 | Q5: =NAT!H28 -> FALSE | S5: WK 37 | T5: =NE!H28 -> FALSE | V5: WK 37 | W5: =RSCH!H28 -> FALSE | Y5: WK 37 | Z5: =SK!H28 -> FALSE | AB5: WK 37 | AC5: =SP!H28 -> FALSE | AE5: WK 37 | AF5: =TE!H28 -> FALSE | AH5: WK 37 | AI5: =WI!H28 -> FALSE
A6: WK 38 | B6: =AK!H28 -> FALSE | D6: WK 38 | E6: =ECO!H35 | G6: WK 38 | H6: =EN!H35 | J6: WK 38 | K6: =FA!H35 | M6: WK 38 | N6: =GS!H35 | P6: WK 38 | Q6: =NAT!H35 | S6: WK 38 | T6: =NE!H35 | V6: WK 38 | W6: =RSCH!H35 | Y6: WK 38 | Z6: =SK!H35 | AB6: WK 38 | AC6: =SP!H35 | AE6: WK 38 | AF6: =TE!H35 | AH6: WK 38 | AI6: =WI!H35
A7: WK 39 | B7: =AK!H34 -> FALSE | D7: WK 39 | E7: =ECO!H41 | G7: WK 39 | H7: =EN!H41 | J7: WK 39 | K7: =FA!H41 | M7: WK 39 | N7: =GS!H41 | P7: WK 39 | Q7: =NAT!H41 | S7: WK 39 | T7: =NE!H41 | V7: WK 39 | W7: =RSCH!H41 | Y7: WK 39 | Z7: =SK!H41 | AB7: WK 39 | AC7: =SP!H41 | AE7: WK 39 | AF7: =TE!H41 | AH7: WK 39 | AI7: =WI!H41
A8: WK 40 | B8: =AK!H40 -> FALSE | D8: WK 40 | E8: =ECO!H47 | G8: WK 40 | H8: =EN!H47 | J8: WK 40 | K8: =FA!H47 | M8: WK 40 | N8: =GS!H47 | P8: WK 40 | Q8: =NAT!H47 | S8: WK 40 | T8: =NE!H47 | V8: WK 40 | W8: =RSCH!H47 | Y8: WK 40 | Z8: =SK!H47 | AB8: WK 40 | AC8: =SP!H47 | AE8: WK 40 | AF8: =TE!H47 | AH8: WK 40 | AI8: =WI!H47
A9: WK 41 | B9: =AK!H46 -> FALSE | D9: WK 41 | E9: =ECO!H54 | G9: WK 41 | H9: =EN!H54 | J9: WK 41 | K9: =FA!H54 | M9: WK 41 | N9: =GS!H54 | P9: WK 41 | Q9: =NAT!H54 | S9: WK 41 | T9: =NE!H54 | V9: WK 41 | W9: =RSCH!H54 | Y9: WK 41 | Z9: =SK!H54 | AB9: WK 41 | AC9: =SP!H54 | AE9: WK 41 | AF9: =TE!H54 | AH9: WK 41 | AI9: =WI!H54
A10: WK 43 | B10: =AK!H53 -> FALSE | D10: WK 43 | E10: =ECO!H60 | G10: WK 43 | H10: =EN!H60 | J10: WK 43 | K10: =FA!H60 | M10: WK 43 | N10: =GS!H60 | P10: WK 43 | Q10: =NAT!H60 | S10: WK 43 | T10: =NE!H60 | V10: WK 43 | W10: =RSCH!H60 | Y10: WK 43 | Z10: =SK!H60 | AB10: WK 43 | AC10: =SP!H60 | AE10: WK 43 | AF10: =TE!H60 | AH10: WK 43 | AI10: =WI!H60

Sheet DU
B1: DUITS (DU) | K1: PERIODE 1
A3: ALGEMENE INFORMATIE
A4: Aan het begin van de les zie je de weekplanner op het bord en weet je precies wat we gaan doen!
A5: De eerste les van de week krijg je uitleg en weet je wat de "weektaak" wordt en je noteert dit in je DALTONPLANNER!
A6: De wekelijkse "planner" op het bord vind je ook terug in SOM / studiewijzer / Duitse taal / Planning
A7: Onderaan zie je wat er deze periode getoetst wordt
A9: VAKINHOUD | H9: IK HEB HET GEDAAN | I9: IK BEHEERS HET | J9: RUIMTE VOOR REFLECTIE
A10: WK35: 24 t/m 28 aug. | B10: TAKEN & OPDRACHTEN | H10: FALSE | I10: FALSE
A11: Informatie | B11: Informatie en introductie boek Neue Kontakte 3 vwo / wat ga je leren / wat gaan we doen / Wörterkram testjes enz. | G11: FALSE
A12: Daltontaak (verplicht) | B12: Je hebt het boekje "Wiederholung Grammatik klas 2, les 1-2-3" af | G12: FALSE
A13: Keuzemenu | G13: FALSE
A14: Keuzemenu | G14: FALSE
A15: Keuzemenu | G15: FALSE
A16: WK36: 31 t/m 4 sep. | B16: TAKEN & OPDRACHTEN | H16: FALSE | I16: FALSE
A17: Nakijken | B17: Boekje "Wiederholung..." - wat ging goed, waar had je moeite mee? | G17: FALSE
A18: Kijken & Luisteren | B18: Start Kapitel 1 "Umgebung": S.17: Aufgabe 2 (zie S.51 Wörter A!) / 1 Sehen | G18: FALSE
A19: Woordenschat | B19: Wörter B - S.50 / Aufgabe 3 Hören | G19: FALSE
A20: Maken & Nakijken | B20: S.18ff: Aufgabe 4-8 (duo) | G20: FALSE
A21: Daltontaak (verplicht) | B21: Instructie "Daltontaak - Ich suche einen Partner" | G21: FALSE
A22: WK37: 7 t/m 11 sep. Examenreisweek | B22: TAKEN & OPDRACHTEN | H22: FALSE | I22: FALSE
A23: Informatie | B23: Geen les i.v.m. examenreis M4 | G23: FALSE
A24: Daltontaak (verplicht) | B24: Je werkt deze week zelfstandig aan de "Daltontaak - Ich suche einen Partner" | G24: FALSE
A25: Daltontaak (verplicht) | B25: Je hebt Aufgaben 1-13 af | G25: FALSE
A26: Keuzemenu | G26: FALSE
A27: Keuzemenu | G27: FALSE
A28: WK38: 14 t/m 18 sep. | B28: TAKEN & OPDRACHTEN | H28: FALSE | I28: FALSE
A29: Inleveren | B29: Je levert de eerste les je Daltontaak "Ich suche einen Partner" in | G29: FALSE
A30: Nakijken | B30: Aufgabe 1-13 | G30: FALSE
A31: Herhalen | B31: Leesopdrachten en teksten? Hoe pak je dat ook alweer aan? / (S.23ff.) Aufgabe 15&18Lesen - info/maken/bespreken | G31: FALSE
A32: Informatie | B32: Presentatie "Meine Ferien" instructie en informatie mondeling (MO - 2 toets - duo) / info Aufgabe 30 -42 | G32: FALSE
A33: Daltontaak (verplicht) | B33: S.23ff: Je hebt Aufgaben 14-18 gemaakt / "Wörterkram 1" je leert de woordjes B-links S.50 en A&C S.51 | G33: FALSE
A34: WK39: 21 t/m 25 sep. | B34: TAKEN & OPDRACHTEN | H34: FALSE | I34: FALSE
A35: Nakijken | B35: Aufgabe 14-18 | G35: FALSE
A36: Test | B36: "Wörterkram 1" woordjestest | G36: FALSE
A37: Grammatica | B37: S.28ff: Werkwoorden vervoegen in de verleden tijd [sein/haben/werden] / Aufgaben 19-27 | G37: FALSE
A38: Daltontaak (optioneel) | B38: S. 34ff: Je kunt Aufgabe 30-42 maken ter voorbereiding van de "presentatie" | G38: FALSE
A39: Daltontaak (verplicht) | B39: S. 28ff: Je hebt Aufgabe 19-27 gemaakt | G39: FALSE
A40: WK40: 28 t/m 2 okt. | B40: TAKEN & OPDRACHTEN | H40: FALSE | I40: FALSE
A41: Nakijken | B41: Aufgabe 19-27 | G41: FALSE
A42: Toets | B42: Presentaties "Meine Ferien" | G42: FALSE
A43: Schrijven | B43: S.40ff: Aufgabe 45-50 | G43: FALSE
A44: Daltontaak (verplicht) | B44: "Wörterkram 2" = je leert de woordjes B-rechts S.50 en D&H S.51 | G44: FALSE
A45: Keuzemenu | G45: FALSE
A46: WK41: 5 t/m 9 okt. Di. Brugklasdag | B46: TAKEN & OPDRACHTEN | H46: FALSE | I46: FALSE
A47: Toets | B47: Presentaties "Meine Ferien" (slot) | G47: FALSE
A48: Toets | B48: "Wörterkram 2" woordjestest | G48: FALSE
A49: Lezen | B49: S.44ff: Aufgabe 51 & 52 | G49: FALSE
A50: Doen | B50: Das Wörterbuch - woordenboekgebruik | G50: FALSE
A51: Informatie | B51: Informatie 4T / Toetsweek | G51: FALSE
A52: WEEK 42 HERFSTVAKANTIE
A53: WK43: 19 t/m 23 okt. Vr. Daltondag | B53: TAKEN & OPDRACHTEN | H53: FALSE | I53: FALSE
A54: Herhalen | B54: Voorbereiding TW1 | G54: FALSE
A55: Test jezelf | B55: Oefentoets maken en bespreken | G55: FALSE
A56: Leren | B56: Leren voor TW1 | G56: FALSE
A57: Keuzemenu | G57: FALSE
A58: Keuzemenu | G58: FALSE
A59: WEEK 44 TOETSWEEK ONDERBOUW EN BOVENBOUW (MA. 26 OKT. T/M VR. 30 OKT.)
A61: UITDAGINGEN/EXTRA MOGELIJKHEDEN
A69: TOETS
A70: 1. Woordjes/Wörterkram [gem 2T]: We delen de woordjes per hoofdstuk in tweeën en per periode krijg je ca. 3-4 woordjestesten, we noemen die "Wörterkram". Het gemiddelde cijfer van de testjes leidt tot een cijfer met weging 2 in SOM. Tijdens een grote toets in een toetsweek hoef je geen woordjes meer te leren, want dat doen we op deze manier apart. Je krijgt in de weekplanner te horen en zien wanneer er een Wörterkram-Test is!
A72: 2. Herhalen "Basisgrammatica & Leesvaardigheid" [4T]

Sheet AK
B1: AARDRIJKSKUNDE (AK) | K1: PERIODE 1
A3: ALGEMENE INFORMATIE
A4: Welkomswoordje
A5: Wat gaan we deze periode doen? Wat is de Daltontaak? Wat houd de Daltontaak in?
A6: Welke boeken/spullen/materialen zijn er nodig?
A7: Wat moet je geleerd hebben na deze periode?
A9: VAKINHOUD | H9: IK HEB HET GEDAAN | I9: IK BEHEERS HET | J9: RUIMTE VOOR REFLECTIE
A10: WK35: 24 t/m 28 aug. | B10: TAKEN & OPDRACHTEN | H10: FALSE | I10: FALSE
A11: Lezen | B11: openingsfoto hoofdstuk 3 LB blz. 42-43 | G11: FALSE
A12: Maken | B12: startopdrachten hoofdstuk 3 WB blz 50 | G12: FALSE
A13: Keuzemenu | G13: FALSE
A14: Keuzemenu | G14: FALSE
A15: Keuzemenu | G15: FALSE
A16: WK36: 31 t/m 4 sep. | B16: TAKEN & OPDRACHTEN | H16: FALSE | I16: FALSE
A17: Lezen | B17: §3.1 Unieke ligging en droogte in Chili LB blz 44-45 | G17: FALSE
A18: Maken | B18: §3.1 WB blz 51-52 opg 1 t/m 5 | G18: FALSE
A19: Lezen | B19: Bijbehorende Basisboeknummers | G19: FALSE
A20: Keuzemenu | G20: FALSE
A21: Keuzemenu | G21: FALSE
A22: WK37: 7 t/m 11 sep. Examenreisweek | B22: TAKEN & OPDRACHTEN | H22: FALSE | I22: FALSE
A23: Lezen | B23: §3.1 Atacamawoestijn en El Nino LB blz 44-45 | G23: FALSE
A24: Maken | B24: §3.1 WB blz 52-53 opg 6 t/m 10 | G24: FALSE
A25: Lezen | B25: Bijbehorende Basisboeknummers | G25: FALSE
A26: Keuzemenu | G26: FALSE
A27: Keuzemenu | G27: FALSE
A28: WK38: 14 t/m 18 sep. | B28: TAKEN & OPDRACHTEN | H28: FALSE | I28: FALSE
A29: Lezen | B29: §3.2 Zware bevingen LB blz 46 | G29: FALSE
A30: Maken | B30: §3.2 WB blz 54 opg. 1, 2, 4 en 5 | G30: FALSE
A31: Lezen | B31: §3.2 Wegduiken, Seismische Gat en Het Andesgebergte LB blz 46 - 47 | G31: FALSE
A32: Maken | B32: §3.2 WB blz 55 - 56 opg. 6, 7, 9 en 10 | G32: FALSE
A33: Leren | B33: Voorbereiden 1T begrippen §3.1 en §3.2 (alleen uit je leerboek) | G33: FALSE
A34: WK39: 21 t/m 25 sep. | B34: TAKEN & OPDRACHTEN | H34: FALSE | I34: FALSE
A35: Toets | B35: 1T begrippen §3.1 en §3.2 (alleen uit je leerboek) | G35: FALSE
A36: Lezen | B36: §3.3 Ontstaan van vulkanen, Drie platen en Explosieve vulkanen LB blz 48 - 49 | G36: FALSE
A37: Maken | B37: §3.3 WB blz 57 - 58 opg 1 t/m 5 | G37: FALSE
A38: Lezen | B38: Bijbehorende Basisboeknummers | G38: FALSE
A39: Keuzemenu | G39: FALSE
A40: WK40: 28 t/m 2 okt. | B40: TAKEN & OPDRACHTEN | H40: FALSE | I40: FALSE
A41: Lezen | B41: §3.3 Bijzondere eilanden blz 49 | G41: FALSE
A42: Maken | B42: §3.3 WB blz 58 - 59 opg 6 t/m 10 | G42: FALSE
A43: Lezen | B43: §3.4 economische ontwikkeling, koper en wijn blz 50 | G43: FALSE
A44: Maken | B44: §3.4 WB blz 60-61 opgaven 1 t/m 4 | G44: FALSE
A45: Lezen | B45: Bijbehorende Basisboeknummers | G45: FALSE
A46: WK41: 5 t/m 9 okt. Di. Brugklasdag | B46: TAKEN & OPDRACHTEN | H46: FALSE | I46: FALSE
A47: Lezen | B47: §3.4 viskweek, verstedelijking en bevolking blz 51 | G47: FALSE
A48: Maken | B48: §3.4 WB blz 61-62 opgaven 5-8 | G48: FALSE
A49: Lezen | B49: Bijbehorende Basisboeknummers | G49: FALSE
A50: Keuzemenu | G50: FALSE
A51: Keuzemenu | G51: FALSE
A52: WEEK 42 HERFSTVAKANTIE
A53: WK43: 19 t/m 23 okt. Vr. Daltondag | B53: TAKEN & OPDRACHTEN | H53: FALSE | I53: FALSE
A54: Leren | B54: Voorbereiden op de 4T Hoofdstuk 3 §1-4 | G54: FALSE
A55: Keuzemenu | G55: FALSE
A56: Keuzemenu | G56: FALSE
A57: Keuzemenu | G57: FALSE
A58: Keuzemenu | G58: FALSE
A59: WEEK 44 TOETSWEEK ONDERBOUW EN BOVENBOUW (MA. 26 OKT. T/M VR. 30 OKT.)
A61: UITDAGINGEN/EXTRA MOGELIJKHEDEN
A69: TOETS
A70: 4-Toets hst.3 (paragraaf 1 t/m 4) Chili
A72: De bijbehorende Basisboeknummers moet je ook kennen
A74: Geen topografie leren!

Sheet ECO
B1: ECONOMIE (ECO) | K1: PERIODE 1
A3: ALGEMENE INFORMATIE
A4: Welkomswoordje
A5: Wat gaan we deze periode doen? Wat is de Daltontaak? Wat houd de Daltontaak in?
A6: Welke boeken/spullen/materialen zijn er nodig?
A7: Wat moet je geleerd hebben na deze periode?
A9: VAKINHOUD | H9: IK HEB HET GEDAAN | I9: IK BEHEERS HET | J9: RUIMTE VOOR REFLECTIE
A10: WK35: 24 t/m 28 aug. | B10: TAKEN & OPDRACHTEN | H10: FALSE | I10: FALSE
A11: Keuzemenu | B11: Kennismaking | G11: FALSE
A12: Maken & Nakijken | B12: Maak en kijk na paragraaf 1.1 | G12: FALSE
A13: Keuzemenu | G13: FALSE
A14: Daltontaak (optioneel) | B14: Maak in Quizlet je eigen flitskaarten of memoryspel van §1.1 | G14: FALSE
A15: Keuzemenu | G15: FALSE
A16: WK36: 31 t/m 4 sep. | B16: TAKEN & OPDRACHTEN | H16: FALSE | I16: FALSE
A17: Maken & Nakijken | B17: Maak en kijk na paragraaf 1.2 | G17: FALSE
A18: Maken & Nakijken | B18: Maak en kijk na paragraaf 1.3 opdracht 25 t/m 31 | G18: FALSE
A19: Keuzemenu | G19: FALSE
A20: Daltontaak (optioneel) | B20: Maak in Quizlet je eigen flitskaarten of memoryspel van §1.2 | G20: FALSE
A21: Keuzemenu | G21: FALSE
A22: WK37: 7 t/m 11 sep. Examenreisweek | B22: TAKEN & OPDRACHTEN | H22: FALSE | I22: FALSE
A23: Keuzemenu | G23: FALSE
A24: Keuzemenu | G24: FALSE
A25: Keuzemenu | G25: FALSE
A26: Daltontaak (verplicht) | B26: rekenopdrachten hoofdstuk 1 | G26: FALSE
A27: Keuzemenu | G27: FALSE
A28: WK38: 14 t/m 18 sep. | B28: TAKEN & OPDRACHTEN | H28: FALSE | I28: FALSE
A29: Maken & Nakijken | B29: Maak en kijk na paragraaf 1.3 opdracht 32 t/m 35 | G29: FALSE
A30: Maken & Nakijken | B30: Maak en kijk na HO1 samenvattingsopdrachten | G30: FALSE
A31: Keuzemenu | G31: FALSE
A32: Daltontaak (optioneel) | B32: Maak in Quizlet je eigen flitskaarten of memoryspel van §1.3 | G32: FALSE
A33: Keuzemenu | G33: FALSE
A34: WK39: 21 t/m 25 sep. | B34: TAKEN & OPDRACHTEN | H34: FALSE | I34: FALSE
A35: Maken & Nakijken | B35: Herhalingsopdrachten HO1 | G35: FALSE
A36: Leren | B36: HO1 Jouw financiën | G36: FALSE
A37: Keuzemenu | G37: FALSE
A38: Daltontaak (optioneel) | B38: Oefenen/leren met je eigen flitskaarten of memoryspel van hoofdstuk 1 in Quizlet | G38: FALSE
A39: Keuzemenu | G39: FALSE
A40: WK40: 28 t/m 2 okt. | B40: TAKEN & OPDRACHTEN | H40: FALSE | I40: FALSE
A41: Maken & Nakijken | B41: Maak en kijk na paragraaf 2.1 | G41: FALSE
A42: Maken & Nakijken | B42: Maak en kijk na paragraaf 2.2 | G42: FALSE
A43: Keuzemenu | G43: FALSE
A44: Daltontaak (optioneel) | B44: Maak in Quizlet je eigen flitskaarten of memoryspel van §2.1 | G44: FALSE
A45: Keuzemenu | G45: FALSE
A46: WK41: 5 t/m 9 okt. Di. Brugklasdag | B46: TAKEN & OPDRACHTEN | H46: FALSE | I46: FALSE
A47: Maken & Nakijken | B47: Maak en kijk na paragraaf 2.3 opdracht 21 t/m 29 | G47: FALSE
A48: Maken & Nakijken | B48: Maak en kijk na paragraaf 2.3 opdracht 30 t/m 33 | G48: FALSE
A49: Keuzemenu | G49: FALSE
A50: Daltontaak (optioneel) | B50: Maak in Quizlet je eigen flitskaarten of memoryspel van §2.2 en §2.3 | G50: FALSE
A51: Keuzemenu | G51: FALSE
A52: WEEK 42 HERFSTVAKANTIE
A53: WK43: 19 t/m 23 okt. Vr. Daltondag | B53: TAKEN & OPDRACHTEN | H53: FALSE | I53: FALSE
A54: Leren | B54: HO1 en HO2 | G54: FALSE
A55: Daltontaak (optioneel) | B55: oefentoetsen hoofdstuk 1 en hoofdstuk 2 | G55: FALSE
A56: Daltontaak (optioneel) | B56: slim stampen hoofdstuk 1 en hoofdstuk 2 | G56: FALSE
A57: Daltontaak (optioneel) | B57: samenvattingsoefening hoofdstuk 1 en hoofdstuk 2 | G57: FALSE
A58: Keuzemenu | G58: FALSE
A59: WEEK 44 TOETSWEEK ONDERBOUW EN BOVENBOUW (MA. 26 OKT. T/M VR. 30 OKT.)
A61: UITDAGINGEN/EXTRA MOGELIJKHEDEN
A69: TOETS
A70: Hoofdstuk 1 en 2 in de toetsweek

Sheet EN
B1: ENGELS (EN) | K1: PERIODE 1
A3: ALGEMENE INFORMATIE
A4: In period 1 the main focus is on your listening and speaking skills.
A5: You will study vocabulary (words), expressions and grammar using the book All right!
A6: Make sure to bring your English book (All right!), your English notebook, iPad and writing materials to each class.
A9: VAKINHOUD | H9: IK HEB HET GEDAAN | I9: IK BEHEERS HET | J9: RUIMTE VOOR REFLECTIE
A10: WK35: 24 t/m 28 aug. | B10: TAKEN & OPDRACHTEN | H10: FALSE | I10: FALSE
A11: Maken | B11: Weektaak: do Unit 1: lesson 1 + Unit 1: Lesson 2 listening | G11: FALSE
A12: Aantekening | B12: Grammar: Present perfect continuous + Present perfect vs Present perfect continuous: Study box on page 44 | G12: FALSE
A13: Leren | B13: Study box lesson 2 page 43-44 | G13: FALSE
A14: Keuzemenu | G14: FALSE
A15: Daltontaak (verplicht) | B15: Presentations: organise & present a trip to ... | G15: FALSE
A16: WK36: 31 t/m 4 sep. | B16: TAKEN & OPDRACHTEN | H16: FALSE | I16: FALSE
A17: Maken | B17: Weektaak: do Unit 1: lesson 3 speaking, lesson 4 reading: exercise 1-8 | G17: FALSE
A18: Aantekening | B18: Grammar: Past simple vs past continuous vs present perfect: Study box on page 48 | G18: FALSE
A19: Leren | B19: Study box on page 45-48 | G19: FALSE
A20: Daltontaak (verplicht) | B20: Presentations: organise & present a trip to ... | G20: FALSE
A21: Daltontaak (optioneel) | B21: Lesson 4, exercise 5 | G21: FALSE
A22: WK37: 7 t/m 11 sep. Examenreisweek | B22: TAKEN & OPDRACHTEN | H22: FALSE | I22: FALSE
A23: Maken | B23: Weektaak: lesson 4 reading: exercise 9-13, lesson 5 writing: exerise 1-6 | G23: FALSE
A24: Aantekening | B24: Grammar: Who, whose, whom, which, that study box page 50 + Comparisons study box page 51 | G24: FALSE
A25: Leren | B25: Study box on page 47-51 | G25: FALSE
A26: Daltontaak (verplicht) | B26: Presentations: organise & present a trip to ... | G26: FALSE
A27: Keuzemenu | G27: FALSE
A28: WK38: 14 t/m 18 sep. | B28: TAKEN & OPDRACHTEN | H28: FALSE | I28: FALSE
A29: Maken | B29: Weektaak: lesson 5 writing: exercise 7-13 + lesson 6 critical thinking | G29: FALSE
A30: Kijken & Luisteren | B30: Woots listening uitleg | G30: FALSE
A31: Leren | B31: Study box on page 49-51 | G31: FALSE
A32: Keuzemenu | G32: FALSE
A33: Daltontaak (verplicht) | B33: Presentations: organise & present a trip to ... | G33: FALSE
A34: WK39: 21 t/m 25 sep. | B34: TAKEN & OPDRACHTEN | H34: FALSE | I34: FALSE
A35: Maken | B35: Weektaak: lesson 7: Literature Jane Eyre + Unit 2 lesson 1 | G35: FALSE
A36: Leren | B36: Study box on page 88-89 | G36: FALSE
A37: Keuzemenu | G37: FALSE
A38: Keuzemenu | G38: FALSE
A39: Daltontaak (verplicht) | B39: Presentations: organise & present a trip to ... | G39: FALSE
A40: WK40: 28 t/m 2 okt. | B40: TAKEN & OPDRACHTEN | H40: FALSE | I40: FALSE
A41: Maken | B41: Weektaak: lesson 2 listening | G41: FALSE
A42: Aantekening | B42: Grammar: past perfect + past simple vs present perfect vs past perfect: Study box page 89 | G42: FALSE
A43: Leren | B43: Study box on page 88-89 | G43: FALSE
A44: Daltontaak (verplicht) | B44: Woots listening | G44: FALSE
A45: Daltontaak (verplicht) | B45: Presentations: organise & present a trip to ... | G45: FALSE
A46: WK41: 5 t/m 9 okt. Di. Brugklasdag | B46: TAKEN & OPDRACHTEN | H46: FALSE | I46: FALSE
A47: Toets | B47: 2T speaking: Presentations (2 lessen + 1 daltonuur) | G47: FALSE
A48: Maken | B48: Weektaak: + lesson 3 speaking: exercise 1-7 | G48: FALSE
A49: Leren | B49: Study box on page 91 | G49: FALSE
A50: Daltontaak (verplicht) | B50: Woots listening | G50: FALSE
A51: Daltontaak (verplicht) | B51: Presentations: organise & present a trip to ... | G51: FALSE
A52: WEEK 42 HERFSTVAKANTIE
A53: WK43: 19 t/m 23 okt. Vr. Daltondag | B53: TAKEN & OPDRACHTEN | H53: FALSE | I53: FALSE
A54: Maken | B54: Weektaak: lesson 3 speaking: exercise 8-12 | G54: FALSE
A55: Kijken & Luisteren | B55: Woots listening | G55: FALSE
A56: Keuzemenu | G56: FALSE
A57: Keuzemenu | G57: FALSE
A58: Keuzemenu | G58: FALSE
A59: WEEK 44 TOETSWEEK ONDERBOUW EN BOVENBOUW (MA. 26 OKT. T/M VR. 30 OKT.)
A61: UITDAGINGEN/EXTRA MOGELIJKHEDEN
A62: Extra oefenmateriaal vind je in de online omgeving: bij elke lesson van de unit staat 'versterk jezelf'.
A64: Test jezelf: Om te kijken of je alles goed beheerst, staat er bij alle hoofdvaardigheden (listening, speaking, reading, writing) een 'test jezelf'.
A66: Wil je je Engels nog sneller verbeteren? Lees dan eens een van de boeken uit de mediatheek. Er is een speciale boekenkast met boeken voor klas 3.
A69: TOETS
A70: 2TEST Speaking (week 41)
A72: 2TEST Listening Units 1&2 (testweek)

Sheet FA
B1: FRANS (FA) | K1: PERIODE 1
A3: ALGEMENE INFORMATIE
A4: Bienvenue! Je gaat Frans leren! "Vanaf nu ga je actief aan de slag met REGARDER (kijken) , LIRE (lezen), GRAMMAIRE (grammatica), ÉCOUTER (luisteren), PARLER (spreken) en ÉCRIRE (schrijven). Vragen mag je altijd stellen! " Unité 1 : Mon super été "Wat neem je mee naar de les? Boek: Libre Service deel A. Opgeladen iPad. Oortjes/Koptelefoon. Schrift/Snelhechter voor aantekeningen."
A9: VAKINHOUD | H9: IK HEB HET GEDAAN | I9: IK BEHEERS HET | J9: RUIMTE VOOR REFLECTIE
A10: WK35: 24 t/m 28 aug. | B10: TAKEN & OPDRACHTEN | H10: FALSE | I10: FALSE
A11: Keuzemenu | B11: Start lessen Frans | G11: FALSE
A12: Herhalen | B12: Questions personnelles & herhalingsset A HV2 | G12: FALSE
A13: Leren | B13: voca Unité 1 liste A | G13: FALSE
A14: Keuzemenu | G14: FALSE
A15: Keuzemenu | G15: FALSE
A16: WK36: 31 t/m 4 sep. | B16: TAKEN & OPDRACHTEN | H16: FALSE | I16: FALSE
A17: Kijken & Luisteren | B17: REGARDER : exercices 1&2, page 10 | G17: FALSE
A18: Lezen | B18: LIRE : exercices 5&6, pages 12,13,14 | G18: FALSE
A19: Leren | B19: voca Unité 1 liste A | G19: FALSE
A20: Keuzemenu | G20: FALSE
A21: Keuzemenu | G21: FALSE
A22: WK37: 7 t/m 11 sep. Examenreisweek | B22: TAKEN & OPDRACHTEN | H22: FALSE | I22: FALSE
A23: Maken | B23: GRAMMAIRE I : 8B, pages 16,17 | G23: FALSE
A24: Leren | B24: Questions personnelles & herhalingssets A&B HV2 | G24: FALSE
A25: Toets | B25: Test cumulatif Unité 1 liste A | G25: FALSE
A26: Kijken & Luisteren | B26: Filmpje over het werkwoord avoir (Neem het lijstje van de vervoegingen over in je snelhechter/schrift). | G26: FALSE
A27: Kijken & Luisteren | B27: Filmpje over het werkwoord être (Neem het lijstje van de vervoegingen over in je snelhechter/schrift). | G27: FALSE
A28: WK38: 14 t/m 18 sep. | B28: TAKEN & OPDRACHTEN | H28: FALSE | I28: FALSE
A29: Leren | B29: voca Unité 1 liste B | G29: FALSE
A30: Luisteren | B30: ÉCOUTER Dialogues 1&2 (pages 19,20) | G30: FALSE
A31: Maken | B31: Exercices 11,12,13 (pages 20,21) | G31: FALSE
A32: Kijken & Luisteren | B32: Filmpje over werkwoorden op -er (Neem de drie stappen over in je snelhechter/schrift). | G32: FALSE
A33: Herhalen | B33: GRAMMAIRE II Exercices 16A (pages 23,24), 16C (page 25) | G33: FALSE
A34: WK39: 21 t/m 25 sep. | B34: TAKEN & OPDRACHTEN | H34: FALSE | I34: FALSE
A35: Oefenen | B35: PARLER Exercices 19,21,22 (pages 28,29,30) | G35: FALSE
A36: Schrijven | B36: ÉCRIRE Exercices 28,29 (page 35) | G36: FALSE
A37: Leren | B37: Voca Unité 1 liste B (Quizlet) | G37: FALSE
A38: Keuzemenu | G38: FALSE
A39: Keuzemenu | G39: FALSE
A40: WK40: 28 t/m 2 okt. | B40: TAKEN & OPDRACHTEN | H40: FALSE | I40: FALSE
A41: Herhalen | B41: - Grammaire I op p. 16/17. - Regelmatige werkwoorden op -er in de présent en de passé composé (§8.1, p.148) - Theorie + aantekeningen passé composé met avoir (§9.1, p. 157) - Werkwoorden avoir en être in de présent en passé composé (§8.5.2/4, p.150/151). | G41: FALSE
A42: Lezen | B42: LIRE EXTRA I (pages 42,43,44) | G42: FALSE
A43: Toets | B43: Test cumulatif Unité 1 liste B | G43: FALSE
A44: Keuzemenu | G44: FALSE
A45: Keuzemenu | G45: FALSE
A46: WK41: 5 t/m 9 okt. Di. Brugklasdag | B46: TAKEN & OPDRACHTEN | H46: FALSE | I46: FALSE
A47: Toets | B47: 0-meting ÉCOUTER | G47: FALSE
A48: Leren | B48: Voca Unité 1 liste C | G48: FALSE
A49: Lezen | B49: LIRE EXTRA II (pages 45,46) | G49: FALSE
A50: Keuzemenu | G50: FALSE
A51: Keuzemenu | G51: FALSE
A52: WEEK 42 HERFSTVAKANTIE
A53: WK43: 19 t/m 23 okt. Vr. Daltondag | B53: TAKEN & OPDRACHTEN | H53: FALSE | I53: FALSE
A54: Leren | B54: Voca Unité 1 liste C | G54: FALSE
A55: Maken | B55: GRAMMAIRE I EXTRA exercices 8D,8E,16E,16F (pages 47,48) | G55: FALSE
A56: Keuzemenu | G56: FALSE
A57: Keuzemenu | G57: FALSE
A58: Keuzemenu | G58: FALSE
A59: WEEK 44 TOETSWEEK ONDERBOUW EN BOVENBOUW (MA. 26 OKT. T/M VR. 30 OKT.)
A61: UITDAGINGEN/EXTRA MOGELIJKHEDEN
A69: TOETS
A70: test cumulatif Unité 1, listes A&B, 0-meting ÉCOUTER
A72: toetsweektoets: test cumulatif Unité 1 liste C & T2 écrire

Sheet GS
B1: GESCHIEDENIS (GS) | K1: PERIODE 1
A3: ALGEMENE INFORMATIE
A4: Welkom bij geschiedenis in VWO3!
A5: We werken bij geschiedenis dit jaar helemaal vanuit Learnbeat, je hebt dus geen leerboek en geen werkboek, maar alles in geïntegreerd in Learnbeat. Dit zal wel even wennen zijn, want zowel de leerstof als de opdrachten staan dus bij elkaar. In de eerste helft van het schooljaar heb je 1 lesuur geschiedenis in de week, in de tweede helft van het schooljaar 2 lesuren.
A6: In VWO3 behandelen we in één schooljaar de laatste twee tijdvakken van de geschiedenis: de tijd van wereldoorlogen (1900-1950) en de tijd van televisie en computer (1950-heden)
A7: In periode 1 beginnen we met een korte herhaling van de tijdvakken die je al hebt gehad in leerjaar 1 en 2 en doen we daarna een hoofdstuk over De Eerste Wereldoorlog
A9: VAKINHOUD | H9: IK HEB HET GEDAAN | I9: IK BEHEERS HET | J9: RUIMTE VOOR REFLECTIE
A10: WK35: 24 t/m 28 aug. | B10: TAKEN & OPDRACHTEN | H10: FALSE | I10: FALSE
A11: Herhalen | B11: Doornemen werkwijze VWO3, kennismaken met het vak, koppelen Learnbeat met klascode | G11: FALSE
A12: Keuzemenu | G12: FALSE
A13: Keuzemenu | G13: FALSE
A14: Keuzemenu | G14: FALSE
A15: Keuzemenu | G15: FALSE
A16: WK36: 31 t/m 4 sep. | B16: TAKEN & OPDRACHTEN | H16: FALSE | I16: FALSE
A17: Oefenen | B17: Aan de slag in Learnbeat H1 Chronologisch overzicht | G17: FALSE
A18: Inleveren | B18: Maak t/m opdracht 1E en lever daarna je eigen overzicht van tijvakken, jaartallen en peioden in in Learnbeat | G18: FALSE
A19: Keuzemenu | G19: FALSE
A20: Keuzemenu | G20: FALSE
A21: Keuzemenu | G21: FALSE
A22: WK37: 7 t/m 11 sep. Examenreisweek | B22: TAKEN & OPDRACHTEN | H22: FALSE | I22: FALSE
A23: Nakijken | B23: Klassikaal bespreken we de ingeleverde opdracht van 1E en zorg je dat jouw overzicht geen fouten meer bevat | G23: FALSE
A24: Maken & Nakijken | B24: Maak de resterende opdrachten van hoofdstuk 1 af in Learnbeat | G24: FALSE
A25: Leren | B25: Leer je eigen gemaakte overzicht van §1.1 opdracht 2E | G25: FALSE
A26: Keuzemenu | G26: FALSE
A27: Keuzemenu | G27: FALSE
A28: WK38: 14 t/m 18 sep. | B28: TAKEN & OPDRACHTEN | H28: FALSE | I28: FALSE
A29: Kijken & Luisteren | B29: Start H2 De Eerste Wereldoorlog: powerpoint met aantekeningen en filmpjes in de klas | G29: FALSE
A30: Keuzemenu | G30: FALSE
A31: Keuzemenu | G31: FALSE
A32: Keuzemenu | G32: FALSE
A33: Keuzemenu | G33: FALSE
A34: WK39: 21 t/m 25 sep. | B34: TAKEN & OPDRACHTEN | H34: FALSE | I34: FALSE
A35: Herhalen | B35: Gezamelijk doornemen aantekeningen | G35: FALSE
A36: Maken & Nakijken | B36: §2.1 Oorzaken van de Eerste Wereldoorlog | G36: FALSE
A37: Keuzemenu | G37: FALSE
A38: Keuzemenu | G38: FALSE
A39: Keuzemenu | G39: FALSE
A40: WK40: 28 t/m 2 okt. | B40: TAKEN & OPDRACHTEN | H40: FALSE | I40: FALSE
A41: Maken & Nakijken | B41: §2.2 Het leven in de loopgraven | G41: FALSE
A42: Keuzemenu | G42: FALSE
A43: Keuzemenu | G43: FALSE
A44: Keuzemenu | G44: FALSE
A45: Keuzemenu | G45: FALSE
A46: WK41: 5 t/m 9 okt. Di. Brugklasdag | B46: TAKEN & OPDRACHTEN | H46: FALSE | I46: FALSE
A47: Maken & Nakijken | B47: §2.3 De Totale Oorlog | G47: FALSE
A48: Herhalen | B48: Alle teksten uit §2.1 t/m 2.3 lezen | G48: FALSE
A49: Oefenen | B49: Heb je alle opdrachten van §2.1 t/m §2.3 gemaakt en nagekeken? Begrijp je alles? | G49: FALSE
A50: Keuzemenu | G50: FALSE
A51: Keuzemenu | G51: FALSE
A52: WEEK 42 HERFSTVAKANTIE
A53: WK43: 19 t/m 23 okt. Vr. Daltondag | B53: TAKEN & OPDRACHTEN | H53: FALSE | I53: FALSE
A54: Leren | B54: H2 De Eerste Wereldoorlog: bereid je voor op de toets door alle teksten te kennen, de leerdoelen voor jezelf door te nemen en de gemaakte en nagekeken opdrachten te begrijpen | G54: FALSE
A55: Leren | B55: H1 Chronologisch Overzicht: ken je de tien tijdvakken, de jaartallen en periode-aanduidingen? Zie ingeleverde opdracht 1E. | G55: FALSE
A56: Keuzemenu | G56: FALSE
A57: Keuzemenu | G57: FALSE
A58: Keuzemenu | G58: FALSE
A59: WEEK 44 TOETSWEEK ONDERBOUW EN BOVENBOUW (MA. 26 OKT. T/M VR. 30 OKT.)
A61: UITDAGINGEN/EXTRA MOGELIJKHEDEN
A69: TOETS
A70: 4-toets H2 De Eerste Wereldoorlog met bonusvraag over H1 Chronologisch Overzicht

Sheet NAT
B1: NATUURKUNDE (NAT) | K1: PERIODE 1
A3: ALGEMENE INFORMATIE
A4: Deze periode bespreken we Hoofdstuk 1 van de methode Overal Natuurkunde 3 havo
A5: Practica vinden in de les plaats. Wanneer je deze mist maak je zelf een afspraak met de TOA in 2.01 voor een nieuwe afspraak. (Dit mag in een Dalton-uur)
A6: In de standaard uitrusting voor de natuurkundeles heb je nodig: een ruitjesschrift (1x1 cm), een rekenmachine, geodriehoek, pen en potlood.
A7: Na deze periode heb je geleerd wat de invloed is van een kracht op de snelheid van een voorwerp.
A9: VAKINHOUD | H9: IK HEB HET GEDAAN | I9: IK BEHEERS HET | J9: RUIMTE VOOR REFLECTIE
A10: WK35: 24 t/m 28 aug. | B10: TAKEN & OPDRACHTEN | H10: FALSE | I10: FALSE
A11: Onderzoeken | B11: Natuurkunde in het algemeen | G11: FALSE
A12: Keuzemenu | G12: FALSE
A13: Onderzoeken | B13: Grootheden en eenheden | G13: FALSE
A14: Keuzemenu | G14: FALSE
A15: Practicum | B15: Roulatiepracticum Energiesoorten | G15: FALSE
A16: WK36: 31 t/m 4 sep. | B16: TAKEN & OPDRACHTEN | H16: FALSE | I16: FALSE
A17: Onderzoeken | B17: van § 1.1 opdracht 1 op blz. 11. | G17: FALSE
A18: Lezen | B18: van § 1.1 Kracht bij beweging de theorie op blz. 8 t/m 10. | G18: FALSE
A19: Maken & Nakijken | B19: van § 1.1 opdrachten 2 t/m 13 op blz. 11 t/m 13. | G19: FALSE
A20: Daltontaak (verplicht) | B20: Controleer hoe goed je de vier leerdoelen van § 1.1 op blz. 13 beheerst, door te Maken & Nakijken: Gemengde opdrachten: 75, 76, 78, 79b & 84b op blz. 38 t/m 40. | G20: FALSE
A21: Keuzemenu | G21: FALSE
A22: WK37: 7 t/m 11 sep. Examenreisweek | B22: TAKEN & OPDRACHTEN | H22: FALSE | I22: FALSE
A23: Onderzoeken | B23: van § 1.2 opdracht 16 op blz. 19. | G23: FALSE
A24: Lezen | B24: van § 1.2 Soorten beweging de theorie op blz 14 t/m 18. | G24: FALSE
A25: Maken & Nakijken | B25: van § 1.2 opdrachten 17 t/m 24, 25abde t/m 28ab, 29 op blz. 19 t/m 21. | G25: FALSE
A26: Daltontaak (verplicht) | B26: Controleer hoe goed je de vijf leerdoelen van § 1.2 op blz. 21 beheerst, door te Maken & Nakijken: Gemengde opdrachten: 77, 79a, 82 & 84c op blz. 38 t/m 40. | G26: FALSE
A27: Keuzemenu | G27: FALSE
A28: WK38: 14 t/m 18 sep. | B28: TAKEN & OPDRACHTEN | H28: FALSE | I28: FALSE
A29: Onderzoeken | B29: Beweging in de praktijk | G29: FALSE
A30: Onderzoeken | B30: van § 1.3 opdracht 31 op blz. 24. | G30: FALSE
A31: Lezen | B31: van § 1.3 Kracht en versnelling de theorie op blz 22 t/m 23. | G31: FALSE
A32: Maken & Nakijken | B32: van § 1.3 opdrachten 32 t/m 38 op blz. 24. | G32: FALSE
A33: Keuzemenu | G33: FALSE
A34: WK39: 21 t/m 25 sep. | B34: TAKEN & OPDRACHTEN | H34: FALSE | I34: FALSE
A35: Maken & Nakijken | B35: van § 1.3 opdrachten 39 t/m 44 op blz. 24 t/m 25. | G35: FALSE
A36: Daltontaak (verplicht) | B36: Controleer hoe goed je de twee leerdoelen van § 1.3 op blz. 25 beheerst, door te Maken & Nakijken: Gemengde opdrachten: 81ab, 83 & 84d op blz. 39 t/m 40. | G36: FALSE
A37: Keuzemenu | G37: FALSE
A38: Keuzemenu | G38: FALSE
A39: Keuzemenu | G39: FALSE
A40: WK40: 28 t/m 2 okt. | B40: TAKEN & OPDRACHTEN | H40: FALSE | I40: FALSE
A41: Lezen | B41: Werken met tabellen, grafieken en formules in Excel: Zie Learnbeat. | G41: FALSE
A42: Oefenen | B42: Neem tijd om je voor te bereiden op de Praktische Opdracht. Deze opdracht maak je in groepjes van twee personen. | G42: FALSE
A43: Keuzemenu | G43: FALSE
A44: Toets | B44: 2-Toets Praktische Opdracht Beweging - Deel 1. | G44: FALSE
A45: Keuzemenu | G45: FALSE
A46: WK41: 5 t/m 9 okt. Di. Brugklasdag | B46: TAKEN & OPDRACHTEN | H46: FALSE | I46: FALSE
A47: Toets | B47: 2-Toets Praktische Opdracht Beweging - Deel 2. | G47: FALSE
A48: Keuzemenu | G48: FALSE
A49: Toets | B49: 2-Toets Praktische Opdracht Beweging - Deel 3: Verwerken in Excel. | G49: FALSE
A50: Keuzemenu | G50: FALSE
A51: Keuzemenu | G51: FALSE
A52: WEEK 42 HERFSTVAKANTIE
A53: WK43: 19 t/m 23 okt. Vr. Daltondag | B53: TAKEN & OPDRACHTEN | H53: FALSE | I53: FALSE
A54: Lezen | B54: § 1.5 Arbeid de theorie op blz 31 t/m 34. | G54: FALSE
A55: Maken & Nakijken | B55: van § 1.5 opdrachten 57 t/m 71ab op blz. 35 t/m 37. | G55: FALSE
A56: Daltontaak (verplicht) | B56: Controleer hoe goed je de vier leerdoelen van § 1.5 op blz. 37 beheerst, door te Maken & Nakijken: Gemengde opdrachten: 80, 81cd & 85 op blz. 39 & 41. | G56: FALSE
A57: Test jezelf | B57: Zie hieronder bij TOETS het Kennen & Kunnen leerwerk voor de 4-Toets van Hoofdstuk 1 Kracht en beweging. | G57: FALSE
A58: Keuzemenu | G58: FALSE
A59: WEEK 44 TOETSWEEK ONDERBOUW EN BOVENBOUW (MA. 26 OKT. T/M VR. 30 OKT.)
A61: UITDAGINGEN/EXTRA MOGELIJKHEDEN
A69: TOETS
A70: 2T PO Hoofdstuk 1 Kracht en beweging • Deze Praktische Opdracht vindt plaats tijdens de lessen.
A72: 4T Hoofdstuk 1 Kracht en beweging • Alle lesstof, aantekeningen en gemaakte opdrachten van § 1.1 t/m § 1.3 en § 1.5; • Overzicht begrippen en formules op blz. 43, behalve de begrippen en formule van § 1.4; • De gemaakte Gemengde opdrachten 75 t/m 87 op blz. 38 t/m 41.

Sheet NE
B1: NEDERLANDS (NE) | K1: PERIODE 1
A3: ALGEMENE INFORMATIE
A4: Je hebt de volgende spullen iedere les bij je: boek 3A, apart schrift voor aantekeningen en opdrachten (A4), drie pennen, iPad.
A5: In de toetsweek maak je een 4-toets taalverzorging. Deze toets gaat over spelling, werkwoordspelling en grammatica.
A9: VAKINHOUD | H9: IK HEB HET GEDAAN | I9: IK BEHEERS HET | J9: RUIMTE VOOR REFLECTIE
A10: WK35: 24 t/m 28 aug. | B10: TAKEN & OPDRACHTEN | H10: FALSE | I10: FALSE
A11: Maken & Nakijken | B11: Introductie vak Nederlands in 3h: wat ga je leren, welke toetsen krijg je, wat moet je meenemen? Het gebruik van deze studiewijzer | G11: FALSE
A12: Maken & Nakijken | B12: 1.2, Fictie: opdr. 3, 4, 6, 7 (begrip: leeservaring) | G12: FALSE
A13: Maken & Nakijken | B13: 2.2, spelling: opdr. 14, 15, 16, 17, blz. 52 t/m 55 (spelling persoonsvorm, voltooid deelwoord en gebiedende wijs) | G13: FALSE
A14: Keuzemenu | G14: FALSE
A15: Keuzemenu | G15: FALSE
A16: WK36: 31 t/m 4 sep. | B16: TAKEN & OPDRACHTEN | H16: FALSE | I16: FALSE
A17: Maken & Nakijken | B17: 2.2, spelling: opdr. 18, 19, 20, 21 blz. 56 t/m 58 (begrip: koppelteken en samenstellingen) | G17: FALSE
A18: Maken & Nakijken | B18: 2.2, spelling: opdr. 22 t/m 26, blz. 60 en 61 | G18: FALSE
A19: Keuzemenu | G19: FALSE
A20: Keuzemenu | G20: FALSE
A21: Keuzemenu | G21: FALSE
A22: WK37: 7 t/m 11 sep. Examenreisweek | B22: TAKEN & OPDRACHTEN | H22: FALSE | I22: FALSE
A23: Lezen | B23: Lezen verhaal 1 uit 3Pak. | G23: FALSE
A24: Test jezelf | B24: Maken oefentoets spelling 2.2. in de online methode | G24: FALSE
A25: Keuzemenu | G25: FALSE
A26: Keuzemenu | G26: FALSE
A27: Keuzemenu | G27: FALSE
A28: WK38: 14 t/m 18 sep. | B28: TAKEN & OPDRACHTEN | H28: FALSE | I28: FALSE
A29: Maken & Nakijken | B29: Herhaling spelling (werkwoordspelling, samenstellingen, koppelteken en tussenletter) | G29: FALSE
A30: Maken & Nakijken | B30: Grammatica: m. opdr. 10 t/m 12, blz. 142 t/m 144 (hoofdzin, bijzin, voegwoord) | G30: FALSE
A31: Lezen | B31: Verhaal 2 uit 3Pak. | G31: FALSE
A32: Daltontaak (verplicht) | B32: Woordenschat online oefenen (schooltaalwoorden) | G32: FALSE
A33: Keuzemenu | G33: FALSE
A34: WK39: 21 t/m 25 sep. | B34: TAKEN & OPDRACHTEN | H34: FALSE | I34: FALSE
A35: Maken & Nakijken | B35: Grammatica: m. opdr. 13 t/m 15, blz. 145 t/m 147. | G35: FALSE
A36: Maken & Nakijken | B36: Werkwoordspelling: m. opdr. 16 t/m 19, blz. 148 - 151 (vervoegen Engelse ww'en, vervoegen ww in samengestelde zin) | G36: FALSE
A37: Lezen | B37: Verhaal 3 uit 3Pak | G37: FALSE
A38: Daltontaak (verplicht) | B38: Woordenschat online oefenen (themawoorden) | G38: FALSE
A39: Keuzemenu | G39: FALSE
A40: WK40: 28 t/m 2 okt. | B40: TAKEN & OPDRACHTEN | H40: FALSE | I40: FALSE
A41: Toets | B41: Handelingsdeel fictie in de les. | G41: FALSE
A42: Maken & Nakijken | B42: Spelling: m. opdr. 21 t/m 23, blz. 152 t/m 154 (trema) | G42: FALSE
A43: Daltontaak (verplicht) | B43: Woordenschat online oefenen (alle woorden) | G43: FALSE
A44: Keuzemenu | G44: FALSE
A45: Keuzemenu | G45: FALSE
A46: WK41: 5 t/m 9 okt. Di. Brugklasdag | B46: TAKEN & OPDRACHTEN | H46: FALSE | I46: FALSE
A47: Test jezelf | B47: Test jezelf 4.1 | G47: FALSE
A48: Maken & Nakijken | B48: Oefenen extra materiaal. | G48: FALSE
A49: Keuzemenu | G49: FALSE
A50: Keuzemenu | G50: FALSE
A51: Keuzemenu | G51: FALSE
A52: WEEK 42 HERFSTVAKANTIE
A53: WK43: 19 t/m 23 okt. Vr. Daltondag | B53: TAKEN & OPDRACHTEN | H53: FALSE | I53: FALSE
A54: Test jezelf | B54: Test jezelf 4.2 | G54: FALSE
A55: Maken & Nakijken | B55: Oefenen met extra materiaal | G55: FALSE
A56: Keuzemenu | G56: FALSE
A57: Keuzemenu | G57: FALSE
A58: Keuzemenu | G58: FALSE
A59: WEEK 44 TOETSWEEK ONDERBOUW EN BOVENBOUW (MA. 26 OKT. T/M VR. 30 OKT.)
A61: UITDAGINGEN/EXTRA MOGELIJKHEDEN
A69: TOETS
A70: Toetsweek: werkwoordspelling pv, vd, Engelse ww'en, samenstellingen, koppelteken, tussenletter, trema. samengestelde zin, hoofdzin en bijzin benoemen, voegwoorden. (4-toets)

Sheet RSCH
B1: RESEARCH (RSCH) | K1: PERIODE 1
A3: ALGEMENE INFORMATIE
A4: Welkomswoordje
A5: Wat gaan we deze periode doen? Wat is de Daltontaak? Wat houd de Daltontaak in?
A6: Welke boeken/spullen/materialen zijn er nodig?
A7: Wat moet je geleerd hebben na deze periode?
A9: VAKINHOUD | H9: IK HEB HET GEDAAN | I9: IK BEHEERS HET | J9: RUIMTE VOOR REFLECTIE
A10: WK35: 24 t/m 28 aug. | B10: TAKEN & OPDRACHTEN | H10: FALSE | I10: FALSE
A11: Maken | B11: 10 vragen over gist | G11: FALSE
A12: Maken | B12: mindmap met onderwerp gist (organisme) | G12: FALSE
A13: Keuzemenu | G13: FALSE
A14: Keuzemenu | G14: FALSE
A15: Daltontaak (optioneel) | B15: schrijven van de inleiding | G15: FALSE
A16: WK36: 31 t/m 4 sep. | B16: TAKEN & OPDRACHTEN | H16: FALSE | I16: FALSE
A17: Inleveren | B17: 1ste versie van de inleiding (10% eindcijfer) | G17: FALSE
A18: Practicum | B18: gidsexperiment 1 | G18: FALSE
A19: Practicum | B19: gidsexperiment 2 | G19: FALSE
A20: Keuzemenu | G20: FALSE
A21: Keuzemenu | G21: FALSE
A22: WK37: 7 t/m 11 sep. Examenreisweek | B22: TAKEN & OPDRACHTEN | H22: FALSE | I22: FALSE
A23: Practicum | B23: gidsexperiment 3 | G23: FALSE
A24: Practicum | B24: gidsexperiment 4 | G24: FALSE
A25: Keuzemenu | G25: FALSE
A26: Keuzemenu | G26: FALSE
A27: Keuzemenu | G27: FALSE
A28: WK38: 14 t/m 18 sep. | B28: TAKEN & OPDRACHTEN | H28: FALSE | I28: FALSE
A29: Maken | B29: voor eigen onderzoek; onderzoeksvraag, hypothese, materialen en methode | G29: FALSE
A30: Keuzemenu | G30: FALSE
A31: Keuzemenu | G31: FALSE
A32: Keuzemenu | G32: FALSE
A33: Keuzemenu | G33: FALSE
A34: WK39: 21 t/m 25 sep. | B34: TAKEN & OPDRACHTEN | H34: FALSE | I34: FALSE
A35: Inleveren | B35: eigen onderzoek: onderzoeksvraag, hypothese, materialen en methode (15% eindcijfer) | G35: FALSE
A36: Practicum | B36: uitvoeren eigen onderzoek | G36: FALSE
A37: Keuzemenu | G37: FALSE
A38: Keuzemenu | G38: FALSE
A39: Keuzemenu | G39: FALSE
A40: WK40: 28 t/m 2 okt. | B40: TAKEN & OPDRACHTEN | H40: FALSE | I40: FALSE
A41: Maken | B41: schrijven van eigen verslag. | G41: FALSE
A42: Inleveren | B42: verslag 4t cijfer. | G42: FALSE
A43: Keuzemenu | G43: FALSE
A44: Keuzemenu | G44: FALSE
A45: Keuzemenu | G45: FALSE
A46: WK41: 5 t/m 9 okt. Di. Brugklasdag | B46: TAKEN & OPDRACHTEN | H46: FALSE | I46: FALSE
A47: Maken | B47: boodschappenlijst voor onderzoek wc papier | G47: FALSE
A48: Oefenen | B48: maken van foutbalken in excel | G48: FALSE
A49: Keuzemenu | G49: FALSE
A50: Keuzemenu | G50: FALSE
A51: Keuzemenu | G51: FALSE
A52: WEEK 42 HERFSTVAKANTIE
A53: WK43: 19 t/m 23 okt. Vr. Daltondag | B53: TAKEN & OPDRACHTEN | H53: FALSE | I53: FALSE
A54: Oefenen | B54: maken foutbalken in excel | G54: FALSE
A55: Keuzemenu | G55: FALSE
A56: Keuzemenu | G56: FALSE
A57: Keuzemenu | G57: FALSE
A58: Keuzemenu | G58: FALSE
A59: WEEK 44 TOETSWEEK ONDERBOUW EN BOVENBOUW (MA. 26 OKT. T/M VR. 30 OKT.)
A61: UITDAGINGEN/EXTRA MOGELIJKHEDEN
A69: TOETS
A70: 4t verslag gist (10% inleiding eerste versie, 15% onderzoeksvraag, hypothese, materialen en methode)
A72: 2t foutbalken in excel in toetsweek

Sheet SK
B1: SCHEIKUNDE (SK) | K1: PERIODE 1
A3: ALGEMENE INFORMATIE
A4: Deze periode bespreken we Hoofdstuk 1 en 5 van de methode Chemie Overal (3 vwo)
A5: Practica vinden in de les plaats. Wanneer je deze mist maak je zelf een afspraak met de TOA in kantoor 2.06 voor een nieuwe afspraak in een daltonuur.
A6: In de standaard uitrusting voor de scheikundeles heb je nodig: een ruitjesschrift, een rekenmachine, geodriehoek, pen en potlood.
A9: VAKINHOUD | H9: IK HEB HET GEDAAN | I9: IK BEHEERS HET | J9: RUIMTE VOOR REFLECTIE
A10: WK35: 24 t/m 28 aug. | B10: TAKEN & OPDRACHTEN | H10: FALSE | I10: FALSE
A11: Practicum | B11: Practicum 1.2. Hoe laat je magnesium veilig ontbranden met de brander | G11: FALSE
A12: Lezen | B12: Van par. 1.2 veiligheid theorie op blz 14 t/m 17 | G12: FALSE
A13: Maken & Nakijken | B13: Van par 1.2 opdrachten 23a, 25, 26 en 27 op blz 18 en 19 | G13: FALSE
A14: Daltontaak (verplicht) | B14: Controleer hoe goed je de vier leerdoelen van par. 1.2 op blz 19 beheerst door te maken en na te kijken. Gemengde opdrachten 1, 3a, 4bc op blz 31 en 32 | G14: FALSE
A15: Doen | B15: Koop een A4 schrift met grote hokjes (als je nog geen schrift hebt). | G15: FALSE
A16: WK36: 31 t/m 4 sep. | B16: TAKEN & OPDRACHTEN | H16: FALSE | I16: FALSE
A17: Onderzoeken | B17: Practicum 1.1 Wat is de dichtheid van zout en zoet water? | G17: FALSE
A18: Lezen | B18: Van par. 1.1 Stofeigenschappen de theorie op blz 8 t/m 10. In de les aanvullende aan tekeningen over dichtheid. | G18: FALSE
A19: Maken & Nakijken | B19: Van par. 1.1 opdrachten 4, 5 t/m 14 en 16 op blz 12 en 13. | G19: FALSE
A20: Daltontaak (verplicht) | B20: Controleer hoe goed je de drie leerdoelen van par. 1.1 op blz 13 beheerst door maken en na te kijken gemengde opdrachten 3bc, 6, 8de, 9ef op blz 32 t/m 35. | G20: FALSE
A21: Herhalen | B21: Neem alle aantekeningen nog een keer door. | G21: FALSE
A22: WK37: 7 t/m 11 sep. Examenreisweek | B22: TAKEN & OPDRACHTEN | H22: FALSE | I22: FALSE
A23: Maken | B23: Oefeningen algemeen in de les | G23: FALSE
A24: Keuzemenu | G24: FALSE
A25: Keuzemenu | G25: FALSE
A26: Keuzemenu | G26: FALSE
A27: Keuzemenu | G27: FALSE
A28: WK38: 14 t/m 18 sep. | B28: TAKEN & OPDRACHTEN | H28: FALSE | I28: FALSE
A29: Practicum | B29: Practicum 1.3 Hoe zie je bij het stollen van een stof of deze zuiver is? | G29: FALSE
A30: Lezen | B30: Van par. 1.3 Faseveranderingen de theorie op bladzijde 20 t/m 22. aantekening in je schrift. | G30: FALSE
A31: Maken & Nakijken | B31: Van par. 1.3 opdrachten 28 t/m 39 op blz 23 en 24. | G31: FALSE
A32: Daltontaak (verplicht) | B32: Controleer hoe goed je de vier leerdoelen van par. 1.3 op blz 24 beheerst door het maken en nakijken van de gemengde opdrachten 2, 3, 7, 10cdg op blz 31 t/m 36 | G32: FALSE
A33: Doen | B33: Neem alle aantekeningen nog een keer door. | G33: FALSE
A34: WK39: 21 t/m 25 sep. | B34: TAKEN & OPDRACHTEN | H34: FALSE | I34: FALSE
A35: Oefenen | B35: Formatieve toets H1 | G35: FALSE
A36: Doen | B36: Ga naar par. 5.1 van Learnbeat. We doen een practicum dat vind je in par 5.1Practicum scheidingsmethoden | G36: FALSE
A37: Lezen | B37: Van par. 5.1 scheidingsmethoden de theorie op blz 128 t/m 130 | G37: FALSE
A38: Maken & Nakijken | B38: Van par. 5.1 opdrachten 2 t/m 9 blz 138 en 139 | G38: FALSE
A39: Daltontaak (verplicht) | B39: Controleer hoe goed je de leerdoelen van par 5.1 beheerst door te maken en na te kijken gemengde opdrachten uitgedeeld in de les. | G39: FALSE
A40: WK40: 28 t/m 2 okt. | B40: TAKEN & OPDRACHTEN | H40: FALSE | I40: FALSE
A41: Practicum | B41: Waaruit bestaat wijn? | G41: FALSE
A42: Lezen | B42: Van par 5.2 indampenen destilleren op blz 134 t/m 136 | G42: FALSE
A43: Maken & Nakijken | B43: Van par 5.2 opdrachten 11 t/m 19 | G43: FALSE
A44: Daltontaak (verplicht) | B44: Controleer hoe goed je de leerdoelen van par 5.2 beheerst door te maken en na te kijken. Gemengde opdrachten 1, 2d, 9, 13ac op blz 151 t/m 154 | G44: FALSE
A45: Doen | B45: Teken een destillatieopstelling in je schrift en benoem alle onderdelen. | G45: FALSE
A46: WK41: 5 t/m 9 okt. Di. Brugklasdag | B46: TAKEN & OPDRACHTEN | H46: FALSE | I46: FALSE
A47: Practicum | B47: 5.3 Zijn kleurstoffen in M&M's zuivere stoffen? | G47: FALSE
A48: Lezen | B48: Van par 5.3 adsorberen en chromatograferen de theorie op blz 139 t/m 142 | G48: FALSE
A49: Maken & Nakijken | B49: Van par 5.3 opdrachten 22 t/m 30 | G49: FALSE
A50: Herhalen | B50: Neem de aantekeingen nog een keer door | G50: FALSE
A51: Daltontaak (verplicht) | B51: Controleer hoe goed je de leerdoelen van par 5.3 beheerst door te maken en na te kijken. Gemengde opdrachten 3, 5, 8 en 9abc op blz 157 t/m 160 | G51: FALSE
A52: WEEK 42 HERFSTVAKANTIE
A53: WK43: 19 t/m 23 okt. Vr. Daltondag | B53: TAKEN & OPDRACHTEN | H53: FALSE | I53: FALSE
A54: Toets | B54: 2 toets PO scheidingsmethoden | G54: FALSE
A55: Lezen | B55: Zie bij toets het leerwerk voor de 2-toets en PO scheidingsmethoden | G55: FALSE
A56: Daltontaak (verplicht) | B56: Controleer hoe goed je de leerdoelen van par 5.1 en par 5.2 beheerst door te maken en na te kijken vraag 6 blz 160 | G56: FALSE
A57: Doen | B57: Maken kleine oefentoets uitgedeeld in de les | G57: FALSE
A58: Keuzemenu | G58: FALSE
A59: WEEK 44 TOETSWEEK ONDERBOUW EN BOVENBOUW (MA. 26 OKT. T/M VR. 30 OKT.)
A61: UITDAGINGEN/EXTRA MOGELIJKHEDEN
A69: TOETS
A70: De toets gaat over hoofdstuk 1 par 1, 2 en 3 en hoofdstuk 5 par. 1, 2, 3 en 4

Sheet SP
B1: SPAANS (SP) | K1: PERIODE 1
A3: ALGEMENE INFORMATIE
A4: Bienvenidos al nuevo curso de español.
A5: Dit schooljaar werken we met nieuwe boeken. Bij deze boeken hoort ook een digitale omgeving, waarin jullie extra kunnen oefenen met de stof.
A6: Daarnaast blijven we Quizlet en StudyGo gebruiken om de woordjes te oefenen.
A7: Vergeet niet om je materialen elke les mee te nemen. Het is ook handig om oortjes bij je te hebben, omdat we deze regelmatig nodig zullen hebben voor oefeningen in de online omgeving. Ik hoop dat we er samen weer een gezellig en leerzaam jaar van maken. Ik heb er zin in!
A9: VAKINHOUD | H9: IK HEB HET GEDAAN | I9: IK BEHEERS HET | J9: RUIMTE VOOR REFLECTIE
A10: WK35: 24 t/m 28 aug. | B10: TAKEN & OPDRACHTEN | H10: FALSE | I10: FALSE
A11: Onderzoeken | B11: Studygo OF. Quizlet | G11: FALSE
A12: Onderzoeken | B12: We starten met hoofdstuk 1 van Compañeros 2: Punto de recarga. | G12: FALSE
A13: Maken | B13: Oef 1, 2, 3, 4 en 5 p.7 TB en 6 p.8 TB | G13: FALSE
A14: Herhalen | B14: Wij herhalen "de presente van regelmatige ww" en presente van "ser" en "estar" | G14: FALSE
A15: Maken | B15: Oef 1 en 2 p. 10 TB | G15: FALSE
A16: WK36: 31 t/m 4 sep. | B16: TAKEN & OPDRACHTEN | H16: FALSE | I16: FALSE
A17: Herhalen | B17: Wij herhalen "de presente van onregelmatige ww" | G17: FALSE
A18: Maken | B18: Oef 3 en 4 p.11 TB | G18: FALSE
A19: Luisteren & Maken | B19: Oef 1, 2 en 3 p. 13 TB | G19: FALSE
A20: Keuzemenu | G20: FALSE
A21: Keuzemenu | G21: FALSE
A22: WK37: 7 t/m 11 sep. Examenreisweek | B22: TAKEN & OPDRACHTEN | H22: FALSE | I22: FALSE
A23: Herhalen | B23: We leren de voltooid tegenwoordige tijd gebruiken "Pretérito perfecto" p. 12 TB | G23: FALSE
A24: Maken | B24: Oef 5 p.12 TB | G24: FALSE
A25: Kijken & Luisteren | B25: Oef 1 p.14 TB en oef 5 p.15 TB | G25: FALSE
A26: Maken | B26: Oef 2 en 3 p.13 TB | G26: FALSE
A27: Keuzemenu | G27: FALSE
A28: WK38: 14 t/m 18 sep. | B28: TAKEN & OPDRACHTEN | H28: FALSE | I28: FALSE
A29: Onderzoeken | B29: We beginnen met hoofdstuk 2: ¿En casa o con los amigos? | G29: FALSE
A30: Onderzoeken | B30: We leren het Gerundio (het tegenwoordig deelwoord) | G30: FALSE
A31: Maken | B31: Oef 1 en 2 p. 21 TB | G31: FALSE
A32: Lezen | B32: Vanaf nu oefenen wij met examenteksten en bouwen wij het niveau stap voor stap op. | G32: FALSE
A33: Keuzemenu | G33: FALSE
A34: WK39: 21 t/m 25 sep. | B34: TAKEN & OPDRACHTEN | H34: FALSE | I34: FALSE
A35: Herhalen | B35: Vragende voornaamwoorden p. 22 TB | G35: FALSE
A36: Maken | B36: Oef. 3 en 4 p.22 TB | G36: FALSE
A37: Luisteren | B37: Oef. 5 p. 22 TB | G37: FALSE
A38: Toets | B38: 2T – Woordjestoets Unidad 1 (3 woordenlijsten) | G38: FALSE
A39: Keuzemenu | G39: FALSE
A40: WK40: 28 t/m 2 okt. | B40: TAKEN & OPDRACHTEN | H40: FALSE | I40: FALSE
A41: Keuzemenu | G41: FALSE
A42: Herhalen | B42: We herhalen het werkwoord gustar en bijwoorden van frequentie: mucho, bastante en nada. | G42: FALSE
A43: Maken | B43: Oef. 6 en 7 p.23 TB | G43: FALSE
A44: Keuzemenu | B44: Jullie werken zelfstandig in de online omgeving aan de onderdelen die jullie nog extra willen oefenen. | G44: FALSE
A45: Keuzemenu | G45: FALSE
A46: WK41: 5 t/m 9 okt. Di. Brugklasdag | B46: TAKEN & OPDRACHTEN | H46: FALSE | I46: FALSE
A47: Luisteren | B47: Oef. 1, 2, 3, 5, 7 p.24 en 25 TB | G47: FALSE
A48: Lezen | B48: Oef. 1 p.26 TB | G48: FALSE
A49: Keuzemenu | G49: FALSE
A50: Keuzemenu | G50: FALSE
A51: Keuzemenu | G51: FALSE
A52: WEEK 42 HERFSTVAKANTIE
A53: WK43: 19 t/m 23 okt. Vr. Daltondag | B53: TAKEN & OPDRACHTEN | H53: FALSE | I53: FALSE
A54: Test jezelf | B54: 2T: Luistertoets | G54: FALSE
A55: Oefenen | B55: Wij herhalen de grammatica ter voorbereiding op de 4T. Je kunt hiervoor ook de online omgeving gebruiken. | G55: FALSE
A56: Keuzemenu | G56: FALSE
A57: Keuzemenu | G57: FALSE
A58: Keuzemenu | G58: FALSE
A59: WEEK 44 TOETSWEEK ONDERBOUW EN BOVENBOUW (MA. 26 OKT. T/M VR. 30 OKT.)
A61: UITDAGINGEN/EXTRA MOGELIJKHEDEN
A62: Oefen woordenschat met Duolingo. Dit helpt je om je Spaanse woordenschat verder uit te breiden.
A64: Lezen: Lingua Kies "español" en daarna niveau A2. Lecturas graduadas nivel A2. Videos en español. Luisteropdrachten. Profedeele
A69: TOETS
A70: 4T (TOETSWEEK): Grammatica en leestoets. Wat moet je voor de toets leren? Presente van regelmatige werkwoorden (herhaling van vorig jaar) de Presente van SER en ESTAR (herhaling van vorig jaar) de Presente van onregelmatige werkwoorden (herhaling van vorig jaar), pretérito perfecto (nieuw), het gerundio (nieuw), vragende voornaamwoorden (herhaling), gustar (herhaling) + bijwoorden van frequentie en woorden om je mening te versterken of af te zwakken, zoals mucho, bastante, nada, normalmente, muchas veces, algunas veces, nunca.

Sheet TE
B1: TEKENEN (TE) | K1: PERIODE 1
A3: ALGEMENE INFORMATIE
A4: Welkom bij de studiewijzer tekenen van VWO 3.
A5: We gaan beginnen met structuren, daarna komt hoofdstuk licht aan bod.
A9: VAKINHOUD | H9: IK HEB HET GEDAAN | I9: IK BEHEERS HET | J9: RUIMTE VOOR REFLECTIE
A10: WK35: 24 t/m 28 aug. | B10: TAKEN & OPDRACHTEN | H10: FALSE | I10: FALSE
A11: Luisteren | B11: Algemene afspraken | G11: FALSE
A12: Luisteren & Maken | B12: Ontwerpen map. Uitleg Beeldaspect Structuur | G12: FALSE
A13: Maken | B13: Illustratie van de naam op een map. Letters invullen met structuur. | G13: FALSE
A14: Keuzemenu | G14: FALSE
A15: Keuzemenu | G15: FALSE
A16: WK36: 31 t/m 4 sep. | B16: TAKEN & OPDRACHTEN | H16: FALSE | I16: FALSE
A17: Luisteren | B17: Uitleg Beeldaspect Licht. | G17: FALSE
A18: Maken | B18: Werkblad Licht (2T) De 2 bovenste vakjes afgerond | G18: FALSE
A19: Herhalen | B19: Je weet wat Plasticiteit is. | G19: FALSE
A20: Herhalen | B20: Je kunt licht en schaduw maken door met je potlood grijstinten en verloopjes te maken. | G20: FALSE
A21: Keuzemenu | G21: FALSE
A22: WK37: 7 t/m 11 sep. Examenreisweek | B22: TAKEN & OPDRACHTEN | H22: FALSE | I22: FALSE
A23: Maken | B23: Werkblad Licht (2T) De 2 middelste vakjes afgerond | G23: FALSE
A24: Keuzemenu | G24: FALSE
A25: Keuzemenu | G25: FALSE
A26: Keuzemenu | G26: FALSE
A27: Keuzemenu | G27: FALSE
A28: WK38: 14 t/m 18 sep. | B28: TAKEN & OPDRACHTEN | H28: FALSE | I28: FALSE
A29: Maken | B29: Werkblad Licht (2T) De 2 onderste vakjes afgerond | G29: FALSE
A30: Inleveren | B30: Werkblad Licht (2T) Alle vakjes zijn netjes ingevuld | G30: FALSE
A31: Keuzemenu | G31: FALSE
A32: Keuzemenu | G32: FALSE
A33: Keuzemenu | G33: FALSE
A34: WK39: 21 t/m 25 sep. | B34: TAKEN & OPDRACHTEN | H34: FALSE | I34: FALSE
A35: Luisteren | B35: Uitleg Eindwerk Licht: Schoen vol fantasie (4T ) | G35: FALSE
A36: Oefenen | B36: Observeren: Verhoudingen, close-up, stofuitdrukking, plasticiteit, details, naar de waarneming tekenen | G36: FALSE
A37: Maken | B37: Eindwerk Licht: Schoen vol fantasie (4T ) | G37: FALSE
A38: Keuzemenu | G38: FALSE
A39: Keuzemenu | G39: FALSE
A40: WK40: 28 t/m 2 okt. | B40: TAKEN & OPDRACHTEN | H40: FALSE | I40: FALSE
A41: Maken | B41: Eindwerk Licht: Schoen vol fantasie (4T ) | G41: FALSE
A42: Keuzemenu | B42: Je hebt de schoen in de basis opgezet. Klopt de verhouding? Past er een voet in? | G42: FALSE
A43: Keuzemenu | B43: Heb je de vetergaten geteld? Heb je gekeken hoe de veters precies lopen? | G43: FALSE
A44: Keuzemenu | B44: Welke details zie je in de zool of in de neus van de schoen. | G44: FALSE
A45: Keuzemenu | G45: FALSE
A46: WK41: 5 t/m 9 okt. Di. Brugklasdag | B46: TAKEN & OPDRACHTEN | H46: FALSE | I46: FALSE
A47: Maken | B47: Eindwerk Licht: Schoen vol fantasie (4T ) | G47: FALSE
A48: Keuzemenu | B48: Zijn er minimaal 5 grijswaarden te zien? Zijn de donkere plekken echt donker? Heb je de schaduw toegepast? | G48: FALSE
A49: Keuzemenu | B49: Bij een witte schoen: is het wit echt wit of eerder grijzig? | G49: FALSE
A50: Keuzemenu | G50: FALSE
A51: Keuzemenu | G51: FALSE
A52: WEEK 42 HERFSTVAKANTIE
A53: WK43: 19 t/m 23 okt. Vr. Daltondag | B53: TAKEN & OPDRACHTEN | H53: FALSE | I53: FALSE
A54: Maken | B54: Eindwerk Licht: Schoen vol fantasie (4T) | G54: FALSE
A55: Keuzemenu | B55: Je gaat iets uit de schoen laten komen. Gebruik je fantasie. Bedenk iets verrassends! | G55: FALSE
A56: Keuzemenu | G56: FALSE
A57: Keuzemenu | G57: FALSE
A58: Keuzemenu | G58: FALSE
A59: WEEK 44 TOETSWEEK ONDERBOUW EN BOVENBOUW (MA. 26 OKT. T/M VR. 30 OKT.)
A61: UITDAGINGEN/EXTRA MOGELIJKHEDEN
A69: TOETS

Sheet WI
B1: WISKUNDE (WI) | K1: PERIODE 1
A3: ALGEMENE INFORMATIE
A4: Welkomswoordje
A5: Wat gaan we deze periode doen? Wat is de Daltontaak? Wat houd de Daltontaak in?
A6: Welke boeken/spullen/materialen zijn er nodig?
A7: Wat moet je geleerd hebben na deze periode?
A9: VAKINHOUD | H9: IK HEB HET GEDAAN | I9: IK BEHEERS HET | J9: RUIMTE VOOR REFLECTIE
A10: WK35: 24 t/m 28 aug. | B10: TAKEN & OPDRACHTEN | H10: FALSE | I10: FALSE
A11: Herhalen | B11: Introductieles wiskunde vwo 3 | G11: FALSE
A12: Maken & Nakijken | B12: Vaardigheden 1: Opdracht 1 tm 5 (blz. 74) + Vaardigheden 3: Opdracht 10 en 11 (blz. 232) | G12: FALSE
A13: Maken & Nakijken | B13: Vaardigheden 1: Opdracht 8 tm 12 (blz. 75-77) | G13: FALSE
A14: Keuzemenu | G14: FALSE
A15: Keuzemenu | G15: FALSE
A16: WK36: 31 t/m 4 sep. | B16: TAKEN & OPDRACHTEN | H16: FALSE | I16: FALSE
A17: Maken & Nakijken | B17: Vaardigheden 1: Opdracht 13 tm 17 (blz. 76-77) | G17: FALSE
A18: Maken & Nakijken | B18: Vaardigheden 3: Opdracht 6 tm 9 (blz. 231) | G18: FALSE
A19: Toets | B19: 1-toets: Vaardigheden | G19: FALSE
A20: Keuzemenu | G20: FALSE
A21: Keuzemenu | G21: FALSE
A22: WK37: 7 t/m 11 sep. Examenreisweek | B22: TAKEN & OPDRACHTEN | H22: FALSE | I22: FALSE
A23: Maken & Nakijken | B23: H1 Voorkennis opdracht 1 tm 9 (blz. 8-9) | G23: FALSE
A24: Maken & Nakijken | B24: H1.1 opdracht 5 en 6 (blz.11-12) | G24: FALSE
A25: Maken & Nakijken | B25: H1.2 opdracht 10 tm 14 (blz. 14-16) | G25: FALSE
A26: Keuzemenu | G26: FALSE
A27: Keuzemenu | G27: FALSE
A28: WK38: 14 t/m 18 sep. | B28: TAKEN & OPDRACHTEN | H28: FALSE | I28: FALSE
A29: Maken & Nakijken | B29: H1.3 opdracht 17 tm 20 (blz. 19-20) | G29: FALSE
A30: Maken & Nakijken | B30: H1.4 opdracht 26 tm 29 (blz. 23-24) | G30: FALSE
A31: Maken & Nakijken | B31: H1.5 opdracht 33 tm 38 (blz. 27-28) | G31: FALSE
A32: Oefenen | B32: Gemengde opdrachten: opdracht 39 tm 46 (blz. 30-31) | G32: FALSE
A33: Keuzemenu | G33: FALSE
A34: WK39: 21 t/m 25 sep. | B34: TAKEN & OPDRACHTEN | H34: FALSE | I34: FALSE
A35: Maken & Nakijken | B35: H2 Voorkennis opdracht V1 tm V9 (blz. 42-43) | G35: FALSE
A36: Maken & Nakijken | B36: H2.1 opdracht 4 tm 9 (blz. 45-46) | G36: FALSE
A37: Maken & Nakijken | B37: H2.2 opdracht 14 tm 16 (blz. 50) | G37: FALSE
A38: Keuzemenu | G38: FALSE
A39: Keuzemenu | G39: FALSE
A40: WK40: 28 t/m 2 okt. | B40: TAKEN & OPDRACHTEN | H40: FALSE | I40: FALSE
A41: Oefenen | B41: H2 opdracht E4 tm E6 (blz. 68) | G41: FALSE
A42: Maken & Nakijken | B42: H2.3 opdracht 19, 20, 21, 23 (blz. 53-54) | G42: FALSE
A43: Maken & Nakijken | B43: H2.4 opdracht 28 tm 30 (blz. 57-58) | G43: FALSE
A44: Keuzemenu | G44: FALSE
A45: Keuzemenu | G45: FALSE
A46: WK41: 5 t/m 9 okt. Di. Brugklasdag | B46: TAKEN & OPDRACHTEN | H46: FALSE | I46: FALSE
A47: Maken & Nakijken | B47: H2.5 opdracht 32, 34, 35, 37 (blz. 61-62) | G47: FALSE
A48: Oefenen | B48: Gemengde opdrachten: opdracht 38 tm 44 (b;z. 64-65) | G48: FALSE
A49: Oefenen | B49: H1: Extra oefening: Opdracht E1 tm E15 (blz. 32-37) | G49: FALSE
A50: Maken & Nakijken | B50: H1 Oefenproefwerk (blz. 38-39) | G50: FALSE
A51: Keuzemenu | G51: FALSE
A52: WEEK 42 HERFSTVAKANTIE
A53: WK43: 19 t/m 23 okt. Vr. Daltondag | B53: TAKEN & OPDRACHTEN | H53: FALSE | I53: FALSE
A54: Oefenen | B54: H2: Extra oefening: Opdracht E1 tm E15 (blz. 66-71) | G54: FALSE
A55: Maken & Nakijken | B55: H2 Oefenproefwerk (blz. 72-73) | G55: FALSE
A56: Daltontaak | B56: Verdieping: Bruggen. Opdracht 1 tm 8 (blz. 82-85) | G56: FALSE
A57: Keuzemenu | G57: FALSE
A58: Keuzemenu | G58: FALSE
A59: WEEK 44 TOETSWEEK ONDERBOUW EN BOVENBOUW (MA. 26 OKT. T/M VR. 30 OKT.)
A61: UITDAGINGEN/EXTRA MOGELIJKHEDEN
A69: TOETS
A70: 1T Vaardigheden 1 en 3 4T Hoofdstuk 1 en 2
