Workbook

Sheet Overzicht
A2: BECO | D2: BI | G2: CKV | J2: DU | M2: ECO | P2: EN | S2: FA | V2: GS | Y2: NAT | AB2: NE | AE2: SK | AH2: SP | AK2: WISA | AN2: WISB | AQ2: WOA
A3: WK 35 | B3: =BECO!H16 -> FALSE | D3: WK 35 | E3: =BI!H16 -> FALSE | G3: WK 35 | H3: =CKV!H16 -> FALSE | J3: WK 35 | K3: =DU!H16 -> FALSE | M3: WK 35 | N3: =ECO!H16 -> FALSE | P3: WK 35 | Q3: =EN!H16 -> FALSE | S3: WK 35 | T3: =FA!H16 -> FALSE | V3: WK 35 | W3: =GS!H16 -> FALSE | Y3: WK 35 | Z3: =NAT!H16 -> FALSE | AB3: WK 35 | AC3: =NE!H16 -> FALSE | AE3: WK 35 | AF3: =SK!H16 -> FALSE | AH3: WK 35 | AI3: =SP!H16 -> FALSE | AK3: WK 35 | AL3: =WISA!H16 -> FALSE | AN3: WK 35 | AO3: =WISB!H16 -> FALSE | AQ3: WK 35 | AR3: =WOA!H16 -> FALSE
A4: WK 36 | B4: =BECO!H22 -> FALSE | D4: WK 36 | E4: =BI!H22 -> FALSE | G4: WK 36 | H4: =CKV!H22 -> FALSE | J4: WK 36 | K4: =DU!H22 -> FALSE | M4: WK 36 | N4: =ECO!H22 -> FALSE | P4: WK 36 | Q4: =EN!H22 -> FALSE | S4: WK 36 | T4: =FA!H22 -> FALSE | V4: WK 36 | W4: =GS!H22 -> FALSE | Y4: WK 36 | Z4: =NAT!H22 -> FALSE | AB4: WK 36 | AC4: =NE!H22 -> FALSE | AE4: WK 36 | AF4: =SK!H22 -> FALSE | AH4: WK 36 | AI4: =SP!H22 -> FALSE | AK4: WK 36 | AL4: =WISA!H22 -> FALSE | AN4: WK 36 | AO4: =WISB!H22 -> FALSE | AQ4: WK 36 | AR4: =WOA!H22 -> FALSE
A5: WK 37 | B5: =BECO!H28 -> FALSE | D5: WK 37 | E5: =BI!H28 -> FALSE | G5: WK 37 | H5: =CKV!H28 -> FALSE | J5: WK 37 | K5: =DU!H28 -> FALSE | M5: WK 37 | N5: =ECO!H28 -> FALSE | P5: WK 37 | Q5: =EN!H28 -> FALSE | S5: WK 37 | T5: =FA!H28 -> FALSE | V5: WK 37 | W5: =GS!H28 -> FALSE | Y5: WK 37 | Z5: =NAT!H28 -> FALSE | AB5: WK 37 | AC5: =NE!H28 -> FALSE | AE5: WK 37 | AF5: =SK!H28 -> FALSE | AH5: WK 37 | AI5: =SP!H28 -> FALSE | AK5: WK 37 | AL5: =WISA!H28 -> FALSE | AN5: WK 37 | AO5: =WISB!H28 -> FALSE | AQ5: WK 37 | AR5: =WOA!H28 -> FALSE
A6: WK 38 | B6: =BECO!H35 | D6: WK 38 | E6: =BI!H35 | G6: WK 38 | H6: =CKV!H35 | J6: WK 38 | K6: =DU!H35 | M6: WK 38 | N6: =ECO!H35 | P6: WK 38 | Q6: =EN!H35 | S6: WK 38 | T6: =FA!H35 | V6: WK 38 | W6: =GS!H35 | Y6: WK 38 | Z6: =NAT!H35 | AB6: WK 38 | AC6: =NE!H35 | AE6: WK 38 | AF6: =SK!H35 | AH6: WK 38 | AI6: =SP!H35 | AK6: WK 38 | AL6: =WISA!H35 | AN6: WK 38 | AO6: =WISB!H35 | AQ6: WK 38 | AR6: =WOA!H35
A7: WK 39 | B7: =BECO!H41 | D7: WK 39 | E7: =BI!H41 | G7: WK 39 | H7: =CKV!H41 | J7: WK 39 | K7: =DU!H41 | M7: WK 39 | N7: =ECO!H41 | P7: WK 39 | Q7: =EN!H41 | S7: WK 39 | T7: =FA!H41 | V7: WK 39 | W7: =GS!H41 | Y7: WK 39 | Z7: =NAT!H41 | AB7: WK 39 | AC7: =NE!H41 | AE7: WK 39 | AF7: =SK!H41 | AH7: WK 39 | AI7: =SP!H41 | AK7: WK 39 | AL7: =WISA!H41 | AN7: WK 39 | AO7: =WISB!H41 | AQ7: WK 39 | AR7: =WOA!H41
A8: WK 40 | B8: =BECO!H47 | D8: WK 40 | E8: =BI!H47 | G8: WK 40 | H8: =CKV!H47 | J8: WK 40 | K8: =DU!H47 | M8: WK 40 | N8: =ECO!H47 | P8: WK 40 | Q8: =EN!H47 | S8: WK 40 | T8: =FA!H47 | V8: WK 40 | W8: =GS!H47 | Y8: WK 40 | Z8: =NAT!H47 | AB8: WK 40 | AC8: =NE!H47 | AE8: WK 40 | AF8: =SK!H47 | AH8: WK 40 | AI8: =SP!H47 | AK8: WK 40 | AL8: =WISA!H47 | AN8: WK 40 | AO8: =WISB!H47 | AQ8: WK 40 | AR8: =WOA!H47
A9: WK 41 | B9: =BECO!H54 | D9: WK 41 | E9: =BI!H54 | G9: WK 41 | H9: =CKV!H54 | J9: WK 41 | K9: =DU!H54 | M9: WK 41 | N9: =ECO!H54 | P9: WK 41 | Q9: =EN!H54 | S9: WK 41 | T9: =FA!H54 | V9: WK 41 | W9: =GS!H54 | Y9: WK 41 | Z9: =NAT!H54 | AB9: WK 41 | AC9: =NE!H54 | AE9: WK 41 | AF9: =SK!H54 | AH9: WK 41 | AI9: =SP!H54 | AK9: WK 41 | AL9: =WISA!H54 | AN9: WK 41 | AO9: =WISB!H54 | AQ9: WK 41 | AR9: =WOA!H54
A10: WK 43 | B10: =BECO!H60 | D10: WK 43 | E10: =BI!H60 | G10: WK 43 | H10: =CKV!H60 | J10: WK 43 | K10: =DU!H60 | M10: WK 43 | N10: =ECO!H60 | P10: WK 43 | Q10: =EN!H60 | S10: WK 43 | T10: =FA!H60 | V10: WK 43 | W10: =GS!H60 | Y10: WK 43 | Z10: =NAT!H60 | AB10: WK 43 | AC10: =NE!H60 | AE10: WK 43 | AF10: =SK!H60 | AH10: WK 43 | AI10: =SP!H60 | AK10: WK 43 | AL10: =WISA!H60 | AN10: WK 43 | AO10: =WISB!H60 | AQ10: WK 43 | AR10: =WOA!H60

Sheet BECO
B1: BEDRIJFSECONOMIE (BECO) | K1: PERIODE 1
A3: ALGEMENE INFORMATIE
A4: We werken met een werkboek bij BECO van Cumulus. In dit werkboek begint ieder hoofdstuk met theorie van de lesstof en daarna volgen de opgaven.
A5: BECO is een doevak. Het is daarom belangrijk dat je jouw weektaken maakt en dat je leert van je fouten (maken en nakijken). We hebben naast het werkboek ook een digitale ondersteuning van Cumulus
A6: Daarin staan o.a. de antwoorden van de opgaven. Je kunt de digitale leeromgeving ook gebruiken om de oefenen met de begrippen (begrippentrainer) en het maken van een
A7: formatieve toets (test jezelf). Begrippentrainer en test jezelf kan heel goed worden ingezet tijdens een dalton uur (dalton taken) om vast te stellen of je de doorgenomen stof begrijpt.
A9: VAKINHOUD | H9: IK HEB HET GEDAAN | I9: IK BEHEERS HET | J9: RUIMTE VOOR REFLECTIE
A10: WK35: 24 t/m 28 aug. | B10: TAKEN & OPDRACHTEN | H10: FALSE | I10: FALSE
A11: Kijken & Luisteren | B11: 1.1 Ontvangsten en Uitgaven. Introductieles (les 1) en opstarten les 2 (O1.1) | G11: FALSE
A12: Maken & Nakijken | B12: O 1.1 | G12: FALSE
A13: Daltontaak (optioneel) | B13: Doornemen theorie 1.1 Ontvangsten en Uitgaven | G13: FALSE
A14: Keuzemenu | G14: FALSE
A15: Keuzemenu | G15: FALSE
A16: WK36: 31 t/m 4 sep. | B16: TAKEN & OPDRACHTEN | H16: FALSE | I16: FALSE
A17: Kijken & Luisteren | B17: 1.1 Ontvangsten en uitgaven Les 4 (Besparen op uitgaven), les 5 (Procenten | G17: FALSE
A18: Maken & Nakijken | B18: O1.4 en 1.5 | G18: FALSE
A19: Daltontaak (optioneel) | B19: Doornemen theorie 1.1 Ontvangsten en Uitgaven | G19: FALSE
A20: Keuzemenu | G20: FALSE
A21: Keuzemenu | G21: FALSE
A22: WK37: 7 t/m 11 sep. Examenreisweek | B22: TAKEN & OPDRACHTEN | H22: FALSE | I22: FALSE
A23: Aantekening | B23: Reisweek | G23: FALSE
A24: Keuzemenu | G24: FALSE
A25: Keuzemenu | G25: FALSE
A26: Keuzemenu | G26: FALSE
A27: Keuzemenu | G27: FALSE
A28: WK38: 14 t/m 18 sep. | B28: TAKEN & OPDRACHTEN | H28: FALSE | I28: FALSE
A29: Kijken & Luisteren | B29: 1.1 Ontvangsten en uitgaven les 6 (Indexcijfers) en Consumptief krediet les 1 (intro; videoles) | G29: FALSE
A30: Maken & Nakijken | B30: O 1.6 | G30: FALSE
A31: Daltontaak (optioneel) | B31: Doornemen theorie 1.1 Ontvangsten en Uitgaven. Alle opgaven H1.1 gedaan? Oefenen met begrippentrainer en test jezelf 1.1 (formatieve toets of je de toets goed begrijpt) | G31: FALSE
A32: Keuzemenu | G32: FALSE
A33: Keuzemenu | G33: FALSE
A34: WK39: 21 t/m 25 sep. | B34: TAKEN & OPDRACHTEN | H34: FALSE | I34: FALSE
A35: Kijken & Luisteren | B35: 1.2 Consumptief krediet les 2 (Persoonlijke lening) en les 3 (Consumptief krediet deel 1) | G35: FALSE
A36: Maken & Nakijken | B36: O 1.7 en 1.8 | G36: FALSE
A37: Daltontaak (optioneel) | B37: Doornemen theorie 1.2 Consumptief krediet | G37: FALSE
A38: Keuzemenu | G38: FALSE
A39: Keuzemenu | G39: FALSE
A40: WK40: 28 t/m 2 okt. | B40: TAKEN & OPDRACHTEN | H40: FALSE | I40: FALSE
A41: Kijken & Luisteren | B41: 1.2 Consumptief krediet les 3 (Consumptief krediet deel 2) en les 4 (Private Lease). | G41: FALSE
A42: Maken & Nakijken | B42: O 1.9 t/m 1.12 | G42: FALSE
A43: Daltontaak (optioneel) | B43: Doornemen theorie 1.2 Consumptief krediet | G43: FALSE
A44: Keuzemenu | G44: FALSE
A45: Keuzemenu | G45: FALSE
A46: WK41: 5 t/m 9 okt. Di. Brugklasdag | B46: TAKEN & OPDRACHTEN | H46: FALSE | I46: FALSE
A47: Kijken & Luisteren | B47: 1.2 Consumptief krediet les 5 (Werkles) | G47: FALSE
A48: Maken & Nakijken | B48: O 1.13 t/m 1.15 | G48: FALSE
A49: Daltontaak (optioneel) | B49: Doornemen theorie 1.2 Consumptief krediet en maken van H1.2 begrippentrainer en test jezelf (formatieve toets). | G49: FALSE
A50: Keuzemenu | G50: FALSE
A51: Keuzemenu | G51: FALSE
A52: WEEK 42 HERFSTVAKANTIE
A53: WK43: 19 t/m 23 okt. Vr. Daltondag | B53: TAKEN & OPDRACHTEN | H53: FALSE | I53: FALSE
A54: Kijken & Luisteren | B54: Excel les 1 en les voorbereiden toetsweek | G54: FALSE
A55: Maken & Nakijken | B55: via digitale leeromgeving Cumulus van H 1.1 Ontvangsten en uitgaven en H 1.2 Consumptief krediet begrippentrainer en test jezelf maken. | G55: FALSE
A56: Keuzemenu | G56: FALSE
A57: Keuzemenu | G57: FALSE
A58: Keuzemenu | G58: FALSE
A59: WEEK 44 TOETSWEEK ONDERBOUW EN BOVENBOUW (MA. 26 OKT. T/M VR. 30 OKT.)
A61: UITDAGINGEN/EXTRA MOGELIJKHEDEN
A62: Maken van test jezelf 1.1 en 1.2 tot dat je ze allemaal goed hebt. Oefening baart kunst van van fouten leer je (zonder reflectie geen ontwikkeling)
A69: TOETS
A70: 2-toets BECO in toetsweek (90 minuten) over 1.1 Ontvangsten en Uitgaven en 1.2 Consumptief krediet.
A72: Hoe voorbereiden? 1)Doornemen theorie werkboek H1.1 Ontvangsten en Uitgaven en 1.2 Consumptief krediet; 2)Test jezelf H 1.1 en H1.2 maken in digitale leeromgeving Cumulus. Meerdere keren opnieuw maken. Van fouten leren (zonder reflectie geen ontwikkeling); 3)Doornemen powerpoints cumulus met aanvulling Huisman (zie studiewijzer Som);

Sheet BI
B1: BIOLOGIE (BI) | K1: PERIODE 1
A3: ALGEMENE INFORMATIE
A4: Bij biologie gebruiken we de methode Biologie voor jou Max editie (uitgever Malmberg)
A5: Wij starten met Boek A, neem die elke les mee + een schrift om de antwoorden in te schrijven.
A6: In Somtoday in de bijlagen van biologie vind je zaken zoals de Powerpoints, antwoordmodellen en hulpstencils.
A7: Het is handig om een snelhechter of map mee te nemen voor alle stencils die je krijgt.
A9: VAKINHOUD | H9: IK HEB HET GEDAAN | I9: IK BEHEERS HET | J9: RUIMTE VOOR REFLECTIE
A10: WK35: 24 t/m 28 aug. | B10: TAKEN & OPDRACHTEN | H10: FALSE | I10: FALSE
A11: Kijken & Luisteren | B11: Hoe is het vak biologie opgebouwd in 4 havo? | G11: FALSE
A12: Test jezelf | B12: Instaptoets onderbouw voor het onderwerp Inleiding in de biologie | G12: FALSE
A13: Lezen | B13: §1.1 | G13: FALSE
A14: Maken | B14: Opdrachten van §1.1 | G14: FALSE
A15: Daltontaak (verplicht) | B15: Microscoop onderdelen en functies oefenen (blz. 62) - stencil invullen | G15: FALSE
A16: WK36: 31 t/m 4 sep. | B16: TAKEN & OPDRACHTEN | H16: FALSE | I16: FALSE
A17: Lezen | B17: §1.2 + §1.3 | G17: FALSE
A18: Maken | B18: Opdrachten van §1.2 | G18: FALSE
A19: Maken | B19: Opdrachten van §1.2 | G19: FALSE
A20: Practicum | B20: Preparaat maken en oefenen met vergrotingen | G20: FALSE
A21: Keuzemenu | G21: FALSE
A22: WK37: 7 t/m 11 sep. Examenreisweek | B22: TAKEN & OPDRACHTEN | H22: FALSE | I22: FALSE
A23: Lezen | B23: §1.4 | G23: FALSE
A24: Maken | B24: Opdrachten van §1.4 | G24: FALSE
A25: Practicum | B25: Preparaat maken en tekening maken dierlijke cel (wangslijmvlies, blz. 70) | G25: FALSE
A26: Daltontaak (optioneel) | B26: Invuloefening organellen dierlijke en plantaardige cel / spel 'organellen slang' | G26: FALSE
A27: Keuzemenu | G27: FALSE
A28: WK38: 14 t/m 18 sep. | B28: TAKEN & OPDRACHTEN | H28: FALSE | I28: FALSE
A29: Lezen | B29: §1.5 t/m blz. 51 | G29: FALSE
A30: Maken | B30: Opdrachten van §1.5 t/m blz.51 | G30: FALSE
A31: Practicum | B31: Preparaat maken en tekening maken plantaardige cel (ui, blz. 81) | G31: FALSE
A32: Test jezelf | B32: Formatieve toets §1.1 t/m §1.4 | G32: FALSE
A33: Keuzemenu | G33: FALSE
A34: WK39: 21 t/m 25 sep. | B34: TAKEN & OPDRACHTEN | H34: FALSE | I34: FALSE
A35: Lezen | B35: §1.5 vanaf blz. 51 | G35: FALSE
A36: Maken | B36: Opdrachten van §1.5 vanaf blz.51 | G36: FALSE
A37: Practicum | B37: Tekening maken van plantencellen met bladgroenkorrels (waterpest) | G37: FALSE
A38: Onderzoeken | B38: Eieren ontschalen voor osmoseproef / zadenproef inzetten / verdunningsreeks maken / werking osmometer bestuderen (blz. 67) | G38: FALSE
A39: Keuzemenu | G39: FALSE
A40: WK40: 28 t/m 2 okt. | B40: TAKEN & OPDRACHTEN | H40: FALSE | I40: FALSE
A41: Lezen | B41: §1.6 | G41: FALSE
A42: Maken | B42: Opdrachten van §1.6 | G42: FALSE
A43: Onderzoeken | B43: Eieren inzetten voor osmoseproef / zadenproef metingen doen / werking osmometer bestuderen (blz. 87) | G43: FALSE
A44: Practicum | B44: Plasmolyse bij rode uivliescellen bestuderen: tekeningen maken van vóór en nà toevoeging van zoutoplossing (blz. 84) | G44: FALSE
A45: Daltontaak (optioneel) | B45: PowerPoint over onderzoek doen bestuderen: welk onderdeel zou je nog willen oefenen voor de toets? | G45: FALSE
A46: WK41: 5 t/m 9 okt. Di. Brugklasdag | B46: TAKEN & OPDRACHTEN | H46: FALSE | I46: FALSE
A47: Schrijven | B47: Verslag van mini-onderzoek maken en bij elkaar checken of alle onderdelen van een verslag begrepen zijn (blz. 79-80) | G47: FALSE
A48: Practicum | B48: Inzetten Praktisch onderzoek osmose bij aardappelcellen en na maximaal 48 uur meten resultaten | G48: FALSE
A49: Toets | B49: Praktische opdracht (2 toets): - verslag van osmose bij aardappelcellen bij verschillende zoutconcentraties | G49: FALSE
A50: Keuzemenu | G50: FALSE
A51: Keuzemenu | G51: FALSE
A52: WEEK 42 HERFSTVAKANTIE
A53: WK43: 19 t/m 23 okt. Vr. Daltondag | B53: TAKEN & OPDRACHTEN | H53: FALSE | I53: FALSE
A54: Schrijven | B54: Afmaken verslag van osmose bij aardappelcellen | G54: FALSE
A55: Herhalen | B55: Leerstof Thema 1 Inleiding in de biologie §1.1 t/m §1.6 (4 toets) | G55: FALSE
A56: Daltontaak (optioneel) | B56: Maak je eigen samenvattting van Thema 1, bijvoorbeeld door het in tekeningen uit te leggen | G56: FALSE
A57: Keuzemenu | G57: FALSE
A58: Keuzemenu | G58: FALSE
A59: WEEK 44 TOETSWEEK ONDERBOUW EN BOVENBOUW (MA. 26 OKT. T/M VR. 30 OKT.)
A61: UITDAGINGEN/EXTRA MOGELIJKHEDEN
A69: TOETS
A70: - 2 toets PO osmose bij aardappelcellen
A72: - 4 toets (90 minuten) over Thema 1 Inleiding in de biologie §1.1 t/m §1.6

Sheet CKV
B1: CULTURELE EN KUNSTZINNIGE VORMING (CKV) | K1: PERIODE 1
A3: ALGEMENE INFORMATIE
A4: Welkom in de bovenbouw, vanaf wordt nu wordt het leuk, je gaat je eigen weg vinden in leren, jezelf beter ontdekken en er komen hele nieuwe dingen op je pad, zoals het vak ckv. Het vak dat je 1 jaar krijgt en onderdeel is van je eindrapport. het vak dat je leert hoe je nar jezelf kijkt en wat je van de maatschappij vindt via kunst en ciltuur. Deze laatste drie onderdelen gaan we behandelen in het vak ckv, die jullie afsluiten dit jaar met je eigen leervraag en invulling. Maar eerst starten we bij het begin, jezelf. Waar ben je goed in, hoe denk je over bepaalde dingen en hoe laat je dat zien. Waarin je eerst een fotoserie gaat maken waarin deze vragen beantwoordt worden, ga je deze op een speciale manoer presenteren, namelijk: de Pecha Kucha.
A5: Je hebt hiervoor niks meer nodig dan pen, papier een camera en een tablet
A6: Op het einde van deze periode is het de bedoeling dat je meer over jezelf te weten bent gekomen en dit op een kunstzinnige manier kunnen presenteren.
A9: VAKINHOUD | H9: IK HEB HET GEDAAN | I9: IK BEHEERS HET | J9: RUIMTE VOOR REFLECTIE
A10: WK35: 24 t/m 28 aug. | B10: TAKEN & OPDRACHTEN | H10: FALSE | I10: FALSE
A11: Doen | B11: aanmelden Classroom | G11: FALSE
A12: Keuzemenu | G12: FALSE
A13: Keuzemenu | G13: FALSE
A14: Keuzemenu | G14: FALSE
A15: Keuzemenu | G15: FALSE
A16: WK36: 31 t/m 4 sep. | B16: TAKEN & OPDRACHTEN | H16: FALSE | I16: FALSE
A17: Schrijven | B17: Fotoserie: 1 Inhoudelijke kaders (rode draad) | G17: FALSE
A18: Maken | B18: Foto's maken | G18: FALSE
A19: Keuzemenu | G19: FALSE
A20: Keuzemenu | G20: FALSE
A21: Keuzemenu | G21: FALSE
A22: WK37: 7 t/m 11 sep. Examenreisweek | B22: TAKEN & OPDRACHTEN | H22: FALSE | I22: FALSE
A23: Maken | B23: Fotoserie: 2 kwantiteit en selectie | G23: FALSE
A24: Maken | B24: Fotoserie: 3 technische en visuele kaders | G24: FALSE
A25: Keuzemenu | G25: FALSE
A26: Keuzemenu | G26: FALSE
A27: Keuzemenu | G27: FALSE
A28: WK38: 14 t/m 18 sep. | B28: TAKEN & OPDRACHTEN | H28: FALSE | I28: FALSE
A29: Inleveren | B29: Fotoserie | G29: FALSE
A30: Maken | B30: Pecha Kucha: stap 1,2,3 (begrijp het ritme, selecteer en sorteer je beelden, schrijf je script (per dia)) | G30: FALSE
A31: Keuzemenu | G31: FALSE
A32: Keuzemenu | G32: FALSE
A33: Keuzemenu | G33: FALSE
A34: WK39: 21 t/m 25 sep. | B34: TAKEN & OPDRACHTEN | H34: FALSE | I34: FALSE
A35: Oefenen | B35: Pecha Kucha: stap 4,5 (opmaak visuals, repeteren) | G35: FALSE
A36: Keuzemenu | G36: FALSE
A37: Keuzemenu | G37: FALSE
A38: Keuzemenu | G38: FALSE
A39: Keuzemenu | G39: FALSE
A40: WK40: 28 t/m 2 okt. | B40: TAKEN & OPDRACHTEN | H40: FALSE | I40: FALSE
A41: Spreken | B41: Pecha kucha: stap 6 (uitvoeren) | G41: FALSE
A42: Keuzemenu | G42: FALSE
A43: Keuzemenu | G43: FALSE
A44: Keuzemenu | G44: FALSE
A45: Keuzemenu | G45: FALSE
A46: WK41: 5 t/m 9 okt. Di. Brugklasdag | B46: TAKEN & OPDRACHTEN | H46: FALSE | I46: FALSE
A47: Spreken | B47: Pecha Kucha: stap 6 (uitvoeren) | G47: FALSE
A48: Keuzemenu | G48: FALSE
A49: Keuzemenu | G49: FALSE
A50: Keuzemenu | G50: FALSE
A51: Keuzemenu | G51: FALSE
A52: WEEK 42 HERFSTVAKANTIE
A53: WK43: 19 t/m 23 okt. Vr. Daltondag | B53: TAKEN & OPDRACHTEN | H53: FALSE | I53: FALSE
A54: Spreken | B54: Pecha Kucha: stap 6 (uitvoeren) | G54: FALSE
A55: Keuzemenu | G55: FALSE
A56: Keuzemenu | G56: FALSE
A57: Keuzemenu | G57: FALSE
A58: Keuzemenu | G58: FALSE
A59: WEEK 44 TOETSWEEK ONDERBOUW EN BOVENBOUW (MA. 26 OKT. T/M VR. 30 OKT.)
A61: UITDAGINGEN/EXTRA MOGELIJKHEDEN
A69: TOETS

Sheet DU
B1: DUITS (DU) | K1: PERIODE 1
A3: ALGEMENE INFORMATIE
A4: Studiewijzer V4
A5: Wij gaan ons dit jaar vooral focusen op begrijpend lezen, idioom en literatuur.
A6: Jij hebt nodig, jouw boek Neue Kontakte, neem die altijd mee. de weekplanner die wij op het bord laten zien zijn leidend.
A7: Schrijft boek en pen alijtd mee.
A9: VAKINHOUD | H9: IK HEB HET GEDAAN | I9: IK BEHEERS HET | J9: RUIMTE VOOR REFLECTIE
A10: WK35: 24 t/m 28 aug. | B10: TAKEN & OPDRACHTEN | H10: FALSE | I10: FALSE
A11: Doen | B11: Welkom in het nieuwe schooljaar | G11: FALSE
A12: Extra !!! Let op!! | B12: Uitdelen examen Idioom | G12: FALSE
A13: Woordenschat en spreken | B13: Wie waren die Ferien und sich vorstellen | G13: FALSE
A14: Keuzemenu | G14: FALSE
A15: Daltontaak (verplicht) | B15: Leer de woorden van hoofdstuk 1 zoals altijd P. 63 D-N en het examenidioom doorlezen, verplicht meenemen naar de lessen | G15: FALSE
A16: WK36: 31 t/m 4 sep. | B16: TAKEN & OPDRACHTEN | H16: FALSE | I16: FALSE
A17: Kijken & Luisteren | B17: Seite 12 und 13 Aufgabe 2 bis 4 | G17: FALSE
A18: Lezen | B18: Seite 15 und 17 Aufgabe 9 bis 13 Zoals afgelopen jaar, Onderstreep de woorden in de teksten die je niet kent, gebruik het examenidioom en de Lernliste voor de vertalingen. | G18: FALSE
A19: Keuzemenu | G19: FALSE
A20: Keuzemenu | G20: FALSE
A21: Daltontaak (verplicht) | B21: Grammatik herhaling: Seite 20 und 21 Aufgaben 17, 18 bei 19 Fragen und Antworten aufschreiben, herhaal en leer de woorden S. 63 und 64 | G21: FALSE
A22: WK37: 7 t/m 11 sep. Examenreisweek | B22: TAKEN & OPDRACHTEN | H22: FALSE | I22: FALSE
A23: Doen | B23: Examenreis | G23: FALSE
A24: Doen | B24: Examenreis | G24: FALSE
A25: Doen | B25: Examenreis | G25: FALSE
A26: Keuzemenu | G26: FALSE
A27: Daltontaak (verplicht) | B27: Grammatik herhaling: Seite 20 und 21 Aufgaben 17, 18 bei 19 Fragen und Antworten aufschreiben, herhaal en leer de woorden S. 63 und 64 | G27: FALSE
A28: WK38: 14 t/m 18 sep. | B28: TAKEN & OPDRACHTEN | H28: FALSE | I28: FALSE
A29: Woordenschat en spreken | B29: Seite 26, 27 Aufgabe 28 bis 31 | G29: FALSE
A30: Herhalen | B30: Bespreken Daltontaak | G30: FALSE
A31: Lezen | B31: Seite 17 bis 19, übersetze die Fragen und Antworten, unterstreiche die Wörter die du nicht verstehst | G31: FALSE
A32: Keuzemenu | G32: FALSE
A33: Daltontaak (verplicht) | B33: Leer de woorden Lernliste S. 64 D-N, het bezoek tot samenwonen en het examenidioom Cito vragen Seite 3 D-N | G33: FALSE
A34: WK39: 21 t/m 25 sep. | B34: TAKEN & OPDRACHTEN | H34: FALSE | I34: FALSE
A35: Lezen | B35: S 17 - 19, Aufgabe 15 und 16 fertig | G35: FALSE
A36: Woordenschat en spreken | B36: S 28, 29 Aufgabe 32 | G36: FALSE
A37: Keuzemenu | G37: FALSE
A38: Keuzemenu | G38: FALSE
A39: Daltontaak (verplicht) | B39: Leer de woorden Lernliste S. 64 D-N, het bezoek tot samenwonen en het examenidioom Cito vragen Seite 4 und 5D-N | G39: FALSE
A40: WK40: 28 t/m 2 okt. | B40: TAKEN & OPDRACHTEN | H40: FALSE | I40: FALSE
A41: Schrijven | B41: Seite 34 und 35 Aufgabe 42 bis 45, Seite 36 und 37 Aufgabe 1 bis 3, examenidioom Seite 6 und 7, signaalwoorden met tekstverband, leer Seite 65 D-N | G41: FALSE
A42: Kijken & Luisteren | B42: Seite 38 und 39 Aufgaba 46 und 47 | G42: FALSE
A43: Keuzemenu | G43: FALSE
A44: Extra !!! Let op!! | B44: Aanstaande week toets | G44: FALSE
A45: Daltontaak (verplicht) | B45: Seite 47 und 48, Aufgaben 56 und 57, Seite 48 und 49, Aufgaben 58 und 59, leer het examenidioom Seite 8 und 9, herhaal de woorden Lernliste Seite 63 bis 65 bis D | G45: FALSE
A46: WK41: 5 t/m 9 okt. Di. Brugklasdag | B46: TAKEN & OPDRACHTEN | H46: FALSE | I46: FALSE
A47: Doen | B47: Stel je vragen vandaag, Land und Kultur, | G47: FALSE
A48: Grammatik | B48: Seite 45 und 46, Aufgabe 51 bis 53 | G48: FALSE
A49: Toets | B49: Examenidioom 1 toets | G49: FALSE
A50: Keuzemenu | G50: FALSE
A51: Daltontaak (verplicht) | B51: Seite 52 und 53, Aufgaben 65 und 66, leer de woorden van de Lernsliste Seite 65 und 66 von Kompromiss bis reagieren | G51: FALSE
A52: WEEK 42 HERFSTVAKANTIE
A53: WK43: 19 t/m 23 okt. Vr. Daltondag | B53: TAKEN & OPDRACHTEN | H53: FALSE | I53: FALSE
A54: Toets | B54: Stel je vragen vandaag, Land und Kultur voor de toetsweek | G54: FALSE
A55: Schrijven | B55: Seite 58 und 59 Aufgaben 78 - 80 | G55: FALSE
A56: Keuzemenu | G56: FALSE
A57: Keuzemenu | G57: FALSE
A58: Daltontaak (verplicht) | B58: Rond je schrijfopdracht af Seite 59, Aufgabe 80 und seite 53 und 54 Aufgabe 68 und 69, lern de woorden Seite 65 Streiten bis weil | G58: FALSE
A59: WEEK 44 TOETSWEEK ONDERBOUW EN BOVENBOUW (MA. 26 OKT. T/M VR. 30 OKT.)
A61: UITDAGINGEN/EXTRA MOGELIJKHEDEN
A69: TOETS
A70: Examenidioomtoets week 41
A72: Toetsweek toets Hoofdstuktoets 1

Sheet ECO
B1: ECONOMIE (ECO) | K1: PERIODE 1
A3: ALGEMENE INFORMATIE
A4: Welkomswoordje
A5: Wat gaan we deze periode doen? Wat is de Daltontaak? Wat houd de Daltontaak in?
A6: Welke boeken/spullen/materialen zijn er nodig?
A7: Wat moet je geleerd hebben na deze periode?
A9: VAKINHOUD | H9: IK HEB HET GEDAAN | I9: IK BEHEERS HET | J9: RUIMTE VOOR REFLECTIE
A10: WK35: 24 t/m 28 aug. | B10: TAKEN & OPDRACHTEN | H10: FALSE | I10: FALSE
A11: Kijken & Luisteren | B11: Lesbrief Levensloop meenemen! | G11: FALSE
A12: Keuzemenu | G12: FALSE
A13: Maken & Nakijken | B13: Opdracht 1.1 t/m 1.8 | G13: FALSE
A14: Keuzemenu | G14: FALSE
A15: Keuzemenu | G15: FALSE
A16: WK36: 31 t/m 4 sep. | B16: TAKEN & OPDRACHTEN | H16: FALSE | I16: FALSE
A17: Maken & Nakijken | B17: Opdracht 1.9 t/m 1.16 | G17: FALSE
A18: Keuzemenu | G18: FALSE
A19: Daltontaak (verplicht) | B19: Opdracht 1.17 t/m 1.13 | G19: FALSE
A20: Daltontaak (optioneel) | B20: Uitwerken leerdoelen HO1 (en werken aan weektaak) | G20: FALSE
A21: Keuzemenu | G21: FALSE
A22: WK37: 7 t/m 11 sep. Examenreisweek | B22: TAKEN & OPDRACHTEN | H22: FALSE | I22: FALSE
A23: Oefenen | B23: Uitloop HO1 | G23: FALSE
A24: Keuzemenu | G24: FALSE
A25: Keuzemenu | G25: FALSE
A26: Keuzemenu | G26: FALSE
A27: Keuzemenu | G27: FALSE
A28: WK38: 14 t/m 18 sep. | B28: TAKEN & OPDRACHTEN | H28: FALSE | I28: FALSE
A29: Maken & Nakijken | B29: Opdracht 2.1 t/m 2.7 | G29: FALSE
A30: Keuzemenu | G30: FALSE
A31: Keuzemenu | G31: FALSE
A32: Keuzemenu | G32: FALSE
A33: Keuzemenu | G33: FALSE
A34: WK39: 21 t/m 25 sep. | B34: TAKEN & OPDRACHTEN | H34: FALSE | I34: FALSE
A35: Maken & Nakijken | B35: Opdracht 2.8 t/m 2.15 | G35: FALSE
A36: Keuzemenu | G36: FALSE
A37: Daltontaak (verplicht) | B37: Opdracht 2.16 t/m 2.26 | G37: FALSE
A38: Daltontaak (optioneel) | B38: Uitwerken leerdoelen HO2 (en werken aan weektaak) | G38: FALSE
A39: Keuzemenu | G39: FALSE
A40: WK40: 28 t/m 2 okt. | B40: TAKEN & OPDRACHTEN | H40: FALSE | I40: FALSE
A41: Maken & Nakijken | B41: Opdracht 3.1 t/m 3.14 | G41: FALSE
A42: Keuzemenu | G42: FALSE
A43: Keuzemenu | G43: FALSE
A44: Keuzemenu | G44: FALSE
A45: Keuzemenu | G45: FALSE
A46: WK41: 5 t/m 9 okt. Di. Brugklasdag | B46: TAKEN & OPDRACHTEN | H46: FALSE | I46: FALSE
A47: Maken & Nakijken | B47: Opdracht 3.15 t/m 3.25 | G47: FALSE
A48: Keuzemenu | G48: FALSE
A49: Daltontaak (optioneel) | B49: Uitwerken leerdoelen HO3 (en werken aan weektaak) | G49: FALSE
A50: Keuzemenu | G50: FALSE
A51: Keuzemenu | G51: FALSE
A52: WEEK 42 HERFSTVAKANTIE
A53: WK43: 19 t/m 23 okt. Vr. Daltondag | B53: TAKEN & OPDRACHTEN | H53: FALSE | I53: FALSE
A54: Herhalen | B54: Bestuderen H1, H2 en H3 | G54: FALSE
A55: Keuzemenu | G55: FALSE
A56: Keuzemenu | G56: FALSE
A57: Keuzemenu | G57: FALSE
A58: Keuzemenu | G58: FALSE
A59: WEEK 44 TOETSWEEK ONDERBOUW EN BOVENBOUW (MA. 26 OKT. T/M VR. 30 OKT.)
A61: UITDAGINGEN/EXTRA MOGELIJKHEDEN
A69: TOETS
A70: In de toetsweek. De te besuderen stof: H1, H2 en H3

Sheet EN
B1: ENGELS (EN) | K1: PERIODE 1
A3: ALGEMENE INFORMATIE
A4: Period 1 - Newscast
A5: During the lesson series in period 1, you will practice your speaking and reading skills
A6: You will look again at the following grammar: questions and negations, future tense and word order
A7: For every lesson you need to bring a charged iPad, working earbuds/headphones, a pen and a notebook
A9: VAKINHOUD | H9: IK HEB HET GEDAAN | I9: IK BEHEERS HET | J9: RUIMTE VOOR REFLECTIE
A10: WK35: 24 t/m 28 aug. | B10: TAKEN & OPDRACHTEN | H10: FALSE | I10: FALSE
A11: Doen | B11: Overview and introduction of English and period 1 | G11: FALSE
A12: Maken & Nakijken | B12: Text 1 - The sky's the limit - read the text and answer the questions | G12: FALSE
A13: Daltontaak (verplicht) | B13: Work on the 4T - Newscast with your group. | G13: FALSE
A14: Daltontaak (verplicht) | B14: Go to the library to pick up a book that has a green sticker and is worth 1 point. | G14: FALSE
A15: Keuzemenu | G15: FALSE
A16: WK36: 31 t/m 4 sep. | B16: TAKEN & OPDRACHTEN | H16: FALSE | I16: FALSE
A17: Maken & Nakijken | B17: Text 1 - The sky's the limit - finish the vocab. and grammar exercises | G17: FALSE
A18: Daltontaak (verplicht) | B18: Work on the 4T - Newscast with your group. | G18: FALSE
A19: Daltontaak (verplicht) | B19: Go to the library to pick up a book that has a green sticker and is worth 1 point. | G19: FALSE
A20: Keuzemenu | G20: FALSE
A21: Keuzemenu | G21: FALSE
A22: WK37: 7 t/m 11 sep. Examenreisweek | B22: TAKEN & OPDRACHTEN | H22: FALSE | I22: FALSE
A23: Maken & Nakijken | B23: Text 2 - The future of food - read the text and answer the questions | G23: FALSE
A24: Maken & Nakijken | B24: Text 2 - The future of food - finish the vocab. and grammar exercises | G24: FALSE
A25: Daltontaak (verplicht) | B25: Read your book (should be finished at the end of period 2). We recommend that you sign up for at least one daltonperiod to read. | G25: FALSE
A26: Keuzemenu | G26: FALSE
A27: Keuzemenu | G27: FALSE
A28: WK38: 14 t/m 18 sep. | B28: TAKEN & OPDRACHTEN | H28: FALSE | I28: FALSE
A29: Daltontaak (verplicht) | B29: Work on the 4T - Newscast with your group. | G29: FALSE
A30: Maken & Nakijken | B30: Text 3 - Fungi fashion - read the text and answer the questions | G30: FALSE
A31: Daltontaak (verplicht) | B31: Read your book (should be finished at the end of period 2). We recommend that you sign up for at least one daltonperiod to read. | G31: FALSE
A32: Keuzemenu | G32: FALSE
A33: Keuzemenu | G33: FALSE
A34: WK39: 21 t/m 25 sep. | B34: TAKEN & OPDRACHTEN | H34: FALSE | I34: FALSE
A35: Maken & Nakijken | B35: Text 3 - Fungi fashion - finish the vocab. and grammar exercises | G35: FALSE
A36: Daltontaak (verplicht) | B36: Work on the 4T - Newscast with your group. | G36: FALSE
A37: Daltontaak (verplicht) | B37: Read your book (should be finished at the end of period 2). We recommend that you sign up for at least one daltonperiod to read. | G37: FALSE
A38: Keuzemenu | G38: FALSE
A39: Keuzemenu | G39: FALSE
A40: WK40: 28 t/m 2 okt. | B40: TAKEN & OPDRACHTEN | H40: FALSE | I40: FALSE
A41: Maken & Nakijken | B41: Text 4 or 5 (your choice) - finish the questions that belong to the text and the vocab. and grammar exercises | G41: FALSE
A42: Reflectie | B42: Peer-feedback session - Make sure you have a large part of the 4T - Newscast ready | G42: FALSE
A43: Daltontaak (verplicht) | B43: Read your book (should be finished at the end of period 2). We recommend that you sign up for at least one daltonperiod to read. | G43: FALSE
A44: Keuzemenu | G44: FALSE
A45: Keuzemenu | G45: FALSE
A46: WK41: 5 t/m 9 okt. Di. Brugklasdag | B46: TAKEN & OPDRACHTEN | H46: FALSE | I46: FALSE
A47: Toets | B47: 0T - Vocabulary A - study the words in LearnBeat (English to Dutch) | G47: FALSE
A48: Inleveren | B48: Hand in your 4T - Newscast for a GO or a NO GO. | G48: FALSE
A49: Daltontaak (verplicht) | B49: Read your book (should be finished at the end of period 2). We recommend that you sign up for at least one daltonperiod to read. | G49: FALSE
A50: Keuzemenu | G50: FALSE
A51: Keuzemenu | G51: FALSE
A52: WEEK 42 HERFSTVAKANTIE
A53: WK43: 19 t/m 23 okt. Vr. Daltondag | B53: TAKEN & OPDRACHTEN | H53: FALSE | I53: FALSE
A54: Daltontaak (verplicht) | B54: Work on the 4T - Newscast with your group. | G54: FALSE
A55: Inleveren | B55: Friday October 23 2026 (23:59) = DEADLINE 4T - Newscast | G55: FALSE
A56: Keuzemenu | G56: FALSE
A57: Keuzemenu | G57: FALSE
A58: Keuzemenu | G58: FALSE
A59: WEEK 44 TOETSWEEK ONDERBOUW EN BOVENBOUW (MA. 26 OKT. T/M VR. 30 OKT.)
A61: UITDAGINGEN/EXTRA MOGELIJKHEDEN
A62: 4T - Newscast - Schrijf je vooral in voor de daltonuren bij de bovenbouw-docenten Engels om met jouw groepje te werken aan de newscast. Dan kan je namelijk feedback vragen en gericht werken aan het maken van het journaal.
A64: Wil je wat extra doen voor Engels? Werk alvast vooruit door Text 4 - You could cook while on the toilet en Text 5 - Why some people believe AI is human te maken. Deze mag je namelijk ook gebruiken voor de 4T - Newscast.
A66: Aangezien je aan het einde van periode 2 een boekopdracht zal moeten maken, raden we je aan om zo vaak mogelijk een klein stukje van jouw gekozen boek te lezen. Lees iedere week zo'n 5-10% dan heb je meer dan genoeg tijd en hoef je er niet heel veel tijd in te steken elke week. Het makkelijkst is om je voor minstens één daltonuur in te schrijven per week om te lezen.
A69: TOETS
A70: 0T - Vocabulary A - Leer de woorden in LearnBeat van Engels naar Nederlands. Zorg dat je bij functiewoorden en/of verbindingswoorden ook de functies en/of verbanden leert naast de vertalingen. Bij het behalen van 70% van de punten heb je de toets met een voldoende afgerond, dan behaald je 0.5 cijferpunt voor de 4-toets in periode 4.
A72: 4T - Newscast - Aan het einde van de periode lever je de video van het Engelstalige journaal (newscast) in dat je hebt gemaakt met jouw groep. Je hebt een GO nodig om de video in te mogen leveren (zie LearnBeat voor uitleg). In LearnBeat staat een uitgebreide uitleg van de opdracht en de voorwaarden waaraan de video moet voldoen. Lees deze zorgvuldig door en ga desnoods bij jouw docent langs om (extra) uitleg te vragen. De newscast lever je in via de mail (indien mogelijk) of via WeTransfer vanwege de grootte van het bestand.

Sheet FA
B1: FRANS (FA) | K1: PERIODE 1
A3: ALGEMENE INFORMATIE
A4: Wat neem je mee naar de les? Boek (Libre Service), snelhechter met lijntjespapier en 5 tabbladen, aantekeningen van vorig jaar, oortjes of koptelefoon en un bon humeur
A5: In periode 1 gaan we aan de slag met Unité 1 Contactez-moi en ga je o.a aan de slag met literatuurgeschiedenis. Daarbij worden er 2 periodes literatuurgeschiedenis (Existentialisme & Pluralisme) behandeld waarvan de punten meetellen in V6.
A6: Om succesvol te zijn, kom je voorbereid naar de lessen en hou je het leer-/oefenwerk goed bij.
A7: Je vindt het antwoordboek in de jaarbijlage in Somtoday. Noteer bij het nakijken altijd je vragen en stel deze tijdens de les of in een daltonuur.
A9: VAKINHOUD | H9: IK HEB HET GEDAAN | I9: IK BEHEERS HET | J9: RUIMTE VOOR REFLECTIE
A10: WK35: 24 t/m 28 aug. | B10: TAKEN & OPDRACHTEN | H10: FALSE | I10: FALSE
A11: Lezen | B11: Un1 opstarten | G11: FALSE
A12: Kijken | B12: Unité 1 opdrachten en lees- en leerwerk bij Regarder | G12: FALSE
A13: Doen | B13: Grammaire I | G13: FALSE
A14: Leren | B14: Unité 1 (examen)vocabulaire A (link Quizlet) | G14: FALSE
A15: Keuzemenu | G15: FALSE
A16: WK36: 31 t/m 4 sep. | B16: TAKEN & OPDRACHTEN | H16: FALSE | I16: FALSE
A17: Herhalen | B17: Unité 1 (examen)vocabulaire A (link Quizlet) | G17: FALSE
A18: Lezen | B18: Opdrachten, lees- en leerwerk bij Lire | G18: FALSE
A19: Schrijven | B19: Opdrachten, lees- en leerwerk bij Écrire | G19: FALSE
A20: Doen | B20: Grammaire II | G20: FALSE
A21: Toets | B21: Unité 1 (examen)vocabulaire A (link Quizlet) | G21: FALSE
A22: WK37: 7 t/m 11 sep. Examenreisweek | B22: TAKEN & OPDRACHTEN | H22: FALSE | I22: FALSE
A23: Literatuur | B23: Existentialisme & Pluralisme | G23: FALSE
A24: Doen | B24: Opdracht literatuur | G24: FALSE
A25: Leren | B25: Unité 1 (examen)vocabulaire B (link Quizlet) | G25: FALSE
A26: Keuzemenu | G26: FALSE
A27: Keuzemenu | G27: FALSE
A28: WK38: 14 t/m 18 sep. | B28: TAKEN & OPDRACHTEN | H28: FALSE | I28: FALSE
A29: Luisteren | B29: Opdrachten, leer- en leerwerk bij Écouter | G29: FALSE
A30: Doen | B30: Grammaire III | G30: FALSE
A31: Spreken | B31: Opdrachten, lees- en leerwerk bij Parler | G31: FALSE
A32: Toets | B32: Unité 1 (examen)vocabulaire B (link Quizlet) | G32: FALSE
A33: Keuzemenu | G33: FALSE
A34: WK39: 21 t/m 25 sep. | B34: TAKEN & OPDRACHTEN | H34: FALSE | I34: FALSE
A35: Lezen | B35: Opdrachten, lees- en leerwerk bij Examen | G35: FALSE
A36: Leren | B36: Unité 1 (examen)vocabulaire C (link Quizlet) | G36: FALSE
A37: Kijken & Luisteren | B37: TV5 opdrachten | G37: FALSE
A38: Toets | B38: Unité 1 (examen)vocabulaire C (link Quizlet) | G38: FALSE
A39: Keuzemenu | G39: FALSE
A40: WK40: 28 t/m 2 okt. | B40: TAKEN & OPDRACHTEN | H40: FALSE | I40: FALSE
A41: Kijken | B41: Unité 2 opdrachten, lees- en leerwerk bij Regarder | G41: FALSE
A42: Lezen | B42: Unité 2 opdrachten, lees- en leerwerk bij Lire | G42: FALSE
A43: Doen | B43: Grammaire I | G43: FALSE
A44: Leren | B44: Unité 2 (examen)vocabulaire A (link Quizlet) | G44: FALSE
A45: Keuzemenu | G45: FALSE
A46: WK41: 5 t/m 9 okt. Di. Brugklasdag | B46: TAKEN & OPDRACHTEN | H46: FALSE | I46: FALSE
A47: Schrijven | B47: Opdrachten, lees- en leerwerk bij Écrire | G47: FALSE
A48: Doen | B48: Grammaire II | G48: FALSE
A49: Luisteren | B49: Opdrachten, lees- en leerwerk bij Écouter | G49: FALSE
A50: Toets | B50: Unité 2 (examen)vocabulaire A (link Quizlet) | G50: FALSE
A51: Keuzemenu | G51: FALSE
A52: WEEK 42 HERFSTVAKANTIE
A53: WK43: 19 t/m 23 okt. Vr. Daltondag | B53: TAKEN & OPDRACHTEN | H53: FALSE | I53: FALSE
A54: Spreken | B54: Opdrachten, lees- en leerwerk bij Parler | G54: FALSE
A55: Doen | B55: Grammaire III | G55: FALSE
A56: Lezen | B56: Opdrachten, lees- en leerwerk bij Examen | G56: FALSE
A57: Leren | B57: Unité 2 (examen)vocabulaire B (link Quizlet) | G57: FALSE
A58: Keuzemenu | G58: FALSE
A59: WEEK 44 TOETSWEEK ONDERBOUW EN BOVENBOUW (MA. 26 OKT. T/M VR. 30 OKT.)
A61: UITDAGINGEN/EXTRA MOGELIJKHEDEN
A69: TOETS
A70: Literatuurgeschiedenis (voor deze toets krijg je geen cijfer, maar punten. Deze punten tellen mee in het SE Literatuur in V6)

Sheet GS
B1: GESCHIEDENIS (GS) | K1: PERIODE 1
A3: ALGEMENE INFORMATIE
A4: Welkom in de bovenbouw vwo! Dit trimester duiken we in de fundamenten van onze geschiedenis: van de prehistorie tot de val van het Romeinse Rijk. We doen dit op een academische, actieve manier.
A5: We behandelen Tijdvak 1 (Jagers en Boeren) en Tijdvak 2 (Grieken en Romeinen) uit Sprekend Verleden. Daarnaast werk je zelfstandig aan een historisch dossier en een creatief project (Kiestaak) rondom het thema 'Vrouwen in de Oudheid'.
A6: - Lesboek Sprekend Verleden (Hoofdstuk 2 en 3). - Een vaste fysieke snelhechter met gelinieerd papier voor je handgeschreven Tijdvakdossier. - Een laptop voor de digitale Kiestaken.
A7: Je beheerst de Kenmerkende Aspecten 1 t/m 10 en kunt historische causale verbanden leggen op vwo-niveau. Je kunt bronnen kritisch beoordelen op standplaatsgebondenheid.
A9: VAKINHOUD | H9: IK HEB HET GEDAAN | I9: IK BEHEERS HET | J9: RUIMTE VOOR REFLECTIE
A10: WK35: 24 t/m 28 aug. | B10: TAKEN & OPDRACHTEN | H10: FALSE | I10: FALSE
A11: Kijken & Luisteren | B11: Uitleg V4 bovenbouw, Dalton-aanpak en planning. | G11: FALSE
A12: Doen | B12: Richt je fysieke snelhechter in voor het Tijdvakdossier. | G12: FALSE
A13: Daltontaak (verplicht) | B13: Neem de studiewijzer en rubrics goed door. | G13: FALSE
A14: Keuzemenu | G14: FALSE
A15: Keuzemenu | G15: FALSE
A16: WK36: 31 t/m 4 sep. | B16: TAKEN & OPDRACHTEN | H16: FALSE | I16: FALSE
A17: Luisteren & Maken | B17: H2 §1 & §2 (Prehistorie, jagers en boeren). | G17: FALSE
A18: Maken | B18: Klassikale opstart Tijdvakdossier (KA 1 & KA 2). | G18: FALSE
A19: Daltontaak (verplicht) | B19: Schrijf tijdvakdossier week 36 af + lees blz. 30. | G19: FALSE
A20: Doen | B20: Vrijdag deadline: Schrijf je in voor je Kiestaak-onderwerp. | G20: FALSE
A21: Maken | B21: Basisvragen H2 §1 & §2 bladzijde 380 | G21: FALSE
A22: WK37: 7 t/m 11 sep. Examenreisweek | B22: TAKEN & OPDRACHTEN | H22: FALSE | I22: FALSE
A23: Keuzemenu | G23: FALSE
A24: Keuzemenu | G24: FALSE
A25: Keuzemenu | G25: FALSE
A26: Keuzemenu | G26: FALSE
A27: Keuzemenu | G27: FALSE
A28: WK38: 14 t/m 18 sep. | B28: TAKEN & OPDRACHTEN | H28: FALSE | I28: FALSE
A29: Luisteren & Maken | B29: H2 §3 & §4 (Egypte/NL) + H3 §1 (Athene). | G29: FALSE
A30: Maken | B30: Examenvaardigheid Causaliteit (oorzaak en gevolg). | G30: FALSE
A31: Daltontaak (verplicht) | B31: Werk tijdvakdossier bij met KA 3 & KA 4. | G31: FALSE
A32: Doen | B32: Start digitaal bronnenonderzoek voor je Kiestaak. | G32: FALSE
A33: Maken & Nakijken | B33: Basisvragen H2 §3 & §4 bladzijde 380 | G33: FALSE
A34: WK39: 21 t/m 25 sep. | B34: TAKEN & OPDRACHTEN | H34: FALSE | I34: FALSE
A35: Luisteren & Maken | B35: H3 §2 t/m §7 (Sparta en Alexander de Grote). | G35: FALSE
A36: Maken | B36: Bronkritiek & Standplaatsgebondenheid (Aristoteles). | G36: FALSE
A37: Daltontaak (verplicht) | B37: Vul tijdvakdossier aan met KA 5 & KA 6. | G37: FALSE
A38: Doen | B38: Schrijf de opzet / het script voor je Kiestaak. | G38: FALSE
A39: Maken | B39: Basisvragen H3 §2 & §7 bladzijde 380 | G39: FALSE
A40: WK40: 28 t/m 2 okt. | B40: TAKEN & OPDRACHTEN | H40: FALSE | I40: FALSE
A41: Luisteren & Maken | B41: H3 §8 t/m §12 (Romeinse Rijk & Matrona's). | G41: FALSE
A42: Maken | B42: Formatieve Examen-simulatie (proeftoets maken). | G42: FALSE
A43: Daltontaak (verplicht) | B43: Vul tijdvakdossier aan met KA 7 & KA 8. | G43: FALSE
A44: Doen | B44: Rond de digitale conceptversie van je Kiestaak af. | G44: FALSE
A45: Maken | B45: Basisvragen H2 §8 & §12 bladzijde 380 | G45: FALSE
A46: WK41: 5 t/m 9 okt. Di. Brugklasdag | B46: TAKEN & OPDRACHTEN | H46: FALSE | I46: FALSE
A47: Luisteren & Maken | B47: H3 §13 t/m §16 (Late Oudheid & Christendom). | G47: FALSE
A48: Maken | B48: Universitair Peer-Review Practicum (ipads mee). | G48: FALSE
A49: Daltontaak (verplicht) | B49: Maak tijdvakdossier compleet met KA 9 & KA 10. | G49: FALSE
A50: Inleveren | B50: Maandag deadline: Concept-Kiestaak digitaal inleveren. | G50: FALSE
A51: Maken | B51: Basisvragen H3 §13 & §16 bladzijde 380 | G51: FALSE
A52: WEEK 42 HERFSTVAKANTIE
A53: WK43: 19 t/m 23 okt. Vr. Daltondag | B53: TAKEN & OPDRACHTEN | H53: FALSE | I53: FALSE
A54: Doen | B54: Het Wetenschappelijk Mini-Congres (pitches projecten). | G54: FALSE
A55: Maken | B55: Verwerk de laatste feedback en controleer je dossier. | G55: FALSE
A56: Inleveren | B56: Harde deadline: tijdvakdossier (fysiek) + Kiestaak (digitaal). | G56: FALSE
A57: Test jezelf | B57: Oefenen oefentoets | G57: FALSE
A58: Maken | B58: Zelf de vragen kiezen uit de hoofdstukken | G58: FALSE
A59: WEEK 44 TOETSWEEK ONDERBOUW EN BOVENBOUW (MA. 26 OKT. T/M VR. 30 OKT.)
A61: UITDAGINGEN/EXTRA MOGELIJKHEDEN
A62: Maak de vragen uit de historisch denken en redeneren paragraaf
A64: Maak opdrachten uit de rubriek kennis toepassen en inzicht tonen
A69: TOETS
A70: Hoofdstuk 2 en 3. Bestaande uit:
A72: Kenmerkende Aspecten: KA 1 t/m KA 10 (letterlijk kunnen reproduceren en toepassen). Vaardigheden: Bronnen analyseren op standplaatsgebondenheid, historische causaliteit (oorzaak/gevolg) en continuïteit/verandering
A74: Thema-focus: De maatschappelijke positie en veranderende rol van de vrouw in de Oudheid (Egypte, Athene, Sparta, Rome en vroege Christendom).

Sheet NAT
B1: NATUURKUNDE (NAT) | K1: PERIODE 1
A3: ALGEMENE INFORMATIE
A4: Welkomswoordje
A5: Wat gaan we deze periode doen? Wat is de Daltontaak? Wat houd de Daltontaak in?
A6: Welke boeken/spullen/materialen zijn er nodig?
A7: Wat moet je geleerd hebben na deze periode?
A9: VAKINHOUD | H9: IK HEB HET GEDAAN | I9: IK BEHEERS HET | J9: RUIMTE VOOR REFLECTIE
A10: WK35: 24 t/m 28 aug. | B10: TAKEN & OPDRACHTEN | H10: FALSE | I10: FALSE
A11: Lezen | B11: Wetenschapsschool.nl ; Leerjaar 4 Basis: paragraaf 1 Grootheden en eenheden en paragraaf 2 Formules omschrijven | G11: FALSE
A12: Kijken | B12: https://www.youtube.com/embed/hvoYHYgklDc ; https://www.youtube.com/embed/7Bc5OhBAr2I ; https://www.youtube.com/embed/QsSQDfmgnpY ; https://www.youtube.com/embed/U4c0KYJ9STU ; | G12: FALSE
A13: Maken & Nakijken | B13: Wetenschapsschool.nl Leerjaar 4 Basis, Paragraaf 1: opgaven 1 t/m 9 | G13: FALSE
A14: Kijken | B14: https://www.youtube.com/embed/TroWSLPQHSk ; https://www.youtube.com/embed/UpiZvucF0m8 ; | G14: FALSE
A15: Maken & Nakijken | B15: Wetenschapsschool.nl Leerjaar 4 Basis: Paragraaf 2: opgaven 3 t/m 7 | G15: FALSE
A16: WK36: 31 t/m 4 sep. | B16: TAKEN & OPDRACHTEN | H16: FALSE | I16: FALSE
A17: Lezen | B17: Wetenschapsschool.nl Leerjaar 4 Basis: paragraaf 3 Dichtheid en paragraaf 4 Significantie | G17: FALSE
A18: Daltontaak (optioneel) | B18: Practicum: dichtheid | G18: FALSE
A19: Kijken | B19: https://www.youtube.com/embed/jFx5v3R-w68 ; https://www.youtube.com/embed/XJpXmmkxJe8 ; | G19: FALSE
A20: Maken & Nakijken | B20: Wetenschapsschool.nl Leerjaar 4 Basis: Paragraaf 3: opgaven 3 t/m 8 | G20: FALSE
A21: Maken & Nakijken | B21: Wetenschapsschool.nl Leerjaar 4 Basis: Paragraaf 4: opgaven 1 t/m 9 | G21: FALSE
A22: WK37: 7 t/m 11 sep. Examenreisweek | B22: TAKEN & OPDRACHTEN | H22: FALSE | I22: FALSE | J22: Deze week zijn er geen vaklessen natuurkunde. Zorg dat je de taken van deze week in de daltonuren / zelfstandig doorwerkt.
A23: Lezen | B23: Wetenschapsschool.nl Leerjaar 4 Basis: paragraaf 5 Eenheden afleiden en paragraaf 6 Afleiden | G23: FALSE
A24: Kijken | B24: https://www.youtube.com/embed/k-ZLxRfdqT0 ; | G24: FALSE
A25: Maken & Nakijken | B25: Wetenschapsschool.nl Leerjaar 4 Basis: Paragraaf 5: opgaven 6 t/m 8 | G25: FALSE
A26: Maken & Nakijken | B26: Wetenschapsschool.nl Leerjaar 4 Basis: Paragraaf 6: opgaven 1 t/m 5 | G26: FALSE
A27: Daltontaak (optioneel) | B27: Raak beter bekend met BiNaS: noteer voor jezelf in je schrif / in een document de handige tabelnummers en wat je daarin vindt | G27: FALSE
A28: WK38: 14 t/m 18 sep. | B28: TAKEN & OPDRACHTEN | H28: FALSE | I28: FALSE | J28: Deze week zijn er geen vaklessen natuurkunde. Zorg dat je de taken van deze week in de daltonuren / zelfstandig doorwerkt.
A29: Lezen | B29: Wetenschapsschool.nl Leerjaar 4 Basis: paragraaf 7 Coördinatentransformatie | G29: FALSE
A30: Maken | B30: Werkblad: van kromme naar rechte (krijg je in de les van deze week) | G30: FALSE
A31: Kijken | B31: De coordinatentransformatie | G31: FALSE
A32: Maken & Nakijken | B32: Wetenschapsschool.nl Leerjaar 4 Basis: Paragraaf 7: opgaven 1 t/m 5 | G32: FALSE
A33: Test jezelf | B33: Maak de oefentoets van het hoofdstuk 'Basis': klas4_ch1_basis_oefentoets.docx | G33: FALSE
A34: WK39: 21 t/m 25 sep. | B34: TAKEN & OPDRACHTEN | H34: FALSE | I34: FALSE
A35: Lezen | B35: Hoofdstuk 1 Boek: paragraaf 1.1 Bewegingen vastleggen | G35: FALSE
A36: Practicum | B36: Practicum: constante snelheid | G36: FALSE
A37: Kijken | B37: https://www.youtube.com/embed/UOciSke8owU ; https://www.youtube.com/embed/FgJFJ0ejskQ ; | G37: FALSE
A38: Daltontaak (optioneel) | B38: Bekijk van je lesboek eens pagina 228 en pagina 246. Deze kunnen je de rest van je schoolcariere van pas komen. | G38: FALSE
A39: Maken & Nakijken | B39: Hoofdstuk 1 Boek: Paragraaf 1.1 opgaven 1 t/m 8 | G39: FALSE
A40: WK40: 28 t/m 2 okt. | B40: TAKEN & OPDRACHTEN | H40: FALSE | I40: FALSE
A41: Lezen | B41: Hoofdstuk 1 Boek: paragraaf 1.2 Snelheidsgrafieken | G41: FALSE
A42: Kijken | B42: https://www.youtube.com/embed/36quVXedPKI ; | G42: FALSE
A43: Maken & Nakijken | B43: Hoofdstuk 1 Boek: Paragraaf 1.2 opgaven 15 t/m 20 | G43: FALSE
A44: Daltontaak (optioneel) | B44: Probeer eens een rechtlijnige beweging van ongeveer 10 seconden in een afstands-tijd en een snelheids-tijd grafiek om te zetten | G44: FALSE
A45: Keuzemenu | G45: FALSE
A46: WK41: 5 t/m 9 okt. Di. Brugklasdag | B46: TAKEN & OPDRACHTEN | H46: FALSE | I46: FALSE
A47: Lezen | B47: Hoofdstuk 1 Boek: paragraaf 1.3 Versnellen | G47: FALSE
A48: Kijken | B48: https://www.youtube.com/embed/-_s8oOYSfb0 ; | G48: FALSE
A49: Maken & Nakijken | B49: Hoofdstuk 1 Boek: Paragraaf 1.3 opgaven 24 t/m 31 | G49: FALSE
A50: Daltontaak (optioneel) | B50: Noteer alle formules die je in dit hoofdstuk bent tegengekomen en schrijf deze op alle mogelijke manieren om | G50: FALSE
A51: Keuzemenu | G51: FALSE
A52: WEEK 42 HERFSTVAKANTIE
A53: WK43: 19 t/m 23 okt. Vr. Daltondag | B53: TAKEN & OPDRACHTEN | H53: FALSE | I53: FALSE
A54: Maken | B54: Samenvattingen van wetenschapschool.nl Basis en hoofdstuk 1: Beweging (gebruik ook je daltontaak van week 42 hierbij) | G54: FALSE
A55: Herhalen | B55: Alle stof van Basisvaardigheden en Hoofdstuk 1: paragraaf 1.1 t/m 1.3 | G55: FALSE
A56: Test jezelf | B56: Proeftoets over gehele stof (doen we in de lessen van deze week) | G56: FALSE
A57: Oefenen | B57: Gemengde opdrachten Hoofdstuk 1 maken: opgaven 62 t/m 65 en 67 t/m 69 | G57: FALSE
A58: Keuzemenu | G58: FALSE
A59: WEEK 44 TOETSWEEK ONDERBOUW EN BOVENBOUW (MA. 26 OKT. T/M VR. 30 OKT.)
A61: UITDAGINGEN/EXTRA MOGELIJKHEDEN
A62: Maak alle steropdrachten van hoofdstuk 1 van het boek. Maak alle gemengde opdrachten aan het einde van Hoofdstuk 1 in het boek.
A69: TOETS
A70: PTD: Basisvaardigheden en Hoofdstuk 1: Beweging

Sheet NE
B1: NEDERLANDS (NE) | K1: PERIODE 1
A3: ALGEMENE INFORMATIE
A4: Welkom in de studiewijzer Nederlands V4
A5: Deze periode ga jij je bezighouden met het maken van een leesautobiografie, het lezen van boek, Taalverzorging en taalbewustzijn: spelling, interpunctie en formuleren en met leesvaardigheid (tekstverklaren)
A6: je hebt nodig: pen, schrift/snelhechter en het lesboek Op Niveau. Het leesboek kun je weer lenen in de mediatheek ( niet vertaald en een bovenbouwboek van 1 of 2 of 3 punten)
A7: Je hebt na afloop van deze periode meer kennis over romantheorie, spelling en formulering en begrijpend lezen
A9: VAKINHOUD | H9: IK HEB HET GEDAAN | I9: IK BEHEERS HET | J9: RUIMTE VOOR REFLECTIE
A10: WK35: 24 t/m 28 aug. | B10: TAKEN & OPDRACHTEN | H10: FALSE | I10: FALSE
A11: Doen | B11: boek 1 lenen in de mediatheek en 20 % lezen deze week | G11: FALSE
A12: Maken | B12: leesautobiografie | G12: FALSE
A13: Luisteren & Maken | B13: uitleg bij: H3 Taalverzorging en taalbewustzijn :Spelling en interpunctie | G13: FALSE
A14: Maken & Nakijken | B14: opdrachten H3 Taalverzorging en taalbewustzijn blz. 171- 174 Spelling en interpunctie (opdr.1 t/m 12) | G14: FALSE
A15: Daltontaak (optioneel) | B15: lezen in je leesboek/leesautobiografie/opdrachten spelling | G15: FALSE
A16: WK36: 31 t/m 4 sep. | B16: TAKEN & OPDRACHTEN | H16: FALSE | I16: FALSE
A17: Doen | B17: lees 20 % in je leesboek 1 | G17: FALSE
A18: Luisteren & Maken | B18: Uitleg bij: H3 Taalverzorging en taalbewustzijn: Formuleren) | G18: FALSE
A19: Maken & Nakijken | B19: opdrachten H3 blz. 175- 178 Formuleren (opdr. 1 t/m 12) | G19: FALSE
A20: Doen | B20: inleveren leesautobiografie in snelhechter | G20: FALSE
A21: Daltontaak (optioneel) | B21: lezen in je leesboek/leesautobiografie /opdrachten spelling | G21: FALSE
A22: WK37: 7 t/m 11 sep. Examenreisweek | B22: TAKEN & OPDRACHTEN | H22: FALSE | I22: FALSE
A23: Doen | B23: lees 20% in je leesboek 1 | G23: FALSE
A24: Maken & Nakijken | B24: opdrachten Spelling afgerond en formuleren maken | G24: FALSE
A25: Keuzemenu | G25: FALSE
A26: Doen | B26: inleveren leesautobiografie in snelhechter | G26: FALSE
A27: Daltontaak (optioneel) | B27: lezen in je leesboek/maken opdrachten formuleren | G27: FALSE
A28: WK38: 14 t/m 18 sep. | B28: TAKEN & OPDRACHTEN | H28: FALSE | I28: FALSE
A29: Doen | B29: lees 20% in je leesboek 1 | G29: FALSE
A30: Luisteren & Maken | B30: Uitleg theorie H3 formuleren | G30: FALSE
A31: Doen | B31: inleveren leesautobiografie in snelhechter | G31: FALSE
A32: Maken & Nakijken | B32: Opdrachten bij H3 Formuleren blz. 175-178 (opdr. 1 t/m 12) | G32: FALSE
A33: Daltontaak (optioneel) | B33: lezen in je leesboek/afronden opdrachten formuleren/ extra oefeningen spelling-interpunctie-formuleren | G33: FALSE
A34: WK39: 21 t/m 25 sep. | B34: TAKEN & OPDRACHTEN | H34: FALSE | I34: FALSE
A35: Doen | B35: lees 20% in je leesboek 1 | G35: FALSE
A36: Luisteren & Maken | B36: uitleg/theorie bij H1 Leesvaardigheid | G36: FALSE
A37: Maken & Nakijken | B37: opdrachten H1 leesvaardigheid blz. 11-15 (opdr. 1 t/m 5) | G37: FALSE
A38: Toets | B38: Tussentoets Spelling, interpunctie en formuleren | G38: FALSE
A39: Daltontaak (optioneel) | B39: oefentoets spelling en formuleren maken / lezen in je leesboek/opdrachten leesvaardigheid | G39: FALSE
A40: WK40: 28 t/m 2 okt. | B40: TAKEN & OPDRACHTEN | H40: FALSE | I40: FALSE
A41: Doen | B41: lees de laatste 20 % in je leesboek 1 | G41: FALSE
A42: Luisteren & Maken | B42: uitleg/theorie bij Leesvaardigheid | G42: FALSE
A43: Maken & Nakijken | B43: opdrachten leesvaardigheid blz. 16 -24 ( 6 t/m 14) | G43: FALSE
A44: Keuzemenu | G44: FALSE
A45: Daltontaak (optioneel) | B45: lezen in je leesboek/opdrachten leesvaardigheid | G45: FALSE
A46: WK41: 5 t/m 9 okt. Di. Brugklasdag | B46: TAKEN & OPDRACHTEN | H46: FALSE | I46: FALSE
A47: Toets | B47: boekopdracht 1 (tijdens de les; neem je uitgelezen leesboek + snelhechter hiervoor mee naar de les)/invullen groene leeskaart | G47: FALSE
A48: Maken & Nakijken | B48: opdrachten leesvaardigheid H1 blz. 25- 32 (opdr. 15 t/m 18) | G48: FALSE
A49: Keuzemenu | G49: FALSE
A50: Keuzemenu | G50: FALSE
A51: Daltontaak (optioneel) | B51: lezen in je leesboek/maken opdrachten leesvaardigheid | G51: FALSE
A52: WEEK 42 HERFSTVAKANTIE
A53: WK43: 19 t/m 23 okt. Vr. Daltondag | B53: TAKEN & OPDRACHTEN | H53: FALSE | I53: FALSE
A54: Herhalen | B54: leerstof toetsweek 1 : theorie leesvaardigheid ( zie SOM) | G54: FALSE
A55: Maken & Nakijken | B55: opdrachten leesvaardigheid H1 blz. 32-35 Reflectie en Eindopdracht (opdr. 19 t/m 20) | G55: FALSE
A56: Maken & Nakijken | B56: oefentoets leesvaardigheid | G56: FALSE
A57: Keuzemenu | G57: FALSE
A58: Keuzemenu | G58: FALSE
A59: WEEK 44 TOETSWEEK ONDERBOUW EN BOVENBOUW (MA. 26 OKT. T/M VR. 30 OKT.)
A61: UITDAGINGEN/EXTRA MOGELIJKHEDEN
A62: lees een 2 of 3 punter voor je leeslijst
A69: TOETS
A70: leesautobiografie inleveren/boekopdracht 1 (week 41)(PTA met beoordeling O/V/G)
A72: Tussentoets (week 39): Spelling, interpunctie en formuleren (PTD met weging 2)
A74: Toetsweek (week 44) : Leesvaardigheid ( PTD met weging 4)

Sheet SK
B1: SCHEIKUNDE (SK) | K1: PERIODE 1
A3: ALGEMENE INFORMATIE
A4: Voor het vak scheikunde in 4-VWO maken we gebruik van de scheikunde methode "Chemie Overal", boek en on-line.
A5: Hoe is de les(week)opbouw? - 1) 10 min. lezen nieuwe paragraaf. Je markeert de belangrijke onderdelen en/of je maakt een samenvatting van de paragraaf.
A6: 2) Na het lezen is er 10 min. tijd voor vragen en 3) 10 min. docent geeft aanvullende uitleg. 4) 20 min. tijd voor vragen en opdrachten maken.
A7: Praktica/experimenten: in de les. Heb je deze niet gemaakt, door ziekte of andere reden, dan maak je met de TOA een afspraak om deze in te halen.
A9: VAKINHOUD | H9: IK HEB HET GEDAAN | I9: IK BEHEERS HET | J9: RUIMTE VOOR REFLECTIE
A10: WK35: 24 t/m 28 aug. | B10: TAKEN & OPDRACHTEN | H10: FALSE | I10: FALSE
A11: Lezen | G11: FALSE
A12: Schrijven | B12: Introductie docent en methode BINAS halen | G12: FALSE
A13: Maken | B13: Herhalen derdeklasstof Samenvatting: https://www.youtube.com/watch?v=dcfkqc4D-6w | G13: FALSE
A14: Daltontaak | B14: Herhaling 3e klas: reactievergelijkingen kloppend maken en rekenen met massaverhoudingen | G14: FALSE
A15: Inleveren | B15: opgaven derdeklasstof | G15: FALSE
A16: WK36: 31 t/m 4 sep. | B16: TAKEN & OPDRACHTEN | H16: FALSE | I16: FALSE
A17: Lezen | G17: FALSE
A18: Schrijven | B18: Klassikale uitleg micro/macro en emulgator. | G18: FALSE
A19: Maken | B19: Maken opgaven 1 t/m 9 uitvoeren experiment 1.6 chromatografie | G19: FALSE
A20: Daltontaak | B20: Maken paragraaf opgaven 10 t/m 18 (aanbevolen 11, 12, 13, 16 en 18) | G20: FALSE
A21: Inleveren | G21: FALSE
A22: WK37: 7 t/m 11 sep. Examenreisweek | B22: TAKEN & OPDRACHTEN | H22: FALSE | I22: FALSE
A23: Lezen | B23: Maken opgaven 19 t/m 27 (aanbevolen 23, 24 en 26) | G23: FALSE
A24: Schrijven | B24: Uitvoeren experiment 1.7(blz. 26) | G24: FALSE
A25: Maken | B25: Klassikale uitleg energiediagram | G25: FALSE
A26: Daltontaak | B26: Maken opgaven 28 t/m 45 (aanbevolen 32, 37, 38, 42 en 45) | G26: FALSE
A27: Inleveren | B27: Maken extra opgaven reactievergelijkingen en massaverhoudingen | G27: FALSE
A28: WK38: 14 t/m 18 sep. | B28: TAKEN & OPDRACHTEN | H28: FALSE | I28: FALSE
A29: Lezen | B29: Klassikale uitleg fossiele brandstoffen en duurzaamheid | G29: FALSE
A30: Schrijven | B30: Maken opgaven 46 t/m 57 (aanbevolen 47, 48, 50, 53 en 56) | G30: FALSE
A31: Maken | B31: Klassikale uitleg dichtheid en significantie | G31: FALSE
A32: Daltontaak | B32: Maken opgaven 58 t/m 73 (aanbevolen 59, 60, 64, 65, 69, 71 en 73) | G32: FALSE
A33: Inleveren | B33: Maken Gemengde opgaven blz. 38 (aanbevolen 1 t/m 5) | G33: FALSE
A34: WK39: 21 t/m 25 sep. | B34: TAKEN & OPDRACHTEN | H34: FALSE | I34: FALSE
A35: Lezen | B35: Film P.S. https://www.youtube.com/watch?v=kgYSf9f9kWc | G35: FALSE
A36: Schrijven | B36: Klassikale uitleg Periodiek Systeem en elektronenconfiguratie | G36: FALSE
A37: Maken | B37: Maken opgaven 1 t/m 16 (aanbevolen 3, 5, 9,13, 15 en 16) | G37: FALSE
A38: Daltontaak | B38: Klassikale uitleg ionen, elektrovalentie en octetregel | G38: FALSE
A39: Inleveren | B39: Maken opgaven 17 t/m 24 (aanbevolen 18, 19, 22 en 24) | G39: FALSE
A40: WK40: 28 t/m 2 okt. | B40: TAKEN & OPDRACHTEN | H40: FALSE | I40: FALSE
A41: Lezen | B41: Klassikale uitleg gemiddelde atoommassa uitrekenen en molecuulmassa | G41: FALSE
A42: Schrijven | B42: Maken opgaven 25 t/m 35 (aanbevolen 27, 29, 32, 33 en 35) | G42: FALSE
A43: Maken | B43: Klassikale uitleg mol | G43: FALSE
A44: Daltontaak | B44: Maken opgaven 36 t/m 44 (aanbevolen 38, 39, 43 en 44) | G44: FALSE
A45: Inleveren | B45: Bekijken powerpoint mol, maken extra opgave | G45: FALSE
A46: WK41: 5 t/m 9 okt. Di. Brugklasdag | B46: TAKEN & OPDRACHTEN | H46: FALSE | I46: FALSE
A47: Lezen | B47: Verder met de mol en molrekenen | G47: FALSE
A48: Schrijven | B48: Maken opgaven 45 t/m 50 (aanbevolen alles) | G48: FALSE
A49: Maken | B49: Klassikaal bespreken opgave mol | G49: FALSE
A50: Daltontaak | B50: Maken Gemengde opgaven blz. 66 (aanbevolen alles) | G50: FALSE
A51: Inleveren | B51: Oefenen Begrippentrainer | G51: FALSE
A52: WEEK 42 HERFSTVAKANTIE
A53: WK43: 19 t/m 23 okt. Vr. Daltondag | B53: TAKEN & OPDRACHTEN | H53: FALSE | I53: FALSE
A54: Keuzemenu | G54: FALSE
A55: Keuzemenu | G55: FALSE
A56: Keuzemenu | G56: FALSE
A57: Keuzemenu | G57: FALSE
A58: Keuzemenu | G58: FALSE
A59: WEEK 44 TOETSWEEK ONDERBOUW EN BOVENBOUW (MA. 26 OKT. T/M VR. 30 OKT.)
A61: UITDAGINGEN/EXTRA MOGELIJKHEDEN
A62: De volgende onderdelen moet je kennen en beheersen: 1) RV kloppend maken en RV opstellen en kloppend maken uit een verhaaltje. daarnaast moet je kunnen rekenen met dichtheid. Dat betekend dat je ook SI-eenheden moet omzetten. Oefenbladen zijn beschikbaar, als je meer wilt oefenen vraag je docent voor extra oefenbladen. Mol-berekeningen
A69: TOETS
A70: Toets in P1: H1 en H2 en alle praktica en oefenbladen

Sheet SP
B1: SPAANS (SP) | K1: PERIODE 1
A3: ALGEMENE INFORMATIE
A4: Hola chicos, bienvenidos a VWO4. In periode 1 gaan we aan de slag met het thema eigenschappen: ¿Cómo es, cómo eres?
A5: Je leert personen, plaatsen, gebouwen en monumenten beschrijven. We herhalen de pretérito indefinido, bijvoeglijke naamwoorden en voorzetsels van plaats.
A6: We werken met het boek Compañeros 3, unidad 3+4 en de online leeromgeving. Neem altijd je pen en schrift mee voor aantekeningen en opdrachten uitwerken.
A7: Neem ook je oortjes mee naar de les. Deze zijn handig wanneer we in de online omgeving werken.
A9: VAKINHOUD | H9: IK HEB HET GEDAAN | I9: IK BEHEERS HET | J9: RUIMTE VOOR REFLECTIE
A10: WK35: 24 t/m 28 aug. | B10: TAKEN & OPDRACHTEN | H10: FALSE | I10: FALSE
A11: Onderzoeken | B11: Quizlet We gaan samen de nieuwe lesmethode bekijken en bespreken. | G11: FALSE
A12: Herhalen | B12: We herhalen de werkwoordenj SER en ESTAR en leren hoe we deze kunnen gebruiken om iemand te beschrijven. | G12: FALSE
A13: Maken | B13: Daarna maken we een mindmap met verschillende bijvoeglijke naamwoorden waarmee je personen kunt beschrijven. | G13: FALSE
A14: Maken | B14: Oef. 1 en 2 p.31 TB | G14: FALSE
A15: Maken | B15: Oef. 1, t/m 10 p.28-29-30 TB | G15: FALSE
A16: WK36: 31 t/m 4 sep. | B16: TAKEN & OPDRACHTEN | H16: FALSE | I16: FALSE
A17: Onderzoeken | B17: Wij leren de betrekkelijke voornaamwoorden in het Spaans gebruiken, p. 32 TB | G17: FALSE
A18: Maken | B18: Oef. 3, 4 p. 32 TB | G18: FALSE
A19: Maken | B19: Oef. 5, 6 p. 33 TB | G19: FALSE
A20: Luisteren | B20: Oef. 1, 2 en 3 p. 34 TB | G20: FALSE
A21: Keuzemenu | G21: FALSE
A22: WK37: 7 t/m 11 sep. Examenreisweek | B22: TAKEN & OPDRACHTEN | H22: FALSE | I22: FALSE
A23: Onderzoeken | B23: Afronden unidad 3. Kun jij jezelf al omschrijven in 5 zinnen?+ 2T (woordjestoets): de woordenlijsten van Unidad 3. | G23: FALSE
A24: Maken | B24: Oef. 6 p. 35 TB | G24: FALSE
A25: Onderzoeken | B25: Start unidad 4: Lugares. Welke lugares de interés zijn er in Spanje, Zuid- en Midden-Amerika? Waar ben je al eens geweest? Waar zou je meer over willen weten? Bepaal waaraan je een presentatie wilt wijden. | G25: FALSE
A26: Daltontaak (verplicht) | B26: Deze week kies je een partner om je presentatie mee te doen. Over welke lugar de interés ga je vertellen? Wie vertelt wat? Hoe bouw je de presentatie op? Noteer dit in het excelsheet. Elke presentatie moet gaan over een andere plaats! | G26: FALSE
A27: Keuzemenu | G27: FALSE
A28: WK38: 14 t/m 18 sep. | B28: TAKEN & OPDRACHTEN | H28: FALSE | I28: FALSE
A29: Onderzoeken | G29: FALSE
A30: Maken | B30: Welke gebouwen zijn er zoal en wat is hun functie? pag. 40-41 opg. 1 t/m. 5. | G30: FALSE
A31: Maken | B31: Fantastische musea in Spanje. pag. 41-42 opg. 6 t/m. 10. | G31: FALSE
A32: Ontwerpen | B32: Gebruik de voca van unidad 4 om zinnen voor je presentatie te ontwerpen. | G32: FALSE
A33: Keuzemenu | G33: FALSE
A34: WK39: 21 t/m 25 sep. | B34: TAKEN & OPDRACHTEN | H34: FALSE | I34: FALSE
A35: Onderzoeken | B35: Hoe vertel je in de verleden tijd kort iets over jouw lugar de interés? Welke signaalworden horen er bij de INDEFINIDO? | G35: FALSE
A36: Maken | B36: Uitleg vorm en gebruik INDEFINIDO. Maak pag. 43-44 opg. 1 t/m. 6. | G36: FALSE
A37: Maken | B37: pag. 48-49 opg. 1,2,3,4,5. Hoe beschrijf je een belangrijk gebouw? | G37: FALSE
A38: Ontwerpen | B38: Schrijf 5 zinnen in de INDEFINIDO over jouw lugar de interés en leer de vervoeging en de vormen op pag. 43. | G38: FALSE
A39: Daltontaak (verplicht) | B39: Maak je presentatie deze week af, zodat je volgende week kunt oefenen. | G39: FALSE
A40: WK40: 28 t/m 2 okt. | B40: TAKEN & OPDRACHTEN | H40: FALSE | I40: FALSE
A41: Onderzoeken | B41: Waaraan moet een goede presentatie voldoen? Wat doe je als je het even niet meer weet? Bekijk alvast de rubric en plan oefenmomenten in voor jezelf en je partner. | G41: FALSE
A42: Maken | B42: pag. 50 opg. 1+2. Hoe geef je je mening in het Spaans over een lugar de interés? We bekijken ook de beoordelingsrubric voor de presentatie. | G42: FALSE
A43: Maken | B43: pag. 45 opg. 7,8,9. en pag. 46 opg. 1. Uitleg preposiciones de lugar. Hoe benoem je waar iets is? Schrijf 5 zinnen over een vakantie of uitje en hoe de reis daarnaartoe verliep. Gebruik de INDEFINIDO en de preposiciones de lugar. | G43: FALSE
A44: Keuzemenu | G44: FALSE
A45: Daltontaak (verplicht) | B45: Oefen hardop, in je duo, je presentatie en geef elkaar peerfeedback. | G45: FALSE
A46: WK41: 5 t/m 9 okt. Di. Brugklasdag | B46: TAKEN & OPDRACHTEN | H46: FALSE | I46: FALSE
A47: Onderzoeken | B47: Waaraan moet een goede presentatie voldoen? Wat doe je als je het even niet meer weet? Luister mee en let op uitspraak, samenhang, zinsbouw, juist woordgebruik en creativiteit en lef! | G47: FALSE
A48: Spreken | B48: presentación de tu lugar de interés (max. 8 groepjes van 5 min.). | G48: FALSE
A49: Spreken | B49: presentación de tu lugar de interés (max. 8 groepjes van 5 min.) | G49: FALSE
A50: Daltontaak (verplicht) | B50: Deze week presentaties in duo's. Je deelt van tevoren je presentatie via je Drive-map met je docent. je mag steekwoorden noteren in je presentatie, geen hele zinnen. Een post-it in de hand met steekwoorden mag ook, mits je niet gaat voorlezen! | G50: FALSE
A51: Keuzemenu | G51: FALSE
A52: WEEK 42 HERFSTVAKANTIE
A53: WK43: 19 t/m 23 okt. Vr. Daltondag | B53: TAKEN & OPDRACHTEN | H53: FALSE | I53: FALSE
A54: Herhalen | B54: We herhalen de grammatica voor de toets. | G54: FALSE
G55: FALSE
A56: Keuzemenu | G56: FALSE
A57: Keuzemenu | G57: FALSE
A58: Keuzemenu | G58: FALSE
A59: WEEK 44 TOETSWEEK ONDERBOUW EN BOVENBOUW (MA. 26 OKT. T/M VR. 30 OKT.)
A61: UITDAGINGEN/EXTRA MOGELIJKHEDEN
A69: TOETS
A70: 2x: Presentatie over een lugar de interés Je geeft samen met een compañero/a de clase een presentatie over een lugar de interés. Duur van de presentatie: De presentatie duurt ongeveer 5 minuten. Inhoud van de presentatie: Je vertelt over de volgende punten: Waar ligt deze plek? Wat kun je daar doen, zien of bezoeken? Beschrijf minimaal één gebouw of attractie die daar te vinden is. Vertel kort iets over de geschiedenis van deze plek. Hoe lang bestaat deze plek al? Gebruik hierbij de indefinido. Hoe kom je er? Gebruik hierbij de preposiciones de lugar. Ben je er zelf geweest of zou je er graag naartoe willen? Waarom hebben jullie deze plek gekozen? Wat is jullie mening over deze plek? Kost het geld om deze plek te bezoeken of kun je er gratis naartoe? Taalgebruik: Je gebruikt de geleerde woordenschat uit unidad 3 en 4. Je gebruikt de indefinido bij het stukje over de geschiedenis. Je gebruikt de preposiciones de lugar wanneer je uitlegt hoe je er komt. Presentatievorm: Je maakt gebruik van foto’s om jullie verhaal te illustreren. Per slide gebruik je alleen steekwoorden, geen hele zinnen. Een post-it met steekwoorden in je hand is toegestaan.
A72: 4x: Toetsweektoets Unidad 3 en 4 Je maakt een toetsweektoets over de vocabulario en de grammatica van Unidad 3 en 4. Woordenschat: Je kent de woorden om: mensen te omschrijven; dingen te omschrijven; iemands uiterlijk te beschrijven; iemands karakter te beschrijven. Grammatica: Je kent de vormen en het gebruik van: ser; estar; de indefinido, ook de onregelmatige vormen; de preposiciones de lugar; het betrekkelijk voornaamwoord. Je kunt deze grammatica ook gebruiken in zinnen. Leesvaardigheid: Je kunt korte teksten lezen over de thema’s van Unidad 3 en 4. Je kunt vragen over deze teksten beantwoorden. Schrijfvaardigheid: Je kunt een korte tekst schrijven over wie jij bent. Je kunt vertellen waar je wel en niet van houdt.

Sheet WISA
B1: WISKUNDE A (WISA) | K1: PERIODE 1
A3: ALGEMENE INFORMATIE
A4: Welkom!
A5: Wat gaan we doen deze periode? - TW1 --> Hfst. 2 Verbanden + Hfst. 4 Machtsfuncties + Vaardigheden 1
A6: Wat neem je mee: - Leerboek Deel 1 in Periode 1. - Ruitjesschrift (A4, 1 cm ruit) - iPad (opgeladen) - Grafische Rekenmachine - Etui met daarin: Blauwe of zwarte pennen, potlood (HB) of vulpotlood, gum, geodriehoek, kleurpotloden, puntenslijper.
A9: VAKINHOUD | H9: IK HEB HET GEDAAN | I9: IK BEHEERS HET | J9: RUIMTE VOOR REFLECTIE
A10: WK35: 24 t/m 28 aug. | B10: TAKEN & OPDRACHTEN | H10: FALSE | I10: FALSE
A11: Maken & Nakijken | B11: §2.1 Lineaire verbanden | G11: FALSE
A12: Maken & Nakijken | B12: §2.2 Recht evenredig en omgekeerd evenredig | G12: FALSE
A13: Maken & Nakijken | B13: §2.3 Grenswaarden | G13: FALSE
A14: Daltontaak (verplicht) | B14: §2.1 t/m §2.3 afmaken | G14: FALSE
A15: Keuzemenu | G15: FALSE
A16: WK36: 31 t/m 4 sep. | B16: TAKEN & OPDRACHTEN | H16: FALSE | I16: FALSE
A17: Maken & Nakijken | B17: §2.4 Toppen en snijpunten | G17: FALSE
A18: Maken & Nakijken | B18: §2.5 Ongelijkheden | G18: FALSE
A19: Maken & Nakijken | B19: §2.6 Gemengde opdrachten | G19: FALSE
A20: Daltontaak (verplicht) | B20: §2.4 t/m §2.6 afmaken | G20: FALSE
A21: Keuzemenu | G21: FALSE
A22: WK37: 7 t/m 11 sep. Examenreisweek | B22: TAKEN & OPDRACHTEN | H22: FALSE | I22: FALSE
A23: Maken & Nakijken | B23: §4.1 Negatieve exponenten | G23: FALSE
A24: Maken & Nakijken | B24: §4.2 Gebroken exponenten | G24: FALSE
A25: Maken & Nakijken | B25: §4.3 Machtsfuncties | G25: FALSE
A26: Daltontaak (verplicht) | B26: §4.1 t/m §4.3 afmaken | G26: FALSE
A27: Keuzemenu | G27: FALSE
A28: WK38: 14 t/m 18 sep. | B28: TAKEN & OPDRACHTEN | H28: FALSE | I28: FALSE
A29: Maken & Nakijken | B29: §4.4 Machtformules herleiden | G29: FALSE
A30: Maken & Nakijken | B30: §4.5 Gemengde opdrachten | G30: FALSE
A31: Maken & Nakijken | B31: Vaardigheden 1, blz 95 | G31: FALSE
A32: Daltontaak (verplicht) | B32: §4.4, §4.5 en Vaardigheden 1 blz 95 afmaken | G32: FALSE
A33: Keuzemenu | G33: FALSE
A34: WK39: 21 t/m 25 sep. | B34: TAKEN & OPDRACHTEN | H34: FALSE | I34: FALSE
A35: Maken & Nakijken | B35: Vaardigheden 1, blz 96 | G35: FALSE
A36: Maken & Nakijken | B36: Vaardigheden 1, blz 97 | G36: FALSE
A37: Maken & Nakijken | B37: Vaardigheden 1, blz 98 | G37: FALSE
A38: Daltontaak (verplicht) | B38: Vaardigheden 1 afmaken | G38: FALSE
A39: Keuzemenu | G39: FALSE
A40: WK40: 28 t/m 2 okt. | B40: TAKEN & OPDRACHTEN | H40: FALSE | I40: FALSE
A41: Maken & Nakijken | B41: Vaardigheden 1 | G41: FALSE
A42: Toets | B42: 1T Vaardigheden 1 | G42: FALSE
A43: Herhalen | B43: H2 Samenvatting | G43: FALSE
A44: Daltontaak (verplicht) | B44: H2 Samenvatting afmaken | G44: FALSE
A45: Keuzemenu | G45: FALSE
A46: WK41: 5 t/m 9 okt. Di. Brugklasdag | B46: TAKEN & OPDRACHTEN | H46: FALSE | I46: FALSE
A47: Herhalen | B47: H4 Samenvating | G47: FALSE
A48: Herhalen | B48: H2 Test jezelf | G48: FALSE
A49: Herhalen | B49: H4 Test hezelf | G49: FALSE
A50: Daltontaak (verplicht) | B50: H2/H4 Test jezelf | G50: FALSE
A51: Keuzemenu | G51: FALSE
A52: WEEK 42 HERFSTVAKANTIE
A53: WK43: 19 t/m 23 okt. Vr. Daltondag | B53: TAKEN & OPDRACHTEN | H53: FALSE | I53: FALSE
A54: Keuzemenu | G54: FALSE
A55: Keuzemenu | G55: FALSE
A56: Keuzemenu | G56: FALSE
A57: Keuzemenu | G57: FALSE
A58: Keuzemenu | G58: FALSE
A59: WEEK 44 TOETSWEEK ONDERBOUW EN BOVENBOUW (MA. 26 OKT. T/M VR. 30 OKT.)
A61: UITDAGINGEN/EXTRA MOGELIJKHEDEN
A69: TOETS
A70: 4T Hfst. 2 Verbanden + Hfst. 4 Machtsfuncties

Sheet WISB
B1: WISKUNDE B (WISB) | K1: PERIODE 1
A3: ALGEMENE INFORMATIE
A4: Welkom!
A5: Wat gaan we doen dit schooljaar? - Vaardigheden 1 (deel 1) en TW1 --> H1 Vergelijkingen + H2 Machtsfuncties
A6: Wat neem je mee: - Leerboek Deel 1 in Periode 1. - Ruitjesschrift (A4, 1 cm ruit) - iPad (opgeladen) - Grafische Rekenmachine - Etui met daarin: Blauwe of zwarte pennen, potlood (HB) of vulpotlood, gum, geodriehoek, kleurpotloden, passer en puntenslijper.
A9: VAKINHOUD | H9: IK HEB HET GEDAAN | I9: IK BEHEERS HET | J9: RUIMTE VOOR REFLECTIE
A10: WK35: 24 t/m 28 aug. | B10: TAKEN & OPDRACHTEN | H10: FALSE | I10: FALSE
A11: Maken & Nakijken | B11: §1.1 Lineaire vergelijkingen | G11: FALSE
A12: Maken & Nakijken | B12: §1.2 Kwadratische vergelijkingen, opg. 9, 11 tm 15 | G12: FALSE
A13: Maken & Nakijken | B13: Vaardigheden blz. 88 | G13: FALSE
A14: Daltontaak (verplicht) | B14: Afmaken wat je niet af hebt gekregen. | G14: FALSE
A15: Keuzemenu | G15: FALSE
A16: WK36: 31 t/m 4 sep. | B16: TAKEN & OPDRACHTEN | H16: FALSE | I16: FALSE
A17: Maken & Nakijken | B17: §1.3 Wortelvergelijkingen opg 17, 20 tm 22 | G17: FALSE
A18: Maken & Nakijken | B18: §1.4 Gebroken vergelijkingen | G18: FALSE
A19: Maken & Nakijken | B19: Vaardigheden blz. 89 + 90 | G19: FALSE
A20: Daltontaak (verplicht) | B20: Afmaken wat je niet af hebt gekregen. | G20: FALSE
A21: Keuzemenu | G21: FALSE
A22: WK37: 7 t/m 11 sep. Examenreisweek | B22: TAKEN & OPDRACHTEN | H22: FALSE | I22: FALSE
A23: Maken & Nakijken | G23: FALSE
A24: Maken & Nakijken | G24: FALSE
A25: Maken & Nakijken | G25: FALSE
A26: Daltontaak (verplicht) | B26: Afmaken wat je niet af hebt gekregen. | G26: FALSE
A27: Keuzemenu | G27: FALSE
A28: WK38: 14 t/m 18 sep. | B28: TAKEN & OPDRACHTEN | H28: FALSE | I28: FALSE
A29: Maken & Nakijken | B29: §1.5 Herleiden | G29: FALSE
A30: Maken & Nakijken | B30: §1.6 Parameters | G30: FALSE
A31: Maken & Nakijken | B31: Vaardigheden blz. 91 | G31: FALSE
A32: Daltontaak (verplicht) | B32: Zorg dat je bij bent met de vaardigheden (blz. 88 t/m 91) | G32: FALSE
A33: Keuzemenu | G33: FALSE
A34: WK39: 21 t/m 25 sep. | B34: TAKEN & OPDRACHTEN | H34: FALSE | I34: FALSE
A35: Maken & Nakijken | B35: Vaardigheden herhalen | G35: FALSE
A36: Maken & Nakijken | B36: §2.1 Negatieve exponenten, opgave 3 tm 5, en 7 tm 9 | G36: FALSE
A37: Toets | B37: 1T Vaardigheden 1 | G37: FALSE
A38: Daltontaak (verplicht) | B38: Gemengde opdrachten H1 | G38: FALSE
A39: Keuzemenu | G39: FALSE
A40: WK40: 28 t/m 2 okt. | B40: TAKEN & OPDRACHTEN | H40: FALSE | I40: FALSE
A41: Maken & Nakijken | B41: §2.2 Gebroken exponenten, 11, 12, 15, 16, 18, 19 | G41: FALSE
A42: Maken & Nakijken | B42: §2.3 Machtsfuncties | G42: FALSE
A43: Maken & Nakijken | B43: §2.4 Vergelijkingen oplossen | G43: FALSE
A44: Daltontaak (verplicht) | B44: Gemengde opdrachten H2 | G44: FALSE
A45: Keuzemenu | G45: FALSE
A46: WK41: 5 t/m 9 okt. Di. Brugklasdag | B46: TAKEN & OPDRACHTEN | H46: FALSE | I46: FALSE
A47: Maken & Nakijken | B47: §2.5 Herleiden | G47: FALSE
A48: Maken & Nakijken | B48: Test jezelf H1 | G48: FALSE
A49: Maken & Nakijken | B49: Test jezelf H2 | G49: FALSE
A50: Daltontaak (verplicht) | B50: Test jezelf H1 + H2 afmaken | G50: FALSE
A51: Keuzemenu | G51: FALSE
A52: WEEK 42 HERFSTVAKANTIE
A53: WK43: 19 t/m 23 okt. Vr. Daltondag | B53: TAKEN & OPDRACHTEN | H53: FALSE | I53: FALSE
A54: Maken & Nakijken | B54: Oefentoets H1 | G54: FALSE
A55: Maken & Nakijken | B55: Oefentoets H2 | G55: FALSE
A56: Daltontaak (verplicht) | B56: Leren voor de toetsweek! :) | G56: FALSE
A57: Keuzemenu | G57: FALSE
A58: Keuzemenu | G58: FALSE
A59: WEEK 44 TOETSWEEK ONDERBOUW EN BOVENBOUW (MA. 26 OKT. T/M VR. 30 OKT.)
A61: UITDAGINGEN/EXTRA MOGELIJKHEDEN
A69: TOETS
A70: 4T H1 Vergelijkingen + H2 Machtsfuncties

Sheet WOA
B1: WETENSCHAPSORIËNTATIE & ACTUALITEITEN ONDERWIJS (WOA) | K1: PERIODE 1
A3: ALGEMENE INFORMATIE
A4: Welkom bij de studiewijzer voor WOA voor periode 1
A5: We beginnen VWO4 in periode 1 met het boek Big History (inleiding & drempel 1)
A6: We zien elkaar 1x per week in de les, in die lessen wordt het meeste werk gedaan. Gebruik deze studiewijzer dan ook als hulpmiddel in het geval dat je een keer een les gemist hebt.
A7: Eventuele toetsen vinden plaats buiten de toetsweek, in de reguliere lessen WOA
A9: VAKINHOUD | H9: IK HEB HET GEDAAN | I9: IK BEHEERS HET | J9: RUIMTE VOOR REFLECTIE
A10: WK35: 24 t/m 28 aug. | B10: TAKEN & OPDRACHTEN | H10: FALSE | I10: FALSE
A11: Kijken & Luisteren | B11: In de les krijg je uitleg bij het boek Big History inleiding en kijken we filmpjes bij de stof | G11: FALSE
A12: Maken | B12: Maak de vragen bij de stof | G12: FALSE
A13: Keuzemenu | G13: FALSE
A14: Keuzemenu | G14: FALSE
A15: Keuzemenu | G15: FALSE
A16: WK36: 31 t/m 4 sep. | B16: TAKEN & OPDRACHTEN | H16: FALSE | I16: FALSE
A17: Kijken & Luisteren | B17: In de les krijg je uitleg bij het boek Big History inleiding en kijken we filmpjes bij de stof | G17: FALSE
A18: Maken | B18: Maak de vragen bij de stof | G18: FALSE
A19: Keuzemenu | G19: FALSE
A20: Keuzemenu | G20: FALSE
A21: Keuzemenu | G21: FALSE
A22: WK37: 7 t/m 11 sep. Examenreisweek | B22: TAKEN & OPDRACHTEN | H22: FALSE | I22: FALSE
A23: Kijken & Luisteren | B23: In de les krijg je uitleg bij het boek Big History inleiding en kijken we filmpjes bij de stof | G23: FALSE
A24: Maken | B24: Maak de vragen bij de stof | G24: FALSE
A25: Keuzemenu | G25: FALSE
A26: Keuzemenu | G26: FALSE
A27: Keuzemenu | G27: FALSE
A28: WK38: 14 t/m 18 sep. | B28: TAKEN & OPDRACHTEN | H28: FALSE | I28: FALSE
A29: Kijken & Luisteren | B29: In de les krijg je uitleg bij het boek Big History Drempel 1 en kijken we filmpjes bij de stof | G29: FALSE
A30: Maken | B30: Maak de vragen bij de stof | G30: FALSE
A31: Keuzemenu | G31: FALSE
A32: Keuzemenu | G32: FALSE
A33: Keuzemenu | G33: FALSE
A34: WK39: 21 t/m 25 sep. | B34: TAKEN & OPDRACHTEN | H34: FALSE | I34: FALSE
A35: Kijken & Luisteren | B35: In de les krijg je uitleg bij het boek Big History Drempel 1 en kijken we filmpjes bij de stof | G35: FALSE
A36: Maken | B36: Maak de vragen bij de stof | G36: FALSE
A37: Keuzemenu | G37: FALSE
A38: Keuzemenu | G38: FALSE
A39: Keuzemenu | G39: FALSE
A40: WK40: 28 t/m 2 okt. | B40: TAKEN & OPDRACHTEN | H40: FALSE | I40: FALSE
A41: Kijken & Luisteren | B41: In de les krijg je uitleg bij het boek Big History Drempel 1 en kijken we filmpjes bij de stof | G41: FALSE
A42: Maken | B42: Maak de vragen bij de stof | G42: FALSE
A43: Keuzemenu | G43: FALSE
A44: Keuzemenu | G44: FALSE
A45: Keuzemenu | G45: FALSE
A46: WK41: 5 t/m 9 okt. Di. Brugklasdag | B46: TAKEN & OPDRACHTEN | H46: FALSE | I46: FALSE
A47: Herhalen | B47: We nemen in de les de gemaakte opdrachten tot nu toe door, en zorgen dat alle vragen bij Big History beantwoord zijn. | G47: FALSE
A48: Keuzemenu | G48: FALSE
A49: Keuzemenu | G49: FALSE
A50: Keuzemenu | G50: FALSE
A51: Keuzemenu | G51: FALSE
A52: WEEK 42 HERFSTVAKANTIE
A53: WK43: 19 t/m 23 okt. Vr. Daltondag | B53: TAKEN & OPDRACHTEN | H53: FALSE | I53: FALSE
A54: Leren | B54: Zorg dat je de stof en begrippen uit het boek (ook digitaal beschikbaar via Som) van de inleiding en drempel 1 aan de hand van de vragen die je daarbij gemaakt hebt snapt en kunt uitleggen | G54: FALSE
A55: Keuzemenu | G55: FALSE
A56: Keuzemenu | G56: FALSE
A57: Keuzemenu | G57: FALSE
A58: Keuzemenu | G58: FALSE
A59: WEEK 44 TOETSWEEK ONDERBOUW EN BOVENBOUW (MA. 26 OKT. T/M VR. 30 OKT.)
A61: UITDAGINGEN/EXTRA MOGELIJKHEDEN
A69: TOETS
A70: SE1: Big History inleiding & drempel 1. De toets maken we in de eerste week na de toetsweek, zorg dus dat je daarop bent voorbereid!
