Workbook

Sheet Overzicht
A2: AK | D2: BECO | G2: BI | J2: DU | M2: ECO | P2: EN | S2: FA | V2: GS | Y2: NAT | AB2: NE | AE2: NLT | AH2: SK | AK2: SP | AN2: WISA | AQ2: WISB | AT2: WOA
A3: WK 35 | B3: =AK!H10 -> FALSE | D3: WK 35 | E3: =BECO!H16 -> FALSE | G3: WK 35 | H3: =BI!H16 -> FALSE | J3: WK 35 | K3: =DU!H16 -> FALSE | M3: WK 35 | N3: =ECO!H16 -> FALSE | P3: WK 35 | Q3: =EN!H16 -> FALSE | S3: WK 35 | T3: =FA!H10 -> FALSE | V3: WK 35 | W3: =GS!H16 -> FALSE | Y3: WK 35 | Z3: =NAT!H16 -> FALSE | AB3: WK 35 | AC3: =NE!H16 -> FALSE | AE3: WK 35 | AF3: =NLT!H16 -> FALSE | AH3: WK 35 | AI3: =SK!H16 -> FALSE | AK3: WK 35 | AL3: =SP!H16 -> FALSE | AN3: WK 35 | AO3: =WISA!H16 -> FALSE | AQ3: WK 35 | AR3: =WISB!H16 -> FALSE | AT3: WK 35 | AU3: =WOA!H16 -> FALSE
A4: WK 36 | B4: =AK!H16 -> FALSE | D4: WK 36 | E4: =BECO!H22 -> FALSE | G4: WK 36 | H4: =BI!H22 -> FALSE | J4: WK 36 | K4: =DU!H22 -> FALSE | M4: WK 36 | N4: =ECO!H22 -> FALSE | P4: WK 36 | Q4: =EN!H22 -> FALSE | S4: WK 36 | T4: =FA!H16 -> FALSE | V4: WK 36 | W4: =GS!H22 -> FALSE | Y4: WK 36 | Z4: =NAT!H22 -> FALSE | AB4: WK 36 | AC4: =NE!H22 -> FALSE | AE4: WK 36 | AF4: =NLT!H22 -> FALSE | AH4: WK 36 | AI4: =SK!H22 -> FALSE | AK4: WK 36 | AL4: =SP!H22 -> FALSE | AN4: WK 36 | AO4: =WISA!H22 -> FALSE | AQ4: WK 36 | AR4: =WISB!H22 -> FALSE | AT4: WK 36 | AU4: =WOA!H22 -> FALSE
A5: WK 37 | B5: =AK!H22 -> FALSE | D5: WK 37 | E5: =BECO!H28 -> FALSE | G5: WK 37 | H5: =BI!H28 -> FALSE | J5: WK 37 | K5: =DU!H28 -> FALSE | M5: WK 37 | N5: =ECO!H28 -> FALSE | P5: WK 37 | Q5: =EN!H28 -> FALSE | S5: WK 37 | T5: =FA!H22 -> FALSE | V5: WK 37 | W5: =GS!H28 -> FALSE | Y5: WK 37 | Z5: =NAT!H28 -> FALSE | AB5: WK 37 | AC5: =NE!H28 -> FALSE | AE5: WK 37 | AF5: =NLT!H28 -> FALSE | AH5: WK 37 | AI5: =SK!H28 -> FALSE | AK5: WK 37 | AL5: =SP!H28 -> FALSE | AN5: WK 37 | AO5: =WISA!H28 -> FALSE | AQ5: WK 37 | AR5: =WISB!H28 -> FALSE | AT5: WK 37 | AU5: =WOA!H28 -> FALSE
A6: WK 38 | B6: =AK!H28 -> FALSE | D6: WK 38 | E6: =BECO!H35 | G6: WK 38 | H6: =BI!H35 | J6: WK 38 | K6: =DU!H35 | M6: WK 38 | N6: =ECO!H35 | P6: WK 38 | Q6: =EN!H35 | S6: WK 38 | T6: =FA!H28 -> FALSE | V6: WK 38 | W6: =GS!H35 | Y6: WK 38 | Z6: =NAT!H35 | AB6: WK 38 | AC6: =NE!H35 | AE6: WK 38 | AF6: =NLT!H35 | AH6: WK 38 | AI6: =SK!H35 | AK6: WK 38 | AL6: =SP!H35 | AN6: WK 38 | AO6: =WISA!H35 | AQ6: WK 38 | AR6: =WISB!H35 | AT6: WK 38 | AU6: =WOA!H35
A7: WK 39 | B7: =AK!H34 -> FALSE | D7: WK 39 | E7: =BECO!H41 | G7: WK 39 | H7: =BI!H41 | J7: WK 39 | K7: =DU!H41 | M7: WK 39 | N7: =ECO!H41 | P7: WK 39 | Q7: =EN!H41 | S7: WK 39 | T7: =FA!H34 -> FALSE | V7: WK 39 | W7: =GS!H41 | Y7: WK 39 | Z7: =NAT!H41 | AB7: WK 39 | AC7: =NE!H41 | AE7: WK 39 | AF7: =NLT!H41 | AH7: WK 39 | AI7: =SK!H41 | AK7: WK 39 | AL7: =SP!H41 | AN7: WK 39 | AO7: =WISA!H41 | AQ7: WK 39 | AR7: =WISB!H41 | AT7: WK 39 | AU7: =WOA!H41
A8: WK 40 | B8: =AK!H40 -> FALSE | D8: WK 40 | E8: =BECO!H47 | G8: WK 40 | H8: =BI!H47 | J8: WK 40 | K8: =DU!H47 | M8: WK 40 | N8: =ECO!H47 | P8: WK 40 | Q8: =EN!H47 | S8: WK 40 | T8: =FA!H40 -> FALSE | V8: WK 40 | W8: =GS!H47 | Y8: WK 40 | Z8: =NAT!H47 | AB8: WK 40 | AC8: =NE!H47 | AE8: WK 40 | AF8: =NLT!H47 | AH8: WK 40 | AI8: =SK!H47 | AK8: WK 40 | AL8: =SP!H47 | AN8: WK 40 | AO8: =WISA!H47 | AQ8: WK 40 | AR8: =WISB!H47 | AT8: WK 40 | AU8: =WOA!H47
A9: WK 41 | B9: =AK!H46 -> FALSE | D9: WK 41 | E9: =BECO!H54 | G9: WK 41 | H9: =BI!H54 | J9: WK 41 | K9: =DU!H54 | M9: WK 41 | N9: =ECO!H54 | P9: WK 41 | Q9: =EN!H54 | S9: WK 41 | T9: =FA!H46 -> FALSE | V9: WK 41 | W9: =GS!H54 | Y9: WK 41 | Z9: =NAT!H54 | AB9: WK 41 | AC9: =NE!H54 | AE9: WK 41 | AF9: =NLT!H54 | AH9: WK 41 | AI9: =SK!H54 | AK9: WK 41 | AL9: =SP!H54 | AN9: WK 41 | AO9: =WISA!H54 | AQ9: WK 41 | AR9: =WISB!H54 | AT9: WK 41 | AU9: =WOA!H54
A10: WK 43 | B10: =AK!H53 -> FALSE | D10: WK 43 | E10: =BECO!H60 | G10: WK 43 | H10: =BI!H60 | J10: WK 43 | K10: =DU!H60 | M10: WK 43 | N10: =ECO!H60 | P10: WK 43 | Q10: =EN!H60 | S10: WK 43 | T10: =FA!H53 -> FALSE | V10: WK 43 | W10: =GS!H60 | Y10: WK 43 | Z10: =NAT!H60 | AB10: WK 43 | AC10: =NE!H60 | AE10: WK 43 | AF10: =NLT!H60 | AH10: WK 43 | AI10: =SK!H60 | AK10: WK 43 | AL10: =SP!H60 | AN10: WK 43 | AO10: =WISA!H60 | AQ10: WK 43 | AR10: =WISB!H60 | AT10: WK 43 | AU10: =WOA!H60

Sheet AK
B1: AARDRIJKSKUNDE (AK) | K1: PERIODE 1
A3: ALGEMENE INFORMATIE
A4: Deze periode werken we met het boek Klimaatvraagstukken.
A5: Zorg dus dat je dit boek steeds meeneemt naar de les, net als een schrift.
A6: Aan het einde van de periode, in de toetsweek, heb je een 10%-PTA-toets over dit onderwerp.
A7: Zorg dat je
A9: VAKINHOUD | H9: IK HEB HET GEDAAN | I9: IK BEHEERS HET | J9: RUIMTE VOOR REFLECTIE
A10: WK35: 24 t/m 28 aug. | B10: TAKEN & OPDRACHTEN | H10: FALSE | I10: FALSE
A11: Daltontaak (verplicht) | B11: instaptoets blz 9-10 maken, dit kun je doen voorafgaande aan de eerste les | G11: FALSE
A12: Luisteren | B12: introductie van de methode en het onderwerp | G12: FALSE
A13: Lezen | B13: §1.1 blz 11 t/m 14 | G13: FALSE
A14: Maken | B14: §1.1 opgaven 1 t/m 8 | G14: FALSE
A15: Keuzemenu | G15: FALSE
A16: WK36: 31 t/m 4 sep. | B16: TAKEN & OPDRACHTEN | H16: FALSE | I16: FALSE
A17: Daltontaak (verplicht) | B17: Nakijken opgaven §1.1 | G17: FALSE
A18: Lezen | B18: §1.2 en §1.3 atmosfeer en hydrosfeer | G18: FALSE
A19: Maken | B19: §1.2 opgaven 1 t/m 6 | G19: FALSE
A20: Maken | B20: §1.3 opgaven 1 t/m 6 | G20: FALSE
A21: Daltontaak (verplicht) | B21: opzoeken met de atlas | G21: FALSE
A22: WK37: 7 t/m 11 sep. Examenreisweek | B22: TAKEN & OPDRACHTEN | H22: FALSE | I22: FALSE
A23: Keuzemenu | G23: FALSE
A24: Keuzemenu | G24: FALSE
A25: Keuzemenu | G25: FALSE
A26: Keuzemenu | G26: FALSE
A27: Keuzemenu | G27: FALSE
A28: WK38: 14 t/m 18 sep. | B28: TAKEN & OPDRACHTEN | H28: FALSE | I28: FALSE
A29: Daltontaak (verplicht) | B29: nakijken opgaven §1.2 en §1.3 | G29: FALSE
A30: Lezen | B30: §1.4 en §1.5 patronen in weer en klimaat - het klimaat als systeem | G30: FALSE
A31: Maken | B31: §1.4 opgaven 1 t/m 7 | G31: FALSE
A32: Maken | B32: §1.5 opgaven 1 t/m 7 | G32: FALSE
A33: Keuzemenu | G33: FALSE
A34: WK39: 21 t/m 25 sep. | B34: TAKEN & OPDRACHTEN | H34: FALSE | I34: FALSE
A35: Aantekening | B35: huidige klimaten | G35: FALSE
A36: Daltontaak (verplicht) | B36: startopdrachten en instaptoets hoofdstuk 2 blz 54-55 | G36: FALSE
A37: Lezen | B37: §2.1 woestijnaarde | G37: FALSE
A38: Maken | B38: §2.1 opgaven 1 t/m 7 | G38: FALSE
A39: Daltontaak (verplicht) | B39: oefenen met klimaatgrafieken | G39: FALSE
A40: WK40: 28 t/m 2 okt. | B40: TAKEN & OPDRACHTEN | H40: FALSE | I40: FALSE
A41: Lezen | B41: §2.2 en §2.3 | G41: FALSE
A42: Maken | B42: §2.2 opgaven 1 t/m 7 | G42: FALSE
...

Sheet BECO
B1: BEDRIJFSECONOMIE (BECO) | K1: PERIODE 1
A3: ALGEMENE INFORMATIE
A4: Net als vorig schooljaar hebben we een werkboek voor BECO dat begint per onderdeel met theorie gevolgd door het maken van opgaven (toepassen van theorie).
A5: Met BECO beginnen we deze periode met PO Marketing. Jullie geven een powerpointpresentatie over het gekozen marketingbeleid van een bedrijf en passen daarbij de theorie toe van dit bedrijf.
A6: Verder gaan we met BKB verder met H6 t/m H8. We werken uiteindelijk toe naar het extra diploma Basiskennis Boekhouden wat je kan behalen medio februari.
A7: Het theorieboek BKB is digitaal en staat weer bij leermiddelen-algemeen in Som. Werkboekje krijg je in de les.
A9: VAKINHOUD | H9: IK HEB HET GEDAAN | I9: IK BEHEERS HET | J9: RUIMTE VOOR REFLECTIE
A10: WK35: 24 t/m 28 aug. | B10: TAKEN & OPDRACHTEN | H10: FALSE | I10: FALSE
A11: Kijken & Luisteren | B11: BECO; Opstarten marketingopdracht (2 lesuren) | G11: FALSE
A12: Kijken & Luisteren | B12: BKB (1 uur) activeren t/m H5 (rekening bezit, schuld en hulprekeningen EV) | G12: FALSE
A13: Maken & Nakijken | B13: BKB opgave 6.4 a (antwoorden BKB zie studiewijzer BECO) | G13: FALSE
A14: Keuzemenu | G14: FALSE
A15: Keuzemenu | G15: FALSE
A16: WK36: 31 t/m 4 sep. | B16: TAKEN & OPDRACHTEN | H16: FALSE | I16: FALSE
A17: Maken | B17: BECO; ZW aan presentatie PO Marketing in computerlokaal (2 lesuren) | G17: FALSE
A18: Kijken & Luisteren | B18: BKB; P 6.1 Kolommenbalans BKB | G18: FALSE
A19: Maken & Nakijken | B19: BKB opgave 6.4 afmaken | G19: FALSE
A20: Keuzemenu | G20: FALSE
A21: Keuzemenu | G21: FALSE
A22: WK37: 7 t/m 11 sep. Examenreisweek | B22: TAKEN & OPDRACHTEN | H22: FALSE | I22: FALSE
A23: Aantekening | B23: Deze week geen lessen Huisman ivm reisweek havo 5. Werk aan jullie presentaties PO Marketing namelijk volgende week en week erna presentaties voor een 4-toets cijfer. | G23: FALSE
A24: Keuzemenu | G24: FALSE
A25: Keuzemenu | G25: FALSE
A26: Keuzemenu | G26: FALSE
A27: Keuzemenu | G27: FALSE
A28: WK38: 14 t/m 18 sep. | B28: TAKEN & OPDRACHTEN | H28: FALSE | I28: FALSE
A29: Maken | B29: BECO ZW aan presentatie PO Marketing (1 lesuur) | G29: FALSE
A30: Spreken | B30: Presentaties groepje 1 t/m 3 (maximaal 10 minuten in drietallen 4-toets cijfer) | G30: FALSE
A31: Kijken & Luisteren | B31: BKB; P6.2 (Subadministratie) en 6.3 bijboeken en opstarten | G31: FALSE
A32: Maken & Nakijken | B32: BKB:opg. 6.6 a, c en e (alleen debiteuren) en 6.7 | G32: FALSE
A33: Keuzemenu | G33: FALSE
A34: WK39: 21 t/m 25 sep. | B34: TAKEN & OPDRACHTEN | H34: FALSE | I34: FALSE
A35: Spreken | B35: BECO Presentaties PO Marketing 2 lessen groepjes 4 t/m 6 en groepje 7 t/m 9. Maximaal 10 minuten voor 4-toets cijfer. | G35: FALSE
A36: Kijken & Luisteren | B36: BKB H7 (BTW) | G36: FALSE
A37: Maken & Nakijken | B37: BKB opg. 7.3 t/m 7.6 | G37: FALSE
A38: Keuzemenu | G38: FALSE
A39: Keuzemenu | G39: FALSE
A40: WK40: 28 t/m 2 okt. | B40: TAKEN & OPDRACHTEN | H40: FALSE | I40: FALSE
A41: Kijken & Luisteren | B41: BECO; Rechtsvormen TL 1 (EZ/BV) en TL 2 (BV/NV) | G41: FALSE
A42: Maken & Nakijken | B42: BECO; Opgave 2.30 t/m 2.33 | G42: FALSE
...

Sheet BI
B1: BIOLOGIE (BI) | K1: PERIODE 1
A3: ALGEMENE INFORMATIE
A4: Waarom heb je zuurstof nodig? Hoe ontstaat verzuring van je spieren? Hoe werkt een ketogeendieet? Hebben planten ook zuursstof nodig? Dit zijn vragen die we gaan beantwoorden en te maken hebben met onze stofwisseling.
A5: We gaan ons verdiepen in de chemische reacties die in ons lichaam plaatsvinden? Tijdens de Daltonuren kan je oefenen door de opdrachten te maken en extra uitleg vragen?
A6: De opdrachten maak je op je iPAD. Stencils bewaar je in je snelhechter.
A7: Na deze periode weet je hoe enzymen werken, snap je hoe de verbranding van koolhydraten (suikers) en vetten plaatsvindt en hoe fotosynthese in planten plaatsvindt.
A9: VAKINHOUD | H9: IK HEB HET GEDAAN | I9: IK BEHEERS HET | J9: RUIMTE VOOR REFLECTIE
A10: WK35: 24 t/m 28 aug. | B10: TAKEN & OPDRACHTEN | H10: FALSE | I10: FALSE
A11: Lezen | B11: Basisstof 1 | G11: FALSE
A12: Oefenen | B12: Samenvattingsvragen (Reproduktie-vragen) | G12: FALSE
A13: Schrijven | B13: Plaatjes-samenvatting | G13: FALSE
A14: Daltontaak | B14: BvJ opdrachten (1-6) maken als toets en nakijken en bespreken met elkaar. | G14: FALSE
A15: Maken | B15: in de les: Stencil Stofwisseling-overzicht | G15: FALSE
A16: WK36: 31 t/m 4 sep. | B16: TAKEN & OPDRACHTEN | H16: FALSE | I16: FALSE
A17: Lezen | B17: Basisstof 2 | G17: FALSE
A18: Oefenen | B18: Samenvattingsvragen (Reproduktie-vragen) | G18: FALSE
A19: Schrijven | B19: Plaatjes-samenvatting | G19: FALSE
A20: Daltontaak | B20: BvJ opdrachten (12-22) maken als toets en nakijken en bespreken met elkaar. | G20: FALSE
A21: Maken | B21: in de les: Stencil Enzymen | G21: FALSE
A22: WK37: 7 t/m 11 sep. Examenreisweek | B22: TAKEN & OPDRACHTEN | H22: FALSE | I22: FALSE
A23: Onderzoeken | B23: Invloed van temperatuur op de activiteit van katalase | G23: FALSE
A24: Inleveren | B24: Meetrapport "Invloed van temperatuur op de activiteit van katalase" | G24: FALSE
A25: Onderzoeken | B25: Invloed van pH op de activiteit van amylase | G25: FALSE
A26: Inleveren | B26: Meetrapport "Invloed van pH op de activiteit van amylase" | G26: FALSE
A27: Keuzemenu | G27: FALSE
A28: WK38: 14 t/m 18 sep. | B28: TAKEN & OPDRACHTEN | H28: FALSE | I28: FALSE
A29: Lezen | B29: Basisstof 5: Dissimilatie : Glycolyse en Citroenzuurcyclus | G29: FALSE
A30: Oefenen | B30: Samenvattingsvragen (Reproduktie-vragen) | G30: FALSE
A31: Schrijven | B31: Plaatjes-samenvatting | G31: FALSE
A32: Daltontaak | B32: BvJ opdrachten (44-47) maken als toets en nakijken en bespreken met elkaar. | G32: FALSE
A33: Maken | B33: in de les: Stencil Dissimilatie | G33: FALSE
A34: WK39: 21 t/m 25 sep. | B34: TAKEN & OPDRACHTEN | H34: FALSE | I34: FALSE
A35: Lezen | B35: Basisstof 5: Dissimilatie : Oxydatieve fosforylering, anaerobe dissimilatie , dissimilatie vetten | G35: FALSE
A36: Oefenen | B36: Samenvattingsvragen (Reproduktie-vragen) | G36: FALSE
A37: Schrijven | B37: Plaatjes-samenvatting | G37: FALSE
A38: Daltontaak | B38: BvJ opdrachten (48-55) maken als toets en nakijken en bespreken met elkaar. | G38: FALSE
A39: Maken | B39: in de les: Stencil Dissimilatie vetten | G39: FALSE
A40: WK40: 28 t/m 2 okt. | B40: TAKEN & OPDRACHTEN | H40: FALSE | I40: FALSE
A41: Lezen | B41: Basisstof 3: Fotosynthese | G41: FALSE
A42: Oefenen | B42: Samenvattingsvragen (Reproduktie-vragen) | G42: FALSE
...

Sheet DU
B1: DUITS (DU) | K1: PERIODE 1
A3: ALGEMENE INFORMATIE
A4: Welkom bij Duits. In deze periode leggen we de focus op Examenidioom en mondelinge taalvaardigheid. Ook komen alle andere vaardigheden aan bod. Verder steek je nuttige informatie op over de Duitstalige landen. Je krijgt in de lessen zonodig uitleg over grammatica. En... er wordt in dit jaar veel zelfstandigheid van je verwacht, dus maak aantekeningen, wees actief betrokken en werk samen. Maar ook: stel vragen als je ergens tegenaan loopt.
A5: De Daltonuren zijn bedoeld om taken af te krijgen, te herhalen en te verdiepen. Heb je extra uitdaging nodig? Laat het weten!
A6: Meenemen: In de lessen neem je het boek Neue Kontakte 5 vwo, een schrift (ein Heft), etui (met markers, pennen, potloden) en het Examenidioom mee. Het Examenidioom wordt uitgedeeld in de eerste week.
A7: Er zijn twee toetsen waarop je gedurende deze periode moet voorbereiden. Toets 1 is de Hoofdstuktoets 1 (toetsweek) en Toets 2 Examenidioom deel 1+2 deadline voor de kerst in periode 2. Dus begin op tijd met leren! LEERDOELEN: Je kunt een eenvoudige tv-reportage en radio-interview begrijpen. Je kunt hoofdpunten en specifieke details in een tekst begrijpen. Je kunt iemand onderbreken en van onderwerp veranderen. Je kunt oplossingen aandragen voor ontstane problemen. Je kunt een kort, eenvoudig verslag schrijven volgens een vast format. Je kunt complexe teksten tot in detail begrijpen, mits moeilijke passages herlezen kunnen worden. Je kunt verslag doen van ervaringen en commentaar geven. Je kunt voorstellen doen en daarin overtuigen. Je kunt je mening geven over onderwerpen binnen de eigen belevingssfeer.
A9: VAKINHOUD | H9: IK HEB HET GEDAAN | I9: IK BEHEERS HET | J9: RUIMTE VOOR REFLECTIE
A10: WK35: 24 t/m 28 aug. | B10: TAKEN & OPDRACHTEN | H10: FALSE | I10: FALSE
A11: WS + Spreken | B11: Sommerferien (vrij spreken) | G11: FALSE
A12: Kijken & Luisteren | B12: S. 10 + 11 Nr. 2 tm 4 | G12: FALSE
A13: Extra materiaal | B13: uitdelen examenidioom deel 1 | G13: FALSE
A14: Keuzemenu | G14: FALSE
A15: Daltontaak | B15: leer S. 60 A +B tekst 1 (D-N) | G15: FALSE
A16: WK36: 31 t/m 4 sep. | B16: TAKEN & OPDRACHTEN | H16: FALSE | I16: FALSE
A17: Lezen | B17: S. 13 Nr. 10 tm 12 (bij iedere leestekst vertaal eerst de vragen en antwoorden naar het NL + onderstreep in de tekst waar het antwoord staat) | G17: FALSE
A18: Grammatica | B18: S. 18 + 19 Nr. 17 tm 19 | G18: FALSE
A19: WS + Spreken | B19: S. 23, 24 Nr. 26, 27 | G19: FALSE
A20: Keuzemenu | G20: FALSE
A21: Daltontaak | B21: leer S. 61 helemaal (D-N) + examenidioom S. 2+3 (D-N) + S. 21 Nr. 24 | G21: FALSE
A22: WK37: 7 t/m 11 sep. Examenreisweek | B22: TAKEN & OPDRACHTEN | H22: FALSE | I22: FALSE
A23: Grammatica | B23: S. 21 + 22 Nr. 22+23 | G23: FALSE
A24: Kijken & Luisteren | B24: S. 12 Nr. 6 + 8 | G24: FALSE
A25: Lezen | B25: S. 15 tm 17 Nr. 13 tm 16 | G25: FALSE
A26: WS + Spreken | B26: S. 28 Nr. 33 - tijd over? S. 28 Nr. 36 | G26: FALSE
A27: Daltontaak | B27: herhaal S. 60 +61 + leer examenidioom S. 4 +5 (D-N), S. 25 Nr. 29+30 | G27: FALSE
A28: WK38: 14 t/m 18 sep. | B28: TAKEN & OPDRACHTEN | H28: FALSE | I28: FALSE
A29: Test jezelf | B29: Oefentoets S. 60 + 61 + examenidioom S. 2 tm 5 (een snelle kennischeck – cijferloos) | G29: FALSE
A30: Land & Kultur | B30: lees S. 32 + S. 33 Nr. 5 | G30: FALSE
A31: Keuzemenu | G31: FALSE
A32: Keuzemenu | G32: FALSE
A33: Daltontaak | B33: S. 62 linker kolom leren (N-D) + examenidioom S. 6 (D-N) | G33: FALSE
A34: WK39: 21 t/m 25 sep. | B34: TAKEN & OPDRACHTEN | H34: FALSE | I34: FALSE
A35: Schrijven | B35: S. 30 + 31 Nr. 38 tm 40 - let op spelling! | G35: FALSE
A36: Kijken & Luisteren | B36: S. 34 + 35 Nr. 42 + 44 | G36: FALSE
A37: WS + Spreken | B37: S. 45 Nr. 57, 58 | G37: FALSE
A38: Keuzemenu | G38: FALSE
A39: Daltontaak | B39: S. 62 rechter kolom, leren (N-D) + examenidioom S. 7 (D-N) | G39: FALSE
A40: WK40: 28 t/m 2 okt. | B40: TAKEN & OPDRACHTEN | H40: FALSE | I40: FALSE
A41: Lezen | B41: S. 36 tm 40 Nr. 45, 46 Cito-teksten | G41: FALSE
A42: Grammatica | B42: S. 41 Nr. 48, S. 42 Nr. 50+51 | G42: FALSE
...

Sheet ECO
B1: ECONOMIE (ECO) | K1: PERIODE 1
A3: ALGEMENE INFORMATIE
A5: Wij gaan ons deze periode met de lesbrief Arbeid bezighouden. Dit gaat over de arbeidsmarkt, wie zijn hier de vragers en aanbieders? Waardoor wordt deze markt beïnvloed? Welke problemen treden op en welke oplossingen zijn er mogelijk? Lesbrief Arbeid meenemen
A9: VAKINHOUD | H9: IK HEB HET GEDAAN | I9: IK BEHEERS HET | J9: RUIMTE VOOR REFLECTIE
A10: WK35: 24 t/m 28 aug. | B10: TAKEN & OPDRACHTEN | H10: FALSE | I10: FALSE
A11: Kijken & Luisteren | B11: Inleiding van het nieuwe onderwerp "lesbrief Arbeid". | G11: FALSE
A12: Maken | B12: Maken 1.3 t/m 1.13 | G12: FALSE
A13: Keuzemenu | G13: FALSE
A14: Keuzemenu | G14: FALSE
A15: Keuzemenu | G15: FALSE
A16: WK36: 31 t/m 4 sep. | B16: TAKEN & OPDRACHTEN | H16: FALSE | I16: FALSE
A17: Maken | B17: Maken 2.1 t/m 2.14 | G17: FALSE
A18: Nakijken | B18: Weektaak week 35 | G18: FALSE
A19: Daltontaak (optioneel) | B19: Maken van de weektaak | G19: FALSE
A20: Leren | B20: De stof van week 35 | G20: FALSE
A21: Keuzemenu | G21: FALSE
A22: WK37: 7 t/m 11 sep. Examenreisweek | B22: TAKEN & OPDRACHTEN | H22: FALSE | I22: FALSE
A23: Maken | B23: Maken 2.15 t/m 2.25 | G23: FALSE
A24: Nakijken | B24: Weektaak week 36 | G24: FALSE
A25: Daltontaak (optioneel) | B25: Maken van de weektaak | G25: FALSE
A26: Leren | B26: De stof van week 36 | G26: FALSE
A27: Keuzemenu | G27: FALSE
A28: WK38: 14 t/m 18 sep. | B28: TAKEN & OPDRACHTEN | H28: FALSE | I28: FALSE
A29: Maken | B29: Maken 3.1 t/m 3.13 | G29: FALSE
A30: Nakijken | B30: Weektaak week 37 | G30: FALSE
A31: Daltontaak (optioneel) | B31: Maken van de weektaak | G31: FALSE
A32: Leren | B32: De stof van week 37 | G32: FALSE
A33: Keuzemenu | G33: FALSE
A34: WK39: 21 t/m 25 sep. | B34: TAKEN & OPDRACHTEN | H34: FALSE | I34: FALSE
A35: Maken | B35: Maken 4.1 t/m 4.13 | G35: FALSE
A36: Nakijken | B36: Weektaak week 38 | G36: FALSE
A37: Daltontaak (optioneel) | B37: Maken van de weektaak | G37: FALSE
A38: Leren | B38: De stof van week 38 | G38: FALSE
A39: Keuzemenu | G39: FALSE
A40: WK40: 28 t/m 2 okt. | B40: TAKEN & OPDRACHTEN | H40: FALSE | I40: FALSE
A41: Maken | B41: Afmaken de rest van de opdrachten van H4 | G41: FALSE
A42: Nakijken | B42: Weektaak week 39 | G42: FALSE
A43: Daltontaak (optioneel) | B43: Maken van de weektaak | G43: FALSE
A44: Leren | B44: De stof van week 39 | G44: FALSE
A45: Keuzemenu | G45: FALSE
...

Sheet EN
B1: ENGELS (EN) | K1: PERIODE 1
A3: ALGEMENE INFORMATIE
A4: Period 1 will focus on listening and literature . We will start reading a book in class
A5: Material used: Learnbeat and hand-out Fahrenheit 451. Make sure you bring it to class for a literature circle lesson
A6: Make sure you always have earphones, a charged iPad and highlighters/ markers with you
A7: Learning objectives: progress in listening skills, critical thinking, improving text understanding and increasing reading pleasure
A9: VAKINHOUD | H9: IK HEB HET GEDAAN | I9: IK BEHEERS HET | J9: RUIMTE VOOR REFLECTIE
A10: WK35: 24 t/m 28 aug. | B10: TAKEN & OPDRACHTEN | H10: FALSE | I10: FALSE
A11: Leren | B11: Vocabulary A and B (A way with words) | G11: FALSE
A12: Lezen | B12: Pages 1-20 of Fahrenheit 451 (ready first lesson next week) | G12: FALSE
A13: Doen | B13: Prepare your role for literature circle lesson 1 | G13: FALSE
A14: Reflectie | B14: Fill out this week's reflection form: https://forms.gle/sRWuRo2WxA3P6GRH8 | G14: FALSE
A15: Keuzemenu | G15: FALSE
A16: WK36: 31 t/m 4 sep. | B16: TAKEN & OPDRACHTEN | H16: FALSE | I16: FALSE
A17: Leren | B17: Vocabulary B and C (A way with words) | G17: FALSE
A18: Lezen | B18: Pages 21-40 Fahrenheit 451 (ready before first lesson next week) | G18: FALSE
A19: Doen | B19: Prepare your role for literature circle lesson 2 | G19: FALSE
A20: Reflectie | B20: Fill out this week's reflection form: https://forms.gle/ZQY762Y8X76Ypo1j6 | G20: FALSE
A21: Keuzemenu | G21: FALSE
A22: WK37: 7 t/m 11 sep. Examenreisweek | B22: TAKEN & OPDRACHTEN | H22: FALSE | I22: FALSE
A23: Leren | B23: Vocabulary C and D (A way with words) | G23: FALSE
A24: Lezen | B24: Pages 41-60 of Fahrenheit 451 (ready before first lesson next week) | G24: FALSE
A25: Doen | B25: Prepare your role for literature circle lesson 3 | G25: FALSE
A26: Reflectie | B26: Fill out this week's reflection form: https://forms.gle/cTn7V5m23zskeNfCA | G26: FALSE
A27: Keuzemenu | G27: FALSE
A28: WK38: 14 t/m 18 sep. | B28: TAKEN & OPDRACHTEN | H28: FALSE | I28: FALSE
A29: Leren | B29: Vocabulary D and E (A way with words) | G29: FALSE
A30: Lezen | B30: Pages 61-80 of Fahrenheit 451 (ready before first lesson next week) | G30: FALSE
A31: Doen | B31: Prepare your role for literature lesson 4 | G31: FALSE
A32: Luisteren | B32: Practise listening (Woots) | G32: FALSE
A33: Reflectie | B33: Fill out this week's reflection form: https://forms.gle/14rzj5PQcP8R8Y517 | G33: FALSE
A34: WK39: 21 t/m 25 sep. | B34: TAKEN & OPDRACHTEN | H34: FALSE | I34: FALSE
A35: Leren | B35: Vocabulary E and F (A way with words) | G35: FALSE
A36: Lezen | B36: Pages 81-100 of Fahrenheit 451 | G36: FALSE
A37: Doen | B37: Prepare your role for literature circle lesson 5 | G37: FALSE
A38: Luisteren | B38: Practise listening (Woots) | G38: FALSE
A39: Reflectie | B39: Fill out this week's reflection form: https://forms.gle/VvtP3LyFuxVdtRzB7 | G39: FALSE
A40: WK40: 28 t/m 2 okt. | B40: TAKEN & OPDRACHTEN | H40: FALSE | I40: FALSE
A41: Toets | B41: This week: 0-t A way with words A t/m F | G41: FALSE
A42: Lezen | B42: Pages 101-120 of Fahrenheit 451 (ready before first lesson next week) | G42: FALSE
...

Sheet FA
B1: FRANS (FA) | K1: PERIODE 1
A3: ALGEMENE INFORMATIE
A4: Wat neem je mee naar de les? Boek (Libre Service), snelhechter met lijntjespapier en 5 tabbladen, aantekeningen van vorig jaar, oortjes of koptelefoon en un bon humeur!
A5: In periode 1 gaan we aan de slag met Unité 1 Passions en Unité 2 en ga je o.a. een email schrijven over je vakantiebaantje en een gesprek voeren over wat je in de vakantie gedaan hebt en wat je daarvan vond. Daarbij worden er 2 periodes Literatuurgeschiedenis (Existentialisme en Pluralisme) behandeld waarvan de punten meetellen in V6.
A6: Welke boeken/spullen/materialen zijn er nodig?
A7: Om succesvol te zijn, kom je voorbereid naar de lessen en hou je het leer-/oefenwerk goed bij. Je vindt het antwoordboek in de jaarbijlag in Somtoday. Noteer bij het nakijken altijd je vragen en stel deze tijdens de les of in een daltonuur.
A9: VAKINHOUD | H9: IK HEB HET GEDAAN | I9: IK BEHEERS HET | J9: RUIMTE VOOR REFLECTIE
A10: WK35: 24 t/m 28 aug. | B10: TAKEN & OPDRACHTEN | H10: FALSE | I10: FALSE
A11: Lezen | B11: Opstarten unité 1 | G11: FALSE
A12: Kijken & Luisteren | B12: Lees- en leerwerk bij Regarder | G12: FALSE
A13: Lezen | B13: Lees- en leerwerk bij Lire | G13: FALSE
A14: Doen | B14: Grammaire I | G14: FALSE
A15: Leren | B15: Unité 1 (examen)vocabulaire bij Regarder et Lire (link Quizlet) | G15: FALSE
A16: WK36: 31 t/m 4 sep. | B16: TAKEN & OPDRACHTEN | H16: FALSE | I16: FALSE
A17: Herhalen | B17: Unité 1 (examen)vocabulaire bij Regarder et Lire (link Quizlet) | G17: FALSE
A18: Leren | B18: Unité 1 (examen)vocabulaire bij Écrire en Écouter (link Quizlet) | G18: FALSE
A19: Schrijven | B19: Lees- en leerwerk bij Écrire | G19: FALSE
A20: Luisteren | B20: Lees- en leerwerk bij Écouter | G20: FALSE
A21: Keuzemenu | G21: FALSE
A22: WK37: 7 t/m 11 sep. Examenreisweek | B22: TAKEN & OPDRACHTEN | H22: FALSE | I22: FALSE
A23: Doen | B23: Grammaire II | G23: FALSE
A24: Spreken | B24: Lees- en leerwerk bij Parler | G24: FALSE
A25: Leren | B25: Unité 1 (examen)vocabulaire bij Parler (link Quizlet) | G25: FALSE
A26: Doen | B26: Grammaire III | G26: FALSE
A27: Toets | B27: Unité 1 (examen)vocabulaire (link Quizlet) | G27: FALSE
A28: WK38: 14 t/m 18 sep. | B28: TAKEN & OPDRACHTEN | H28: FALSE | I28: FALSE
A29: Lezen | B29: Opstarten unité 2 | G29: FALSE
A30: Kijken | B30: Lees- en leerwerk bij Regarder | G30: FALSE
A31: Lezen | B31: Lees- en leerwerk bij Lire | G31: FALSE
A32: Doen | B32: Grammaire I en opdracht literatuur | G32: FALSE
A33: Leren | B33: Unité 2 (examen)vocabulaire bij Regarder et Lire (link Quizlet) | G33: FALSE
A34: WK39: 21 t/m 25 sep. | B34: TAKEN & OPDRACHTEN | H34: FALSE | I34: FALSE
A35: Herhalen | B35: Unité 2 (examen)vocabulaire bij Regarder et Lire (link Quizlet) | G35: FALSE
A36: Leren | B36: Unité 1 (examen)vocabulaire bij Écrire en Écouter (link Quizlet) | G36: FALSE
A37: Schrijven | B37: Lees- en leerwerk bij Écrire | G37: FALSE
A38: Luisteren | B38: Lees- en leerwerk bij Écouter | G38: FALSE
A39: Keuzemenu | G39: FALSE
A40: WK40: 28 t/m 2 okt. | B40: TAKEN & OPDRACHTEN | H40: FALSE | I40: FALSE
A41: Doen | B41: Grammaire II | G41: FALSE
A42: Spreken | B42: Lees- en leerwerk bij Parler | G42: FALSE
...

Sheet GS
B1: GESCHIEDENIS (GS) | K1: PERIODE 1
A3: ALGEMENE INFORMATIE
A4: Welkom bij geschiedenis in 5 vwo. Deze periode werken we aan hoofdstuk 7 en 8. We onderzoeken hoe de moderne samenleving ontstond: van de oude orde en revoluties naar democratisering, industrialisatie en imperialisme.
A5: Naast de historische kennis oefnen we met belangrijke examenvaardigheden, zoals bronnen analyseren, oorzaak en gevolg en historische verbanden leggen.
A6: We gebruiken hiervoor het boek van geschiedeniswerkplaats.
A7: Na deze periode kun je uitleggen hoe politieke, economische en sociale veranderingen in de 18de en 19de eeuw de samenleving hebben veranderd.
A9: VAKINHOUD | H9: IK HEB HET GEDAAN | I9: IK BEHEERS HET | J9: RUIMTE VOOR REFLECTIE
A10: WK35: 24 t/m 28 aug. | B10: TAKEN & OPDRACHTEN | H10: FALSE | I10: FALSE
A11: Luisteren | B11: De Republiek en Europa in de 18de eeuw: de oude orde | G11: FALSE
A12: Luisteren & Maken | B12: H7 paragraaf 1 | G12: FALSE
A13: Maken | B13: basisvragen paragraaf 1, begrippenlijst bijwerken | G13: FALSE
A14: Daltontaak (verplicht) | B14: Waardoor kwam de oude orde onder druk te staan? | G14: FALSE
A15: Oefenen | B15: vaardigheid causaliteit | G15: FALSE
A16: WK36: 31 t/m 4 sep. | B16: TAKEN & OPDRACHTEN | H16: FALSE | I16: FALSE
A17: Luisteren | B17: De Verlichting en nieuwe ideeen over samenleving en bestuur | G17: FALSE
A18: Luisteren & Maken | B18: H7 paragraaf 2 | G18: FALSE
A19: Maken | B19: Basisvragen paragraaf 2, opdracht met bronanalyse | G19: FALSE
A20: Oefenen | B20: Bron koppelen aan historisch begrip/KA | G20: FALSE
A21: Keuzemenu | G21: FALSE
A22: WK37: 7 t/m 11 sep. Examenreisweek | B22: TAKEN & OPDRACHTEN | H22: FALSE | I22: FALSE
A23: Luisteren | B23: Revoluties: Amerika, Frankrijk en Nederland | G23: FALSE
A24: Luisteren & Maken | B24: Hoofdstuk 7 paragraaf 3 en 4 | G24: FALSE
A25: Maken | B25: Basisvragen, tijdlijn revoluties | G25: FALSE
A26: Oefenen | B26: verandering van continuiteit | G26: FALSE
A27: Test jezelf | B27: Hoofdstuk 7 | G27: FALSE
A28: WK38: 14 t/m 18 sep. | B28: TAKEN & OPDRACHTEN | H28: FALSE | I28: FALSE
A29: Luisteren | B29: Van Revolutie naar nieuwe politieke verhoudingen | G29: FALSE
A30: Luisteren & Maken | B30: Hoofdstuk 8 paragraaf 3 | G30: FALSE
A31: Maken | B31: Basisvragen paragraaf 2 | G31: FALSE
A32: Oefenen | B32: Historische begrippen toepassen in een examenvraag | G32: FALSE
A33: Keuzemenu | G33: FALSE
A34: WK39: 21 t/m 25 sep. | B34: TAKEN & OPDRACHTEN | H34: FALSE | I34: FALSE
A35: Luisteren | B35: Burgers krijgen meer invoed: democratisering | G35: FALSE
A36: Luisteren & Maken | B36: Hoofdstuk 8 paragraaf 4 en 5 | G36: FALSE
A37: Maken | B37: Basisvragen, schema politieke stromingen | G37: FALSE
A38: Oefenen | B38: Verklaringsvraag | G38: FALSE
A39: Keuzemenu | G39: FALSE
A40: WK40: 28 t/m 2 okt. | B40: TAKEN & OPDRACHTEN | H40: FALSE | I40: FALSE
A41: Luisteren | B41: Industriele revolutie en de nieuwe samenleving | G41: FALSE
A42: Luisteren & Maken | B42: Hoofdstuk 8 paragraaf 1 en 2, sociale kwestie | G42: FALSE
...

Sheet NAT
B1: NATUURKUNDE (NAT) | K1: PERIODE 1
A3: ALGEMENE INFORMATIE
A4: Welkom bij 5 vwo natuurkunde. We beginnen deze periode met hst 5 uit je 4 vwo boek (dus 4 vwo boek meenemen!)
A5: In de studiewijzer kun je steeds klikken op links naar video's en opgaven, ook staan er per week de aanbevolen opgaven om te maken.
A6: Let ook op de leerdoelen per week en kijk of je die steeds gehaald hebt.
A7: Deze periode is er een practicumtoets die je individueel moet maken en deze toets kost twee lesuren.
A9: VAKINHOUD | H9: IK HEB HET GEDAAN | I9: IK BEHEERS HET | J9: RUIMTE VOOR REFLECTIE
A10: WK35: 24 t/m 28 aug. | B10: TAKEN & OPDRACHTEN | H10: FALSE | I10: FALSE
A11: Herhalen | B11: Vervalvergelijkingen oefenopgaven straling.docx | G11: FALSE
A12: Lezen | B12: Paragraaf 5.3 Ioniserend en doordringend vermogen Leerdoel: Aangeven wat het doordringend vermogen is van elke stralingssoort | G12: FALSE
A13: Maken & Nakijken | B13: Opgaven 5.3: 24, 29, 30, 33, 34, 35 Leerdoel: rekenen met halveringsdikte | G13: FALSE
A14: Maken & Nakijken | B14: Werkblad halveringsdikte Werkblad halveringsdikte.docx | G14: FALSE
A15: Test jezelf | B15: Google formulier Kernverval, https://docs.google.com/forms/d/e/1FAIpQLSfvl9JfEUfaiDGCQIwUpciEn_KzzBuLDJ8Wvx_Y2hu5UwHqhQ/viewform?usp=sf_link | G15: FALSE
A16: WK36: 31 t/m 4 sep. | B16: TAKEN & OPDRACHTEN | H16: FALSE | I16: FALSE
A17: Lezen | B17: Paragraaf 5.4 Activiteit en halveringstijd Leerdoel: de begrippen activiteit en halveringstijd toepassen | G17: FALSE
A18: Kijken & Luisteren | B18: https://www.youtube.com/embed/Kxd9a8x_b-M | G18: FALSE
A19: Kijken & Luisteren | B19: Presentatie Activiteit Straling en medische beeldvormingBRET.pptx | G19: FALSE
A20: Maken & Nakijken | B20: Werkblad Activiteit Leerdoel: Uit een vervalkromme de halveringstijd en activiteit bepalen Opgaven Radioactiviteit.docx | G20: FALSE
A21: Maken & Nakijken | B21: Opgaven 5.4: 40 t/m 46 Leerdoel: rekenen met formules voor aantal kernen en activiteit | G21: FALSE
A22: WK37: 7 t/m 11 sep. Examenreisweek | B22: TAKEN & OPDRACHTEN | H22: FALSE | I22: FALSE
A23: Lezen | B23: Paragraaf 10.1 Elektromagnetische straling | G23: FALSE
A24: Maken & Nakijken | B24: Opgaven 10.1: 2, 3, 5, 7 Leerdoel: rekenen met energie, de frequentie en de golflengte van elektromagnetische straling | G24: FALSE
A25: Lezen | B25: Paragraaf 10.2 Effecten van straling | G25: FALSE
A26: Kijken & Luisteren | B26: Presentatie Dosis: medische beeldvorming dosis.pptx | G26: FALSE
A27: Maken & Nakijken | B27: Werkblad Dosis Leerdoel: rekenen met de formule voor Dosis en Dosisequivalent Oefenopgave Dosis en Dosisequivalent.docx | G27: FALSE
A28: WK38: 14 t/m 18 sep. | B28: TAKEN & OPDRACHTEN | H28: FALSE | I28: FALSE
A29: Maken & Nakijken | B29: Opgaven 10.2: 11 t/m 17 | G29: FALSE
A30: Kijken & Luisteren | B30: Video Dosis: https://www.youtube.com/embed/ZV62E96CD6k | G30: FALSE
A31: Kijken & Luisteren | B31: presentatie Medische Beeldvorming Leerdoel: Uitleggen hoe een echo en een MRI-scan werkt | G31: FALSE
A32: Lezen | B32: Paragraaf 10.3 Nucleaire diagnostiek | G32: FALSE
A33: Maken & Nakijken | B33: Opgaven 10.3: 22 t/m 24 | G33: FALSE
A34: WK39: 21 t/m 25 sep. | B34: TAKEN & OPDRACHTEN | H34: FALSE | I34: FALSE
A35: Maken & Nakijken | B35: Oefenopgaven PET scan Leerdoel: Uitleggen hoe een PET-scan werkt Oefenopgave PET scan.pdf | G35: FALSE
A36: Lezen | B36: Paragraaf 10.4 Overige medische Beeldvorming | G36: FALSE
A37: Maken & Nakijken | B37: Opgaven 10.4: 33, 34 en 35 | G37: FALSE
A38: Keuzemenu | G38: FALSE
A39: Keuzemenu | G39: FALSE
A40: WK40: 28 t/m 2 okt. | B40: TAKEN & OPDRACHTEN | H40: FALSE | I40: FALSE
A41: Lezen | B41: Paragraaf 7.1 Temperatuur, warmte en fase Leerdoel: rekenen met dichtheid en soortelijke warmte van stoffen | G41: FALSE
A42: Maken & Nakijken | B42: Werkblad soortelijke warmte Oefenopgaven warmte.docx soortelijke warmte.pptx | G42: FALSE
...

Sheet NE
B1: NEDERLANDS (NE) | K1: PERIODE 1
A3: ALGEMENE INFORMATIE
A4: Welkom in de studiewijzer Nederlands V5
A5: Deze periode ga jij je bezighouden met het lezen van bekroond/prijswinnend boek, spelling, Taalverzorging en taalbewustzijn: interpunctie en formuleren en met leesvaardigheid (tekstverklaren)
A6: je hebt nodig: pen, schrift/snelhechter en het lesboek Op Niveau. Het leesboek kun je weer lenen in de mediatheek ( niet vertaald en een bovenbouwboek van 2 of 3 punten)
A7: Je hebt na afloop van deze periode nog meer kennis over romantheorie, spelling en formulering en begrijpend lezen
A9: VAKINHOUD | H9: IK HEB HET GEDAAN | I9: IK BEHEERS HET | J9: RUIMTE VOOR REFLECTIE
A10: WK35: 24 t/m 28 aug. | B10: TAKEN & OPDRACHTEN | H10: FALSE | I10: FALSE
A11: Doen | B11: bekroond/genomineerd voor een prijs/prijswinnend boek 1 lenen bij de mediatheek ( 2 0f 3 punten en niet vertaald) | G11: FALSE
A12: Doen | B12: lees 20% in je leesboek 1 | G12: FALSE
A13: Luisteren & Maken | B13: uitleg bij: H6 Taalverzorging en taalbewustzijn :Spelling en interpunctie | G13: FALSE
A14: Maken & Nakijken | B14: opdrachten H6 Taalverzorging en taalbewustzijn blz. 189- 1 92 Spelling en interpunctie (opdr.1 t/m 9) | G14: FALSE
A15: Daltontaak (optioneel) | B15: lezen in je leesboek/opdrachten spelling | G15: FALSE
A16: WK36: 31 t/m 4 sep. | B16: TAKEN & OPDRACHTEN | H16: FALSE | I16: FALSE
A17: Doen | B17: lees 20 % in je leesboek 1 | G17: FALSE
A18: Kijken & Luisteren | B18: Uitleg bij: H6 Taalverzorging en taalbewustzijn : Formuleren | G18: FALSE
A19: Maken & Nakijken | B19: opdrachten H6 formuleren blz. 193-197 | G19: FALSE
A20: Doen | B20: recensie (online/Literom) zoeken bij je leesboek; printen en doe deze alvast in je snelhechter bij je boekopdrachten Nederlands | G20: FALSE
A21: Daltontaak (optioneel) | B21: lezen in je leesboek/opdrachten spelling | G21: FALSE
A22: WK37: 7 t/m 11 sep. Examenreisweek | B22: TAKEN & OPDRACHTEN | H22: FALSE | I22: FALSE
A23: Daltontaak (optioneel) | B23: lees 20% in je leesboek 1 | G23: FALSE
A24: Daltontaak (optioneel) | B24: opdrachten Spelling en formuleren | G24: FALSE
A25: Keuzemenu | G25: FALSE
A26: Keuzemenu | G26: FALSE
A27: Daltontaak (optioneel) | B27: lezen in je leesboek/recensie zoeken/maken opdrachten formuleren | G27: FALSE
A28: WK38: 14 t/m 18 sep. | B28: TAKEN & OPDRACHTEN | H28: FALSE | I28: FALSE
A29: Doen | B29: lees 20% in je leesboek 1 | G29: FALSE
A30: Maken & Nakijken | B30: afronden opdrachten Spelling en formuleren | G30: FALSE
A31: Keuzemenu | G31: FALSE
A32: Keuzemenu | G32: FALSE
A33: Daltontaak (optioneel) | B33: lezen in je leesboek/recensie zoeken/maken opdrachten formuleren | G33: FALSE
A34: WK39: 21 t/m 25 sep. | B34: TAKEN & OPDRACHTEN | H34: FALSE | I34: FALSE
A35: Doen | B35: lees 20% in je leesboek 1 | G35: FALSE
A36: Luisteren & Maken | B36: uitleg/theorie bij H1 Leesvaardigheid | G36: FALSE
A37: Maken & Nakijken | B37: opdrachten H1 leesvaardigheid blz. 10- 18 (opdr. 1t/m 6) | G37: FALSE
A38: Toets | B38: Tussentoets H6 spelling, interpunctie en formuleren | G38: FALSE
A39: Daltontaak (optioneel) | B39: oefentoets spelling en formuleren maken / lezen in je leesboek/opdrachten leesvaardigheid | G39: FALSE
A40: WK40: 28 t/m 2 okt. | B40: TAKEN & OPDRACHTEN | H40: FALSE | I40: FALSE
A41: Doen | B41: lees de laatste 20 % in je leesboek 1 | G41: FALSE
A42: Luisteren & Maken | B42: uitleg/theorie bij H1 Leesvaardigheid | G42: FALSE
...

Sheet NLT
B1: NATUUR, LEVEN EN TECHNIEK (NLT) | K1: PERIODE 1
A3: ALGEMENE INFORMATIE
A4: Welkom bij NLT. Het vak waarbij je leert hoe je onderzoek moet doen. Handig voor je PWS en vervolgstudies.
A5: Twee PO's gaan we doen: Forensich Onderzoek en Sportprestaties. Er worden twee verslagen geschreven met de resultaten en conclusies.
A6: Twee modules kan je gebruiken voor achterinformatie en instructies. Ook de docent geeft instructies in documenten. Deze akan je terugvinden in SOMtoday-jaarbijlage.
A7: Na deze periode heb je geleerd hoe onderzoek te verrichten en hoe je excel kunt gebruiken bij het uitwerken van resultaten.
A9: VAKINHOUD | H9: IK HEB HET GEDAAN | I9: IK BEHEERS HET | J9: RUIMTE VOOR REFLECTIE
A10: WK35: 24 t/m 28 aug. | B10: TAKEN & OPDRACHTEN | H10: FALSE | I10: FALSE
A11: Lezen | B11: PO Moord op KIm | G11: FALSE
A12: Practicum | B12: Vingerafdrukken | G12: FALSE
A13: Keuzemenu | G13: FALSE
A14: Keuzemenu | G14: FALSE
A15: Keuzemenu | G15: FALSE
A16: WK36: 31 t/m 4 sep. | B16: TAKEN & OPDRACHTEN | H16: FALSE | I16: FALSE
A17: Practicum | B17: Kogelbaan | G17: FALSE
A18: Maken | B18: Grafiek kogelbaan | G18: FALSE
A19: Inleveren | B19: Grafiek kogelbaan | G19: FALSE
A20: Maken | B20: Opdrachten kogelbaan | G20: FALSE
A21: Practicum | B21: Bloedspetter onderzoek | G21: FALSE
A22: WK37: 7 t/m 11 sep. Examenreisweek | B22: TAKEN & OPDRACHTEN | H22: FALSE | I22: FALSE
A23: Practicum | B23: PO Chromatografie - klassikaal | G23: FALSE
A24: Practicum | B24: PO Vingerafdruk - klassikaal | G24: FALSE
A25: Practicum | B25: PO Kogelbaan-Bloedvlek - per groepje | G25: FALSE
A26: Practicum | B26: PO Bloedvlek op textiel per groepje | G26: FALSE
A27: Daltontaak (optioneel) | B27: Werken aan PO Forensisch Onderzoek | G27: FALSE
A28: WK38: 14 t/m 18 sep. | B28: TAKEN & OPDRACHTEN | H28: FALSE | I28: FALSE
A29: Practicum | B29: PO Kogelbaan-Bloedvlek - per groepje | G29: FALSE
A30: Practicum | B30: PO Bloedvlek op textiel per groepje | G30: FALSE
A31: Maken | B31: Werken aan PO Forensisch Onderzoek | G31: FALSE
A32: Daltontaak (optioneel) | B32: Werken aan PO Forensisch Onderzoek | G32: FALSE
A33: Keuzemenu | G33: FALSE
A34: WK39: 21 t/m 25 sep. | B34: TAKEN & OPDRACHTEN | H34: FALSE | I34: FALSE
A35: Maken | B35: Werken aan PO Forensisch Onderzoek - Practicum Springen | G35: FALSE
A36: Maken | B36: Werken aan PO Forensisch Onderzoek - Practicum Springen | G36: FALSE
A37: Maken | B37: Werken aan PO Forensisch Onderzoek - Practicum Springen | G37: FALSE
A38: Daltontaak (optioneel) | B38: Werken aan PO Forensisch Onderzoek - Practicum Springen | G38: FALSE
A39: Keuzemenu | G39: FALSE
A40: WK40: 28 t/m 2 okt. | B40: TAKEN & OPDRACHTEN | H40: FALSE | I40: FALSE
A41: Practicum | B41: Springen filmen en maken stickdiagrammen | G41: FALSE
A42: Maken | B42: Stickdiagrammen-grafiek maken | G42: FALSE
...

Sheet SK
B1: SCHEIKUNDE (SK) | K1: PERIODE 1
A3: ALGEMENE INFORMATIE
A4: Voor het vak scheikunde in 5-VWO maken we gebruik van de scheikunde methode "Chemie Overal", boek en on-line.
A5: Om de leerstof tot je te nemen kan je kiezen uit merdere bronnen: het boek, de klassikale uitleg, de online methode van het boek of internet (bv https://scheikundehavovwo.nl of https://kemia.nl
A7: Praktica/experimenten: in de les. Heb je deze niet gemaakt, door ziekte of andere reden, dan maak je met de TOA een afspraak om deze in te halen. Daar mag je ook een DALTON-uur voor gebruiken
A9: VAKINHOUD | H9: IK HEB HET GEDAAN | I9: IK BEHEERS HET | J9: RUIMTE VOOR REFLECTIE
A10: WK35: 24 t/m 28 aug. | B10: TAKEN & OPDRACHTEN | H10: FALSE | I10: FALSE
A11: Kijken & Luisteren | B11: Klassikale herhaling V4 stof | G11: FALSE
A12: Maken | B12: Maken voorbeeldopgaven mol | G12: FALSE
A13: Maken | B13: Maken voorbeeldopgaven H-bruggen, energiediagram en organische naamgeving | G13: FALSE
A14: Test jezelf | B14: Maken oefen instaptoets | G14: FALSE
A15: Daltontaak (verplicht) | B15: Maken diagnostische toetsen | G15: FALSE
A16: WK36: 31 t/m 4 sep. | B16: TAKEN & OPDRACHTEN | H16: FALSE | I16: FALSE
A17: Toets | B17: Maken instaptoets (minimaal 50% van de punten halen) | G17: FALSE
A18: Practicum | B18: Uitvoeren druppelexperiment indicatoren | G18: FALSE
A19: Maken | B19: Klassikale uitleg par. 7.1 en maken opgaven 1 t/m 7 (aanbevolen 4, 6 en 7) | G19: FALSE
A20: Daltontaak (verplicht) | B20: Maken voorkennistoets (online) | G20: FALSE
A21: Keuzemenu | G21: FALSE
A22: WK37: 7 t/m 11 sep. Examenreisweek | B22: TAKEN & OPDRACHTEN | H22: FALSE | I22: FALSE
A23: Kijken & Luisteren | B23: Klassikale uitleg paragraaf 7.2 | G23: FALSE
A24: Maken | B24: Maken paragraaf 7.2 opgaven 8 t/m 23 (aanbevolen 10, 11, 13, 18, 19 en 23) | G24: FALSE
A25: Kijken & Luisteren | B25: Klassikale uitleg/herhaling paragraaf 6.4 rekenenen aan evenwichten | G25: FALSE
A26: Maken | B26: Maken paragraaf 6.4 opgaven 35 t/m 43 (aanbevolen 37, 38, 39 en 43) | G26: FALSE
A27: Keuzemenu | G27: FALSE
A28: WK38: 14 t/m 18 sep. | B28: TAKEN & OPDRACHTEN | H28: FALSE | I28: FALSE
A29: Practicum | B29: Uitvoeren practicum verband pH en molariteit | G29: FALSE
A30: Kijken & Luisteren | B30: Klassikale uitleg paragraaf 7.3 pH sterk zuur | G30: FALSE
A31: Maken | B31: Maken paragraaf 7.3 opgaven 24 t/m 32 (aanbevolen 25, 29 en 32) | G31: FALSE
A32: Keuzemenu | G32: FALSE
A33: Keuzemenu | G33: FALSE
A34: WK39: 21 t/m 25 sep. | B34: TAKEN & OPDRACHTEN | H34: FALSE | I34: FALSE
A35: Kijken & Luisteren | B35: Klassikale uitleg paragraaf 7.3 pH zwak zuur | G35: FALSE
A36: Keuzemenu | B36: Maken paragraaf 7.3 opgaven 33 t/m 39 (aanbevolen 34 t/m 37) | G36: FALSE
A37: Keuzemenu | B37: Klassikale uitleg paragraaf 8.1 en 8.2 | G37: FALSE
A38: Keuzemenu | B38: Maken paragraaf 8.1 opgaven 1 t/m 8 (aanbevolen 2, 7 en 8) | G38: FALSE
A39: Keuzemenu | G39: FALSE
A40: WK40: 28 t/m 2 okt. | B40: TAKEN & OPDRACHTEN | H40: FALSE | I40: FALSE
A41: Maken | B41: Maken opgaven 9 t/m 16 (aanbevolen 12, 13 en 15 ) | G41: FALSE
A42: Maken | B42: Maken opgaven 17 t/m 30 (aanbevolen 19, 22, 23, 25 en 30)) | G42: FALSE
A43: Kijken & Luisteren | B43: Klassikale behandeling pOH-opgaven | G43: FALSE
...

Sheet SP
B1: SPAANS (SP) | K1: PERIODE 1
A3: ALGEMENE INFORMATIE
A4: Hola alumnos, bienvenidos de vuelta a cole, a VWO5. In periode 1 werken wij aan het thema: ¿Qué quieres ser?
A5: Doel: de belangrijkste grammatica herhalen van vorig jaar, en een formele brief leren schrijven over jouw toekomstplannen. Wat wil je zijn en worden in de toekomst? Wat kun jij bijdragen aan onze wereld? Waarom wil je dat? Dit toetsen we in de toesweektoets (formele brief, 4x).
A6: Daarnaast werk je weer aan literatuur in de vorm van een groepsopdracht: Je gaat een toneelscène bestuderen en opvoeren in een groepje van 3 of 4 compañeros, en je legt deze op video vast. Deze video telt mee voor je SE literatuur (10%) dat we in VWO 6 afsluiten.
A7: Wij werken met het tekstboek van Compañeros 4, unidad 1+2. Neem iedere les je pen en schrift mee voor aantekeningen en om opdrachten uit te werken. We hebben daarnaast een online leeromgeving om verder in te oefenen.
A9: VAKINHOUD | H9: IK HEB HET GEDAAN | I9: IK BEHEERS HET | J9: RUIMTE VOOR REFLECTIE
A10: WK35: 24 t/m 28 aug. | B10: TAKEN & OPDRACHTEN | H10: FALSE | I10: FALSE
A11: Onderzoeken | B11: Start Unidad 1: Punto de recarga. Wat weet je nog van vorig jaar? Welke werkwoordstijden, voca en andere grammatica zal je nodig hebben deze periode? | G11: FALSE
A12: Maken | B12: Les 1: vocabulario opg. 3,4,5,6 (pag. 7+8). Maak een mindmap met de bijvoeglijk naamwoorden en eigenschappen die op jou van toepassing zijn, met vertaling, en noteer de bijwoorden van frequentie (p.8) in 5 korte zinnen over jouzelf in je mindmap. Leer ze. | G12: FALSE
A13: Maken | B13: Les 2: gramática pag. 10+11 opg. 1,2, 3, 4 Wanneer gebruik je ook alweer ser en estar? Herhaal de vormen van de INDEFINIDO en de IMPERFECTO. Opg. 3+4 in hele zinnen uitwerken in je schrift! | G13: FALSE
A14: Literatuur | B14: Les 3: Introductie op Literatura: Obras de teatro. Un poco de historia (zie Powerpoint). Kijk alvast vooruit: welk stuk boeit je het meest en met wie zou je willen samenwerken in het uitwerken van je eigen scène? | G14: FALSE
A15: Leren | B15: Powerpoint | G15: FALSE
A16: WK36: 31 t/m 4 sep. | B16: TAKEN & OPDRACHTEN | H16: FALSE | I16: FALSE
A17: Onderzoeken | B17: unidad 1: Condicional. Je wensen uitleggen en benoemen wat je liever wel en niet wilt. | G17: FALSE
A18: Maken | B18: Les 1: Uitleg formas y uso del Condicional. Maak opg. 1,2,3 pag. 13. | G18: FALSE
A19: Maken | B19: Les 2: Maak pag. 15 opg. 6+7. Hoe ziet een e-mail aan een vriend eruit? | G19: FALSE
A20: Literatuur | B20: Les 3: Obras de teatro: Federico García Lorca y la trilogía rural. Lees de toneelscènes door en maak de opdrachten uit de powerpoint. Geef via de excelsheet door met wie je gaat samenwerken en welk stuk en welke scène je kiest. | G20: FALSE
A21: Leren | B21: vorm en gebruik Condicional | G21: FALSE
A22: WK37: 7 t/m 11 sep. Examenreisweek | B22: TAKEN & OPDRACHTEN | H22: FALSE | I22: FALSE
A23: Onderzoeken | B23: unidad 1: Presente de subjuntivo. Wat is de aanvoegende wijs voor werkwoordsvorm en wanneer zet je deze in? | G23: FALSE
A24: Maken | B24: Les 1: Oefeningen nabespreken van pag. 10+11. Uitleg presente de SUBJUNTIVO, uso y formas. Maak opg. 6 t/m. 8 pag. 12. | G24: FALSE
A25: Maken | B25: Les 2: Herhalen en inoefenen presente de SUBJUNTIVO. Nabespreken oef. pag. 12. | G25: FALSE
A26: Literatuur | B26: Les 3: Obras de teatro: Bajarse al Moro. Lees de toneelscènes door en maak de opdrachten uit de powerpoint. Oefen met je groepje jouw scène, verdeel de rollen, bedenk hoe je je scène gaat vormgeven. | G26: FALSE
A27: Leren | B27: vorn en gebruik presente de Subjuntivo | G27: FALSE
A28: WK38: 14 t/m 18 sep. | B28: TAKEN & OPDRACHTEN | H28: FALSE | I28: FALSE
A29: Onderzoeken | B29: unidad 2: ¿Qué quieres ser? Heb je hierover al een idee? Zo ja, wat, en hoe heet dat in het Spaans? Doe de beroepskeuzetest. | G29: FALSE
A30: Maken | B30: Les 1: Vocabulario pag. 18-19 opg. 1 t/m. 5. Leer de voca rondom de beroepen en de uitgangen. | G30: FALSE
A31: Maken | B31: Les 2: Vocabulario pag. 20 opg. 6+7 en gramática pag. 23: tiene que.../hay que... Wat is er nodig om een bepaald beroep te kunnen uitoefenen? maak opg. 7+9 en schrijf 5 zinnen over jouw toekomstplan en hoe je dat bereikt (zie opg. 8 als uitgangspunt). | G31: FALSE
A32: Literatuur | B32: Les 3: Obras de teatro. Oefen met je groepje jouw scène in de setting die bij jullie past. | G32: FALSE
A33: Leren | B33: Voca unidad 2 deel 1 + gramática pag. 33. | G33: FALSE
A34: WK39: 21 t/m 25 sep. | B34: TAKEN & OPDRACHTEN | H34: FALSE | I34: FALSE
A35: Onderzoeken | B35: unidad 2: Bijzinnen met cuando. Wanneer gebruik je de subjuntivo hierbij, en wanneer de indicativo? | G35: FALSE
A36: Maken | B36: Les 1: gramática pag. 21-22 opg. 2 t/m. 6. Werk opg. 4 uit in hele zinnen in je schrift. | G36: FALSE
A37: Maken | B37: Les 2: Comunicación pag. 24-25 opg. 1,2,3,5,6. Welke banen zijn er over 10 jaar nog, welke niet? Waarom? Wat spreekt jou aan, wat minder? | G37: FALSE
A38: Literatuur | B38: Les 3: Obras de teatro: schrijf als groep gezamenlijk je verantwoording. Werk de tarea final uit de Powerpoint uit (plm. 500 woorden in het Nederlands). Beschrijf: welk stuk, waarom deze, wat is het thema/de boodschap, welke personages, hoe hebben jullie dit vormgegeven, hoe gaat de samenwerking, rolverdeling, setting,, eindresultaat? Lever deze in samen met je toneelscène volgende week. | G38: FALSE
A39: Leren | B39: Ken de tweede helft van de vocabulario van unidad 2 + Cuando + indicativo vs. subjuntivo p.21-22. | G39: FALSE
A40: WK40: 28 t/m 2 okt. | B40: TAKEN & OPDRACHTEN | H40: FALSE | I40: FALSE
A41: Onderzoeken | B41: Una carta formal: La carta de motivación. Wat staat er in een formele, sollicitatiebrief? | G41: FALSE
A42: Maken | B42: Les 1: Uitleg briefconventies formele brief. Escribir pag. 27 opg. 4,5,6. Herschrijf de brief zodat deze over jezelf gaat. Werk de brief in je schrift uit in hele zinnen. | G42: FALSE
...

Sheet WISA
B1: WISKUNDE A (WISA) | K1: PERIODE 1
A3: ALGEMENE INFORMATIE
A4: Welkom!
A5: Wat gaan we doen deze 1e periode? - TW1 --> H9 Formules herleiden + H10 Verdelingen en steekproeven (deel 2) + Keuzeonderwerp (Perspectief tekenen in deel 3) + Vaardigheden 5 (deel 2)
A6: Wat neem je mee: - Leerboek Deel 2 en Deel 3 (vanaf week 38) in weken in Periode 1. - Ruitjesschrift (A4, 10 mm ruit) - iPad (opgeladen) voor de de angwoorden/uitwerkingen (NIET als boek tijdens de les!) - Grafische Rekenmachine - Etui met daarin: Blauwe of zwarte pennen, potlood (HB) of vulpotlood, gum, geodriehoek, kleurpotloden en een puntenslijper.
A9: VAKINHOUD | H9: IK HEB HET GEDAAN | I9: IK BEHEERS HET | J9: RUIMTE VOOR REFLECTIE
A10: WK35: 24 t/m 28 aug. | B10: TAKEN & OPDRACHTEN | H10: FALSE | I10: FALSE
A11: Maken & Nakijken | B11: §9.1 Lineaire formules | G11: FALSE
A12: Maken & Nakijken | B12: §9.2 Gebroken formules | G12: FALSE
A13: Daltontaak (verplicht) | B13: Vaardigheden blz 202 + blz 203 | G13: FALSE
A14: Keuzemenu | G14: FALSE
A15: Keuzemenu | G15: FALSE
A16: WK36: 31 t/m 4 sep. | B16: TAKEN & OPDRACHTEN | H16: FALSE | I16: FALSE
A17: Maken & Nakijken | B17: §9.3 Wortelformules | G17: FALSE
A18: Maken & Nakijken | B18: §9.4 Machtsformules | G18: FALSE
A19: Daltontaak (verplicht) | B19: Vaardigheden blz 203 + blz 204 | G19: FALSE
A20: Keuzemenu | G20: FALSE
A21: Keuzemenu | G21: FALSE
A22: WK37: 7 t/m 11 sep. Examenreisweek | B22: TAKEN & OPDRACHTEN | H22: FALSE | I22: FALSE
A23: Maken & Nakijken | B23: §9.5 Substituties | G23: FALSE
A24: Maken & Nakijken | B24: §10.1, §10.2: opdracht 2, 6, 7, 8, 9, 11, 12 | G24: FALSE
A25: Daltontaak (verplicht) | B25: §10.3, §10.4, §10.5: opdracht 17, 18, 19, 20, 21, 22, 25 en 26 | G25: FALSE
A26: Keuzemenu | G26: FALSE
A27: Keuzemenu | G27: FALSE
A28: WK38: 14 t/m 18 sep. | B28: TAKEN & OPDRACHTEN | H28: FALSE | I28: FALSE
A29: Maken & Nakijken | B29: Deel 3 blz 248 t/m 250 Opdracht 1 en 4 t/m 8 | G29: FALSE
A30: Maken & Nakijken | B30: Deel 3: blz 251 t/m 253 Opdracht 11, 14, 15 en 17 | G30: FALSE
A31: Daltontaak (verplicht) | B31: Vaardigheden 5 | G31: FALSE
A32: Keuzemenu | G32: FALSE
A33: Keuzemenu | G33: FALSE
A34: WK39: 21 t/m 25 sep. | B34: TAKEN & OPDRACHTEN | H34: FALSE | I34: FALSE
A35: Herhalen | B35: Deel 3: blz 254 en 255 Opdracht 19 t/m 22 | G35: FALSE
A36: Toets | B36: Vaardigheden 5 | G36: FALSE
A37: Daltontaak (verplicht) | B37: Deel 3: blz 260 - 261 Test jezelf | G37: FALSE
A38: Keuzemenu | G38: FALSE
A39: Keuzemenu | G39: FALSE
A40: WK40: 28 t/m 2 okt. | B40: TAKEN & OPDRACHTEN | H40: FALSE | I40: FALSE
A41: Herhalen | B41: H9 Test jezelf | G41: FALSE
A42: Herhalen | B42: H9 Leerdoelen bereikt | G42: FALSE
A43: Daltontaak (verplicht) | B43: H9 Samenvatting | G43: FALSE
...

Sheet WISB
B1: WISKUNDE B (WISB) | K1: PERIODE 1
A3: ALGEMENE INFORMATIE
A4: Welkom!
A5: Wat gaan we doen dit schooljaar? - TW1 --> H9 Functies bewerken, H11 Exponentiële en logaritmische functies (deel 2) en Keuzeonderwerp Matrices (deel 3) + Vaardigheden 5 (deel 2)
A6: Wat neem je mee: - Leerboek Deel 2 en 3 in Periode 1. - Ruitjesschrift (A4, 1 cm ruit) - iPad (opgeladen) - Grafische Rekenmachine - Etui met daarin: Blauwe of zwarte pennen, potlood (HB) of vulpotlood, gum, geodriehoek, kleurpotloden, passer en puntenslijper.
A9: VAKINHOUD | H9: IK HEB HET GEDAAN | I9: IK BEHEERS HET | J9: RUIMTE VOOR REFLECTIE
A10: WK35: 24 t/m 28 aug. | B10: TAKEN & OPDRACHTEN | H10: FALSE | I10: FALSE
A11: Maken & Nakijken | B11: Voorkennis H9 Functies bewerken | G11: FALSE
A12: Maken & Nakijken | B12: §9.1 Transformaties | G12: FALSE
A13: Maken & Nakijken | B13: §9.2 Symmetrie van grafieken | G13: FALSE
A14: Daltontaak (verplicht) | B14: Vaardigheden 5 blz 164 | G14: FALSE
A15: Keuzemenu | G15: FALSE
A16: WK36: 31 t/m 4 sep. | B16: TAKEN & OPDRACHTEN | H16: FALSE | I16: FALSE
A17: Maken & Nakijken | B17: §9.3 Absolute waarde | G17: FALSE
A18: Maken & Nakijken | B18: §9.4 Inverse functies | G18: FALSE
A19: Maken & Nakijken | B19: §9.5 Gelijkwaardige formules | G19: FALSE
A20: Daltontaak (verplicht) | B20: Vaardigheden 5 blz 165 | G20: FALSE
A21: Keuzemenu | G21: FALSE
A22: WK37: 7 t/m 11 sep. Examenreisweek | B22: TAKEN & OPDRACHTEN | H22: FALSE | I22: FALSE
A23: Daltontaak (verplicht) | B23: Vaardigheden 5 blz 166 | G23: FALSE
A24: Keuzemenu | G24: FALSE
A25: Keuzemenu | G25: FALSE
A26: Keuzemenu | G26: FALSE
A27: Keuzemenu | G27: FALSE
A28: WK38: 14 t/m 18 sep. | B28: TAKEN & OPDRACHTEN | H28: FALSE | I28: FALSE
A29: Maken & Nakijken | B29: §11.1 Vergelijkingen met exponenten en logaritmen | G29: FALSE
A30: Maken & Nakijken | B30: §11.2 Rekenregels voor logaritmen | G30: FALSE
A31: Maken & Nakijken | B31: §11.3 Herleiden | G31: FALSE
A32: Daltontaak (verplicht) | B32: Vaardigheden 5 blz 167 | G32: FALSE
A33: Keuzemenu | G33: FALSE
A34: WK39: 21 t/m 25 sep. | B34: TAKEN & OPDRACHTEN | H34: FALSE | I34: FALSE
A35: Maken & Nakijken | B35: §11.4 Vergelijkingen en ongelijkheden | G35: FALSE
A36: Maken & Nakijken | B36: §11.5 Groeimodellen | G36: FALSE
A37: Maken & Nakijken | B37: §11.6 Gemengde opdrachten | G37: FALSE
A38: Daltontaak (verplicht) | B38: Vaardigheden 5 | G38: FALSE
A39: Keuzemenu | G39: FALSE
A40: WK40: 28 t/m 2 okt. | B40: TAKEN & OPDRACHTEN | H40: FALSE | I40: FALSE
A41: Maken & Nakijken | B41: Boek 3, Keuzeonderwerp §1 Matrices | G41: FALSE
A42: Maken & Nakijken | B42: Boek 3, Keuzeonderwerp §2 Matrices vermenigvuldigen | G42: FALSE
A43: Maken & Nakijken | B43: Boek 3, Keuzeonderwerp §3 Populatieontwikkelingen | G43: FALSE
...

Sheet WOA
B1: WETENSCHAPSORIËNTATIE & ACTUALITEITEN ONDERWIJS (WOA) | K1: PERIODE 1
A3: ALGEMENE INFORMATIE
A4: Welkom bij WOA! Je vindt hier de globale planning van periode 1 waar we grotendeels in de lessen aan werken. Gebruik de studiewijzer vooral om te kijken wat je gemist hebt als je er een keer een les niet bent geweest.
A5: We werken in zowel periode 2 als periode 3 met opdrachten en leerwerk, die getoets worden rondom (maar niet ín) de toetsweek, dus in de reguliere WOA-lessen
A6: Het materiaal dat je nodig hebt wordt aangeboden in Learnbeat, of door de docent verstrekt zoals het boek Big History
A7: Aan het einde van deze periode heb je de basisbeginselen van de wetenschapsfilosofie helder, en kun je deze herkennen in de film The Matrix
A9: VAKINHOUD | H9: IK HEB HET GEDAAN | I9: IK BEHEERS HET | J9: RUIMTE VOOR REFLECTIE
A10: WK35: 24 t/m 28 aug. | B10: TAKEN & OPDRACHTEN | H10: FALSE | I10: FALSE
A11: Kijken & Luisteren | B11: Tijdens de eerste paar lessen krijg je uitleg over de basisbeginselen van de wetenschapsfilosofie. Hierbij maak je aantekeningen. | G11: FALSE
A12: Lezen | B12: Boekje Kennistheorie | G12: FALSE
A13: Keuzemenu | G13: FALSE
A14: Keuzemenu | G14: FALSE
A15: Keuzemenu | G15: FALSE
A16: WK36: 31 t/m 4 sep. | B16: TAKEN & OPDRACHTEN | H16: FALSE | I16: FALSE
A17: Kijken & Luisteren | B17: Tijdens de eerste paar lessen krijg je uitleg over de basisbeginselen van de wetenschapsfilosofie. Hierbij maak je aantekeningen. | G17: FALSE
A18: Keuzemenu | G18: FALSE
A19: Keuzemenu | G19: FALSE
A20: Keuzemenu | G20: FALSE
A21: Keuzemenu | G21: FALSE
A22: WK37: 7 t/m 11 sep. Examenreisweek | B22: TAKEN & OPDRACHTEN | H22: FALSE | I22: FALSE
A23: Kijken & Luisteren | B23: Tijdens de eerste paar lessen krijg je uitleg over de basisbeginselen van de wetenschapsfilosofie. Hierbij maak je aantekeningen. | G23: FALSE
A24: Keuzemenu | G24: FALSE
A25: Keuzemenu | G25: FALSE
A26: Keuzemenu | G26: FALSE
A27: Keuzemenu | G27: FALSE
A28: WK38: 14 t/m 18 sep. | B28: TAKEN & OPDRACHTEN | H28: FALSE | I28: FALSE
A29: Kijken & Luisteren | B29: Tijdens de eerste paar lessen krijg je uitleg over de basisbeginselen van de wetenschapsfilosofie. Hierbij maak je aantekeningen. | G29: FALSE
A30: Lezen | B30: Boekje Kennistheorie & hersenen in vat | G30: FALSE
A31: Keuzemenu | G31: FALSE
A32: Keuzemenu | G32: FALSE
A33: Keuzemenu | G33: FALSE
A34: WK39: 21 t/m 25 sep. | B34: TAKEN & OPDRACHTEN | H34: FALSE | I34: FALSE
A35: Kijken | B35: The Matrix | G35: FALSE
A36: Maken | B36: Bijbehorende opdrachten in Learnbeat | G36: FALSE
A37: Keuzemenu | G37: FALSE
A38: Keuzemenu | G38: FALSE
A39: Keuzemenu | G39: FALSE
A40: WK40: 28 t/m 2 okt. | B40: TAKEN & OPDRACHTEN | H40: FALSE | I40: FALSE
A41: Kijken | B41: The Matrix | G41: FALSE
A42: Maken | B42: Bijbehorende opdrachten in Learnbeat | G42: FALSE
...
