Workbook

Sheet Overzicht
A2: AK | D2: BECO | G2: BI | J2: DU | M2: ECO | P2: EN | S2: FA | V2: GS | Y2: NAT | AB2: NE | AE2: NLT | AH2: SK | AK2: SP | AN2: WISA | AQ2: WISB
A3: WK 35 | B3: =AK!H10 -> FALSE | D3: WK 35 | E3: =BECO!H16 -> FALSE | G3: WK 35 | H3: =BI!H16 -> FALSE | J3: WK 35 | K3: =DU!H16 -> FALSE | M3: WK 35 | N3: =ECO!H16 -> FALSE | P3: WK 35 | Q3: =EN!H16 -> FALSE | S3: WK 35 | T3: =FA!H16 -> FALSE | V3: WK 35 | W3: =GS!H16 -> FALSE | Y3: WK 35 | Z3: =NAT!H16 -> FALSE | AB3: WK 35 | AC3: =NE!H16 -> FALSE | AE3: WK 35 | AF3: =NLT!H16 -> FALSE | AH3: WK 35 | AI3: =SK!H16 -> FALSE | AK3: WK 35 | AL3: =SP!H16 -> FALSE | AN3: WK 35 | AO3: =WISA!H16 -> FALSE | AQ3: WK 35 | AR3: =WISB!H16 -> FALSE
A4: WK 36 | B4: =AK!H16 -> FALSE | D4: WK 36 | E4: =BECO!H22 -> FALSE | G4: WK 36 | H4: =BI!H22 -> FALSE | J4: WK 36 | K4: =DU!H22 -> FALSE | M4: WK 36 | N4: =ECO!H22 -> FALSE | P4: WK 36 | Q4: =EN!H22 -> FALSE | S4: WK 36 | T4: =FA!H22 -> FALSE | V4: WK 36 | W4: =GS!H22 -> FALSE | Y4: WK 36 | Z4: =NAT!H22 -> FALSE | AB4: WK 36 | AC4: =NE!H22 -> FALSE | AE4: WK 36 | AF4: =NLT!H22 -> FALSE | AH4: WK 36 | AI4: =SK!H22 -> FALSE | AK4: WK 36 | AL4: =SP!H22 -> FALSE | AN4: WK 36 | AO4: =WISA!H22 -> FALSE | AQ4: WK 36 | AR4: =WISB!H22 -> FALSE
A5: WK 37 | B5: =AK!H22 -> FALSE | D5: WK 37 | E5: =BECO!H28 -> FALSE | G5: WK 37 | H5: =BI!H28 -> FALSE | J5: WK 37 | K5: =DU!H28 -> FALSE | M5: WK 37 | N5: =ECO!H28 -> FALSE | P5: WK 37 | Q5: =EN!H28 -> FALSE | S5: WK 37 | T5: =FA!H28 -> FALSE | V5: WK 37 | W5: =GS!H28 -> FALSE | Y5: WK 37 | Z5: =NAT!H28 -> FALSE | AB5: WK 37 | AC5: =NE!H28 -> FALSE | AE5: WK 37 | AF5: =NLT!H28 -> FALSE | AH5: WK 37 | AI5: =SK!H28 -> FALSE | AK5: WK 37 | AL5: =SP!H28 -> FALSE | AN5: WK 37 | AO5: =WISA!H28 -> FALSE | AQ5: WK 37 | AR5: =WISB!H28 -> FALSE
A6: WK 38 | B6: =AK!H28 -> FALSE | D6: WK 38 | E6: =BECO!H35 | G6: WK 38 | H6: =BI!H35 | J6: WK 38 | K6: =DU!H35 | M6: WK 38 | N6: =ECO!H35 | P6: WK 38 | Q6: =EN!H35 | S6: WK 38 | T6: =FA!H35 | V6: WK 38 | W6: =GS!H35 | Y6: WK 38 | Z6: =NAT!H35 | AB6: WK 38 | AC6: =NE!H35 | AE6: WK 38 | AF6: =NLT!H35 | AH6: WK 38 | AI6: =SK!H35 | AK6: WK 38 | AL6: =SP!H35 | AN6: WK 38 | AO6: =WISA!H35 | AQ6: WK 38 | AR6: =WISB!H35
A7: WK 39 | B7: =AK!H34 -> FALSE | D7: WK 39 | E7: =BECO!H41 | G7: WK 39 | H7: =BI!H41 | J7: WK 39 | K7: =DU!H41 | M7: WK 39 | N7: =ECO!H41 | P7: WK 39 | Q7: =EN!H41 | S7: WK 39 | T7: =FA!H41 | V7: WK 39 | W7: =GS!H41 | Y7: WK 39 | Z7: =NAT!H41 | AB7: WK 39 | AC7: =NE!H41 | AE7: WK 39 | AF7: =NLT!H41 | AH7: WK 39 | AI7: =SK!H41 | AK7: WK 39 | AL7: =SP!H41 | AN7: WK 39 | AO7: =WISA!H41 | AQ7: WK 39 | AR7: =WISB!H41
A8: WK 40 | B8: =AK!H40 -> FALSE | D8: WK 40 | E8: =BECO!H47 | G8: WK 40 | H8: =BI!H47 | J8: WK 40 | K8: =DU!H47 | M8: WK 40 | N8: =ECO!H47 | P8: WK 40 | Q8: =EN!H47 | S8: WK 40 | T8: =FA!H47 | V8: WK 40 | W8: =GS!H47 | Y8: WK 40 | Z8: =NAT!H47 | AB8: WK 40 | AC8: =NE!H47 | AE8: WK 40 | AF8: =NLT!H47 | AH8: WK 40 | AI8: =SK!H47 | AK8: WK 40 | AL8: =SP!H47 | AN8: WK 40 | AO8: =WISA!H47 | AQ8: WK 40 | AR8: =WISB!H47
A9: WK 41 | B9: =AK!H46 -> FALSE | D9: WK 41 | E9: =BECO!H54 | G9: WK 41 | H9: =BI!H54 | J9: WK 41 | K9: =DU!H54 | M9: WK 41 | N9: =ECO!H54 | P9: WK 41 | Q9: =EN!H54 | S9: WK 41 | T9: =FA!H54 | V9: WK 41 | W9: =GS!H54 | Y9: WK 41 | Z9: =NAT!H54 | AB9: WK 41 | AC9: =NE!H54 | AE9: WK 41 | AF9: =NLT!H54 | AH9: WK 41 | AI9: =SK!H54 | AK9: WK 41 | AL9: =SP!H54 | AN9: WK 41 | AO9: =WISA!H54 | AQ9: WK 41 | AR9: =WISB!H54
A10: WK 43 | B10: =AK!H53 -> FALSE | D10: WK 43 | E10: =BECO!H60 | G10: WK 43 | H10: =BI!H60 | J10: WK 43 | K10: =DU!H60 | M10: WK 43 | N10: =ECO!H60 | P10: WK 43 | Q10: =EN!H60 | S10: WK 43 | T10: =FA!H60 | V10: WK 43 | W10: =GS!H60 | Y10: WK 43 | Z10: =NAT!H60 | AB10: WK 43 | AC10: =NE!H60 | AE10: WK 43 | AF10: =NLT!H60 | AH10: WK 43 | AI10: =SK!H60 | AK10: WK 43 | AL10: =SP!H60 | AN10: WK 43 | AO10: =WISA!H60 | AQ10: WK 43 | AR10: =WISB!H60

Sheet AK
B1: AARDRIJKSKUNDE (AK) | K1: PERIODE 1
A3: ALGEMENE INFORMATIE
A4: In deze eerste periode gaan we systeem aarde behandelen.
A5: Ook nu moeten we het gehele boek bespreken, dus het tempo is vrij hoog.
A6: Neem dus altijd dit boek mee, een schrift en een goed humeur.
A7: In de toetsweek heb je hierover een toets die 25% meetelt voor het PTA.
A9: VAKINHOUD | H9: IK HEB HET GEDAAN | I9: IK BEHEERS HET | J9: RUIMTE VOOR REFLECTIE
A10: WK35: 24 t/m 28 aug. | B10: TAKEN & OPDRACHTEN | H10: FALSE | I10: FALSE
A11: Daltontaak (verplicht) | B11: maken instaptoets systeem aarde blz 5-6 | G11: FALSE
A12: Lezen | B12: §1.1 Ontstaan en opbouw van de aarde | G12: FALSE
A13: Maken | B13: §1.1 opgaven 1 t/m 7 | G13: FALSE
A14: Lezen | B14: §1.2 Het verhaal van de gesteenten | G14: FALSE
A15: Maken | B15: §1.2 opgaven 1 t/m 8 | G15: FALSE
A16: WK36: 31 t/m 4 sep. | B16: TAKEN & OPDRACHTEN | H16: FALSE | I16: FALSE
A17: Lezen | B17: §1.3 t/m §1.5 | G17: FALSE
A18: Maken | B18: §1.3 opgaven 1 t/m 7 | G18: FALSE
A19: Maken | B19: §1.4 opgaven 1 t/m 9 | G19: FALSE
A20: Maken | B20: §1.5 opgaven 1 t/m 8 | G20: FALSE
A21: Daltontaak (verplicht) | B21: nakijken opgaven §1.1 en §1.2 | G21: FALSE
A22: WK37: 7 t/m 11 sep. Examenreisweek | B22: TAKEN & OPDRACHTEN | H22: FALSE | I22: FALSE
A23: Keuzemenu | G23: FALSE
A24: Keuzemenu | G24: FALSE
A25: Keuzemenu | G25: FALSE
A26: Keuzemenu | G26: FALSE
A27: Keuzemenu | G27: FALSE
A28: WK38: 14 t/m 18 sep. | B28: TAKEN & OPDRACHTEN | H28: FALSE | I28: FALSE
A29: Lezen | B29: §2.1 en §2.2 | G29: FALSE
A30: Maken | B30: §2.1 opgaven 1 t/m 6 | G30: FALSE
A31: Maken | B31: §2.2 opgaven 1 t/m 9 | G31: FALSE
A32: Daltontaak (verplicht) | B32: nakijken opgaven §1.3 t/m §1.5 | G32: FALSE
A33: Daltontaak (optioneel) | B33: herhaling atlasgebruik | G33: FALSE
A34: WK39: 21 t/m 25 sep. | B34: TAKEN & OPDRACHTEN | H34: FALSE | I34: FALSE
A35: Lezen | B35: §2.3, §2.4 en §3.1 | G35: FALSE
A36: Maken | B36: §2.3 opgaven 1 t/m 8 | G36: FALSE
A37: Maken | B37: §3.1 opgaven 1 t/m 7 | G37: FALSE
A38: Daltontaak (verplicht) | B38: nakijken opgaven §2.1 en §2.2 | G38: FALSE
A39: Daltontaak (optioneel) | B39: herhaling schaalniveaus en dimensies | G39: FALSE
A40: WK40: 28 t/m 2 okt. | B40: TAKEN & OPDRACHTEN | H40: FALSE | I40: FALSE
A41: Lezen | B41: §3.2 en §3.3 | G41: FALSE
A42: Maken | B42: §3.3 opgaven 1 t/m 9 | G42: FALSE
...

Sheet BECO
B1: BEDRIJFSECONOMIE (BECO) | K1: PERIODE 1
A3: ALGEMENE INFORMATIE
A4: Ook dit schooljaar weer werkboek (vwo 6) en digitale leeromgeving van cumulus. Digitale ondersteuning cumulus voor antwoorden opgaven en voor het oefenen van begrippen (begrippen trainer) en het maken van formatieve toetsen (test jezef)
A5: In het einde van deze periode 1 (wk 41) ontvangen jullie naast werkboek het boek Supersamengevat. Dit is de examenbundel van Cumulus en gebruiken we bij het herhalen van lesstof uit vwo 5 en vwo 4.
A9: VAKINHOUD | H9: IK HEB HET GEDAAN | I9: IK BEHEERS HET | J9: RUIMTE VOOR REFLECTIE
A10: WK35: 24 t/m 28 aug. | B10: TAKEN & OPDRACHTEN | H10: FALSE | I10: FALSE
A11: Kijken & Luisteren | B11: Intro, doornemen PTA (jaarplanning en periode planning in Excel). 4.5 Break-even analyse les 1 t/m 3 (quitte spelen, break-even in euro’s en break-even in procenten) | G11: FALSE
A12: Maken & Nakijken | B12: Maken opg. 4.65 t/m 4.69 | G12: FALSE
A13: Daltontaak (optioneel) | B13: Doornemen theorie break-even analyse (blz. 57 t/m 62) | G13: FALSE
A14: Keuzemenu | G14: FALSE
A15: Keuzemenu | G15: FALSE
A16: WK36: 31 t/m 4 sep. | B16: TAKEN & OPDRACHTEN | H16: FALSE | I16: FALSE
A17: Kijken & Luisteren | B17: 4.5 Break-even analyse les 4 t/m 6 (break-even in een grafiek, werkles break-even en break-even met bronnen) | G17: FALSE
A18: Maken & Nakijken | B18: Maken opg. 4.70 t/m 4.77 | G18: FALSE
A19: Daltontaak (optioneel) | B19: Doornemen theorie break-even analyse (blz. 57 t/m 62) | G19: FALSE
A20: Test jezelf | B20: Als je van 4.5 Break-even-analyse alle opgaven hebt gemaakt controleer dan of je alle begrippen kent (begrippen trainer) en maak de formatieve toets . Zie hiervoor digitale ondersteuning cumulus. | G20: FALSE
A21: Keuzemenu | G21: FALSE
A22: WK37: 7 t/m 11 sep. Examenreisweek | B22: TAKEN & OPDRACHTEN | H22: FALSE | I22: FALSE
A23: Aantekening | B23: Deze week voor jullie geen lessen ivm reisweek | G23: FALSE
A24: Keuzemenu | G24: FALSE
A25: Keuzemenu | G25: FALSE
A26: Keuzemenu | G26: FALSE
A27: Keuzemenu | G27: FALSE
A28: WK38: 14 t/m 18 sep. | B28: TAKEN & OPDRACHTEN | H28: FALSE | I28: FALSE
A29: Kijken & Luisteren | B29: 5.1 Eigen vermogen les 1 t/m 3 (Naamloze Vennootschap, emissie en emissie a pari en boven pari) | G29: FALSE
A30: Maken & Nakijken | B30: Maken opg. 5.1 t/m 5.4 | G30: FALSE
A31: Daltontaak (optioneel) | B31: Doornemen theorie 5.1 Eigen Vermogen (blz. 87 t/m 100) | G31: FALSE
A32: Keuzemenu | G32: FALSE
A33: Keuzemenu | G33: FALSE
A34: WK39: 21 t/m 25 sep. | B34: TAKEN & OPDRACHTEN | H34: FALSE | I34: FALSE
A35: Kijken & Luisteren | B35: 5.1 Eigen vermogen les 4 t/m 6 (Aandelenemissie, winstverdeling, stockdividend) | G35: FALSE
A36: Maken & Nakijken | B36: Maken opg. 5.5 t/m 5.10 | G36: FALSE
A37: Daltontaak (optioneel) | B37: Doornemen theorie 5.1 Eigen Vermogen (blz. 87 t/m 100) | G37: FALSE
A38: Keuzemenu | G38: FALSE
A39: Keuzemenu | G39: FALSE
A40: WK40: 28 t/m 2 okt. | B40: TAKEN & OPDRACHTEN | H40: FALSE | I40: FALSE
A41: Kijken & Luisteren | B41: 5.1 Eigen Vermogen les 7 t/m 9 (netto cash dividend, herwaarderingsreserve en eigen vermogen (werkles hele stof). | G41: FALSE
A42: Maken & Nakijken | B42: Maken opg. 5.11 t/m 5.19 | G42: FALSE
A43: Daltontaak (optioneel) | B43: Doornemen theorie 5.1 Eigen Vermogen (blz. 87 t/m 100) | G43: FALSE
A44: Test jezelf | B44: Als je van 5.1 Eigen Vermogen alle opgaven hebt gemaakt controleer dan of je alle begrippen kent (begrippen trainer) en maak de formatieve toets . Zie hiervoor digitale ondersteuning cumulus. | G44: FALSE
...

Sheet BI
B1: BIOLOGIE (BI) | K1: PERIODE 1
A3: ALGEMENE INFORMATIE
A4: Welkomswoordje
A5: Wat gaan we deze periode doen? Wat is de Daltontaak? Wat houd de Daltontaak in?
A6: Welke boeken/spullen/materialen zijn er nodig?
A7: Wat moet je geleerd hebben na deze periode?
A9: VAKINHOUD | H9: IK HEB HET GEDAAN | I9: IK BEHEERS HET | J9: RUIMTE VOOR REFLECTIE
A10: WK35: 24 t/m 28 aug. | B10: TAKEN & OPDRACHTEN | H10: FALSE | I10: FALSE
A11: Lezen | B11: Basisstof 1 | G11: FALSE
A12: Oefenen | B12: Samenvattingsvragen (Reproduktie-vragen) | G12: FALSE
A13: Oefenen | B13: Plaatjes uit boek en BINAS | G13: FALSE
A14: Daltontaak | B14: BvJ opdrachten (2-8) maken als toets en nakijken en bespreken met elkaar. | G14: FALSE
A15: Maken | B15: in de les: Tabel voedingstoffen en hun functies | G15: FALSE
A16: WK36: 31 t/m 4 sep. | B16: TAKEN & OPDRACHTEN | H16: FALSE | I16: FALSE
A17: Lezen | B17: Basisstof 2 | G17: FALSE
A18: Oefenen | B18: Samenvattingsvragen (Reproduktie-vragen) | G18: FALSE
A19: Oefenen | B19: Plaatjes uit boek en BINAS | G19: FALSE
A20: Daltontaak | B20: BvJ opdrachten (12-16) maken als toets en nakijken en bespreken met elkaar. | G20: FALSE
A21: Maken | B21: in de les: Stencil Verteringsstelsel | G21: FALSE
A22: WK37: 7 t/m 11 sep. Examenreisweek | B22: TAKEN & OPDRACHTEN | H22: FALSE | I22: FALSE
A23: Keuzemenu | G23: FALSE
A24: Keuzemenu | G24: FALSE
A25: Keuzemenu | G25: FALSE
A26: Keuzemenu | G26: FALSE
A27: Keuzemenu | G27: FALSE
A28: WK38: 14 t/m 18 sep. | B28: TAKEN & OPDRACHTEN | H28: FALSE | I28: FALSE
A29: Lezen | B29: Basisstof 3 | G29: FALSE
A30: Oefenen | B30: Samenvattingsvragen (Reproduktie-vragen) | G30: FALSE
A31: Oefenen | B31: Plaatjes uit boek en BINAS | G31: FALSE
A32: Daltontaak | B32: BvJ opdrachten (18-19) maken als toets en nakijken en bespreken met elkaar. | G32: FALSE
A33: Maken | B33: in de les: Stencil Vertering algemeen | G33: FALSE
A34: WK39: 21 t/m 25 sep. | B34: TAKEN & OPDRACHTEN | H34: FALSE | I34: FALSE
A35: Lezen | B35: Basisstof 3 | G35: FALSE
A36: Oefenen | B36: Samenvattingsvragen (Reproduktie-vragen) | G36: FALSE
A37: Oefenen | B37: Plaatjes uit boek en BINAS | G37: FALSE
A38: Daltontaak | B38: BvJ opdrachten (19-22) maken als toets en nakijken en bespreken met elkaar. | G38: FALSE
A39: Maken | B39: in de les: Stencil Welke voedingsstoffen aanwezig? | G39: FALSE
A40: WK40: 28 t/m 2 okt. | B40: TAKEN & OPDRACHTEN | H40: FALSE | I40: FALSE
A41: Lezen | B41: Basisstof 4 | G41: FALSE
A42: Oefenen | B42: Samenvattingsvragen (Reproduktie-vragen) | G42: FALSE
...

Sheet DU
B1: DUITS (DU) | K1: PERIODE 1
A3: ALGEMENE INFORMATIE
A4: Welkom bij Duits. In deze periode leggen we de focus op de Duitse Literatuur, Schrijven en Examenidioom. Ook komen andere vaardigheden aan bod. Je krijgt in de lessen zonodig uitleg over grammatica. En... er wordt in dit jaar weer veel zelfstandigheid van je verwacht, dus maak aantekeningen, wees actief betrokken en werk samen. Maar ook: stel vragen als je ergens tegenaan loopt.
A5: Je leest het leesboek ~ Die Welle ~ zelfstandig thuis en op school, neem het boek dus mee in de week waar het in de studiewijzer staat. De toets is in toetsweek 1 (week 44). Jullie leren (herhalen en nieuw) het examenidioom deel 1 en 2. Toets in week 47. De Daltonuren zijn bedoeld om taken af te krijgen, te herhalen en te verdiepen. Heb je extra uitdaging nodig? Laat het weten!
A6: Meenemen: In de lessen neem je het boek Neue Kontakte 6 vwo, een schrift (ein Heft), etui (met markers, pennen, potloden) en het Examenidioom mee. Het Examenidioom deel 1 wordt uitgedeeld in de eerste week. LEERDOELEN: Je kunt de essentie van een moeilijker tv-programma begrijpen. (B2) Je kunt een praatprogramma op de radio over concrete en abstracte onderwerpen begrijpen. (B2) Je kunt in teksten over onderwerpen van algemeen belang nieuwe informatie en specifieke details vinden. (B2) Je kunt hoofdpunten en belangrijke argumenten in een tekst begrijpen. (C1) Je kunt in een gesprek jouw standpunt duidelijk maken en reageren op standpunten van anderen. (B2) Je kunt teksten schrijven waarin argumenten worden uitgewerkt en onderbouwd. (B2) Je kunt deelnemen aan discussies op internet over bekende thema's. (B2) Je kunt een interview tussen moedertaalsprekers over abstracte en gespecialiseerde onderwerpen tot in detail begrijpen. (C1) Je kunt complexe teksten tot in detail begrijpen mits moeilijke passages herlezen kunnen worden. (C1)
A9: VAKINHOUD | H9: IK HEB HET GEDAAN | I9: IK BEHEERS HET | J9: RUIMTE VOOR REFLECTIE
A10: WK35: 24 t/m 28 aug. | B10: TAKEN & OPDRACHTEN | H10: FALSE | I10: FALSE
A11: WS + Spreken | B11: Sommerferien (vrij spreken) | G11: FALSE
A12: Extra materiaal | B12: examenidioom deel 1 (deel 2 komt in week 39) | G12: FALSE
A13: Kijken & Luisteren | B13: S. 10+11 Nr. 1+2 | G13: FALSE
A14: Lezen | B14: S. 14 +15 Nr. 5 (bij alle leesteksten onderstreep je de antwoorden en vertaal je de vragen en antwoorden (D-N) | G14: FALSE
A15: Daltontaak | B15: leen het boek "Die Welle" uit de mediatheek - toets hierover in TW 1 + indien nog niet gedaan: de leesopdracht van week 35 | G15: FALSE
A16: WK36: 31 t/m 4 sep. | B16: TAKEN & OPDRACHTEN | H16: FALSE | I16: FALSE
A17: Lezen | B17: S. 14 + 15 Nr. 5 (bespreken) | G17: FALSE
A18: Grammatica | B18: S. 18 Nr. 9 + S. 20 Nr. 15 | G18: FALSE
A19: WS + Spreken | B19: S. 21 Nr 17+18 , S. 22 Nr, 22 | G19: FALSE
A20: Kijken & Luisteren | B20: S. 12+13 Nr. 3+4 | G20: FALSE
A21: Daltontaak | B21: begin met het lezen van het boek Die Welle + leer het examenidioom deel 1 S. 2 tm 4 (D-N) + S. 22 Nr. 21 | G21: FALSE
A22: WK37: 7 t/m 11 sep. Examenreisweek | B22: TAKEN & OPDRACHTEN | H22: FALSE | I22: FALSE
A23: Aantekening | G23: FALSE
A24: Aantekening | G24: FALSE
A25: Aantekening | G25: FALSE
A26: Aantekening | G26: FALSE
A27: Aantekening | G27: FALSE
A28: WK38: 14 t/m 18 sep. | B28: TAKEN & OPDRACHTEN | H28: FALSE | I28: FALSE
A29: Lezen | B29: S. 16 + 17 Nr. 7+8 | G29: FALSE
A30: WS + Spreken | B30: S. 24 Nr. 26 (hele zinnen + uitvoerlijk) | G30: FALSE
A31: Schrijven | B31: S. 26+27 Nr 29 tm 31 | G31: FALSE
A32: Keuzemenu | G32: FALSE
A33: Daltontaak | B33: ga verder met het lezen van het boek Die Welle + leer het examenidioom deel 1 S. 5 tm 7 (met tekstverband) + rond de schrijfopdracht af | G33: FALSE
A34: WK39: 21 t/m 25 sep. | B34: TAKEN & OPDRACHTEN | H34: FALSE | I34: FALSE
A35: Lezen | B35: boek Die Welle | G35: FALSE
A36: Schrijven | B36: wij bespreken de schrijfopdrachten van afgelopen week | G36: FALSE
A37: Extra materiaal | B37: uitdelen Examenidioom deel 2 | G37: FALSE
A38: Keuzemenu | G38: FALSE
A39: Daltontaak | B39: ga verder met het lezen van het boek Die Welle + leer het examenidioom deel 2 Thema 1 (D-NL) | G39: FALSE
A40: WK40: 28 t/m 2 okt. | B40: TAKEN & OPDRACHTEN | H40: FALSE | I40: FALSE
A41: Literatuur | B41: Film "Die Welle" in de eerste en laatste les van de week | G41: FALSE
A42: Land & Kultur | B42: S. 28, 29 | G42: FALSE
A43: Kijken & Luisteren | B43: S. 30 +31 Nr. 1+2 + WOOTS ?? | G43: FALSE
...

Sheet ECO
B1: ECONOMIE (ECO) | K1: PERIODE 1
A3: ALGEMENE INFORMATIE
A4: We beginnen met de lesbrief Welvaart
A9: VAKINHOUD | H9: IK HEB HET GEDAAN | I9: IK BEHEERS HET | J9: RUIMTE VOOR REFLECTIE
A10: WK35: 24 t/m 28 aug. | B10: TAKEN & OPDRACHTEN | H10: FALSE | I10: FALSE
A11: Kijken & Luisteren | B11: Uitleg van het examenprogramma en beginnen met de lesbrief Welvaart | G11: FALSE
A12: Maken | B12: Maken 1.3 t/m 1.17 en 1.25 | G12: FALSE
A13: Daltontaak (optioneel) | B13: Maken van de weektaak | G13: FALSE
A14: Keuzemenu | G14: FALSE
A15: Keuzemenu | G15: FALSE
A16: WK36: 31 t/m 4 sep. | B16: TAKEN & OPDRACHTEN | H16: FALSE | I16: FALSE
A17: Maken | B17: Maken 2.1 t/m 2.15 | G17: FALSE
A18: Nakijken | B18: Weektaak van week 35 | G18: FALSE
A19: Leren | B19: De stof van week 35 | G19: FALSE
A20: Daltontaak (optioneel) | B20: Maken van de weektaak | G20: FALSE
A21: Keuzemenu | G21: FALSE
A22: WK37: 7 t/m 11 sep. Examenreisweek | B22: TAKEN & OPDRACHTEN | H22: FALSE | I22: FALSE
A23: Maken | B23: Maken 3.1 t/m 3.13 en 3.20 | G23: FALSE
A24: Nakijken | B24: Weektaak van week 36 | G24: FALSE
A25: Leren | B25: De stof van week 36 | G25: FALSE
A26: Daltontaak (optioneel) | B26: Maken van de weektaak | G26: FALSE
A27: Keuzemenu | G27: FALSE
A28: WK38: 14 t/m 18 sep. | B28: TAKEN & OPDRACHTEN | H28: FALSE | I28: FALSE
A29: Maken | B29: Maken 4.1 t/m 4.13 | G29: FALSE
A30: Nakijken | B30: Weektaak van week 37 | G30: FALSE
A31: Leren | B31: De stof van week 37 | G31: FALSE
A32: Daltontaak (optioneel) | B32: Maken van de weektaak | G32: FALSE
A33: Keuzemenu | G33: FALSE
A34: WK39: 21 t/m 25 sep. | B34: TAKEN & OPDRACHTEN | H34: FALSE | I34: FALSE
A35: Maken | B35: Maken 5.1 t/m 5.13. | G35: FALSE
A36: Nakijken | B36: Weektaak van week 38 | G36: FALSE
A37: Leren | B37: De stof van week 38 | G37: FALSE
A38: Daltontaak (optioneel) | B38: Maken van de weektaak | G38: FALSE
A39: Keuzemenu | G39: FALSE
A40: WK40: 28 t/m 2 okt. | B40: TAKEN & OPDRACHTEN | H40: FALSE | I40: FALSE
A41: Nakijken | B41: Weektaak van week 39 | G41: FALSE
A42: Herhalen | B42: Lesbrieven Vraag en Aanbod, Marktgedrag , Marktresultaat en Overheidsinvloed | G42: FALSE
A43: Maken | B43: Maken van de oefenopdrachten over de lesbrieven | G43: FALSE
A44: Leren | B44: Lesbrieven Vraag en Aanbod, Marktgedrag , Marktresultaat en Overheidsinvloed | G44: FALSE
A45: Daltontaak (optioneel) | B45: Maken van de oefenopdrachten over de lesbrieven | G45: FALSE
...

Sheet EN
B1: ENGELS (EN) | K1: PERIODE 1
A3: ALGEMENE INFORMATIE
A4: Period 1 will focus on essay writing and literature
A5: Material used: Learnbeat and exam booklet
A6: Make sure you always bring a charged iPad, highlighters / markers, your exam booklet and earphones
A7: Learning objectives: improving text understanding and writing skills and increasing reading pleasure
A9: VAKINHOUD | H9: IK HEB HET GEDAAN | I9: IK BEHEERS HET | J9: RUIMTE VOOR REFLECTIE
A10: WK35: 24 t/m 28 aug. | B10: TAKEN & OPDRACHTEN | H10: FALSE | I10: FALSE
A11: Lezen | B11: Learnbeat 1.1 and 1.2 | G11: FALSE
A12: Inleveren | B12: Work on class assignment and hand it in by the end of the week. | G12: FALSE
A13: Doen | B13: Go to the school library and borrow a 3-point book | G13: FALSE
A14: Reflectie | B14: Fill out this week's reflection form: https://forms.gle/sRWuRo2WxA3P6GRH8 | G14: FALSE
A15: Keuzemenu | G15: FALSE
A16: WK36: 31 t/m 4 sep. | B16: TAKEN & OPDRACHTEN | H16: FALSE | I16: FALSE
A17: Leren | B17: 1.3 C-F | G17: FALSE
A18: Maken | B18: Work on essay assignment 1 | G18: FALSE
A19: Daltontaak (verplicht) | B19: Read part of your book | G19: FALSE
A20: Reflectie | B20: Fill out this week's reflection form: https://forms.gle/ZQY762Y8X76Ypo1j6 | G20: FALSE
A21: Keuzemenu | G21: FALSE
A22: WK37: 7 t/m 11 sep. Examenreisweek | B22: TAKEN & OPDRACHTEN | H22: FALSE | I22: FALSE
A23: Keuzemenu | G23: FALSE
A24: Keuzemenu | G24: FALSE
A25: Keuzemenu | G25: FALSE
A26: Keuzemenu | G26: FALSE
A27: Keuzemenu | G27: FALSE
A28: WK38: 14 t/m 18 sep. | B28: TAKEN & OPDRACHTEN | H28: FALSE | I28: FALSE
A29: Inleveren | B29: Hand in essay assignment 1 | G29: FALSE
A30: Doen | B30: Work on group essay in class / in a dalton period | G30: FALSE
A31: Daltontaak (verplicht) | B31: Read part of your book | G31: FALSE
A32: Reflectie | B32: Fill out this week's reflection form: https://forms.gle/14rzj5PQcP8R8Y517 | G32: FALSE
A33: Keuzemenu | G33: FALSE
A34: WK39: 21 t/m 25 sep. | B34: TAKEN & OPDRACHTEN | H34: FALSE | I34: FALSE
A35: Inleveren | B35: Hand in test exam this week | G35: FALSE
A36: Inleveren | B36: Hand in group essay | G36: FALSE
A37: Maken | B37: 10 questions Super exam training | G37: FALSE
A38: Daltontaak (verplicht) | B38: Read part of your book | G38: FALSE
A39: Reflectie | B39: Fill out this week's reflection form: https://forms.gle/VvtP3LyFuxVdtRzB7 | G39: FALSE
A40: WK40: 28 t/m 2 okt. | B40: TAKEN & OPDRACHTEN | H40: FALSE | I40: FALSE
A41: Maken | B41: Work on essay assignment 2 | G41: FALSE
A42: Maken | B42: 10 questions Super exam training | G42: FALSE
...

Sheet FA
B1: FRANS (FA) | K1: PERIODE 1
A3: ALGEMENE INFORMATIE
A4: Wat neem je mee naar de les? Boek (Libre Service), snelhechter met lijntjespapier en 5 tabbladen, aantekeningen van vorig jaar, oortjes of koptelefoon en un bon humeur
A5: In periode 1 staat het SE Schrijfvaardigheid (25%) centraal. Tijdens de lessen train je ook de andere vaardigheden. Je gaat tevens zelfstandig aan de slag met het leren van signaalwoorden en examenvocabulaire, dit boekje wordt uitgedeeld in de eerste schoolweek. Je vindt de te leren llijst ook in Quizlet. De signaalwoorden en examenvocabulaire worden getoetst in periode 3 (10%).
A6: Welke boeken/spullen/materialen zijn er nodig?
A7: We werken uit het boek in de module Écrire (p. 54-71) en de module Grammaire (p. 116-139). Om succesvol te zijn in het examenjaar kom je voorbereid naar de lessen en hou je het leer-/oefenwerk goed bij. Je vindt de antwoordboeken in de jaarbijlage in Somtoday. Noteer bij het nakijken altijd je vragen en stel deze tijdens de les of in een daltonuur.
A9: VAKINHOUD | H9: IK HEB HET GEDAAN | I9: IK BEHEERS HET | J9: RUIMTE VOOR REFLECTIE
A10: WK35: 24 t/m 28 aug. | B10: TAKEN & OPDRACHTEN | H10: FALSE | I10: FALSE
A11: Doen | B11: Uitdelen boekje signaalwoorden & examenvocabukaire & reader Schrijfvaardigheid/Quizlet/Manuel uit Mediatheek | G11: FALSE
A12: Doen | B12: Module Grammaire leçon 1 ex. 1 t/m 4 | G12: FALSE
A13: Lezen | B13: Module Lire | G13: FALSE
A14: Schrijven | B14: Module Écrire | G14: FALSE
A15: Leren | B15: Signaalwoorden p. 4 & 5 FN - Let op: je moet het verband in de zin er ook bij leren! | G15: FALSE
A16: WK36: 31 t/m 4 sep. | B16: TAKEN & OPDRACHTEN | H16: FALSE | I16: FALSE
A17: Lezen | B17: Module Lire | G17: FALSE
A18: Kijken & Luisteren | B18: Module Regarder et écouter | G18: FALSE
A19: Schrijven | B19: Module Écrire | G19: FALSE
A20: Doen | B20: Module Grammaire leçon 1 ex. 5 t/m 8 | G20: FALSE
A21: Leren | B21: Examenvocabulaire + signaalwoorden p. 6 & 7 FN | G21: FALSE
A22: WK37: 7 t/m 11 sep. Examenreisweek | B22: TAKEN & OPDRACHTEN | H22: FALSE | I22: FALSE
A23: Literatuur | B23: Leesboekje bepalen. Start leeskring en leesopdracht. Literatuurkatern | G23: FALSE
A24: Lezen | B24: Module Lire | G24: FALSE
A25: Schrijven | B25: Module Écrire | G25: FALSE
A26: Doen | B26: Module Grammaire ex. 9 t/m 12 | G26: FALSE
A27: Leren | B27: Examenvocabulaire + signaalwoorden | G27: FALSE
A28: WK38: 14 t/m 18 sep. | B28: TAKEN & OPDRACHTEN | H28: FALSE | I28: FALSE
A29: Literatuur | B29: Leesopdracht. Literatuurkatern | G29: FALSE
A30: Lezen | B30: Module Lire | G30: FALSE
A31: Kijken & Luisteren | B31: Module Regarder et écouter | G31: FALSE
A32: Doen | B32: Module Grammaire ex. 13 t/m 16 | G32: FALSE
A33: Leren | B33: Examenvocabulaire + signaalwoorden | G33: FALSE
A34: WK39: 21 t/m 25 sep. | B34: TAKEN & OPDRACHTEN | H34: FALSE | I34: FALSE
A35: Literatuur | B35: Leesopdracht. Literatuurkatern | G35: FALSE
A36: Lezen | B36: Module Lire | G36: FALSE
A37: Schrijven | B37: Module Écrire | G37: FALSE
A38: Doen | B38: Module Grammaire ex. 17 t/m 20 | G38: FALSE
A39: Leren | B39: Examenvocabulaire + signaalwoorden | G39: FALSE
A40: WK40: 28 t/m 2 okt. | B40: TAKEN & OPDRACHTEN | H40: FALSE | I40: FALSE
A41: Literatuur | B41: Leesopdracht. Literatuurkatern | G41: FALSE
A42: Schrijven | B42: Module Écrire | G42: FALSE
...

Sheet GS
B1: GESCHIEDENIS (GS) | K1: PERIODE 1
A3: ALGEMENE INFORMATIE
A4: Welkom in je laatste jaar op school. In deze periode onderzoeken we hoe de Lage Landen veranderen van een gebied met groeiende steden en handel naar een wereldmacht met de Republiek
A5: We kijken naar de ontwikkeling van steden, bestuur, handel, relgie en politieke macht.
A6: Naast kennis opbouwen oefenen we met vaardigheden die belangrijk zijn voor het centraal examen en vervolgonderwijs, bronnen analyseren, histirsche verklaringen geven
A7: ontwikkelingen vergelijken en historische argumenten formuleren
A9: VAKINHOUD | H9: IK HEB HET GEDAAN | I9: IK BEHEERS HET | J9: RUIMTE VOOR REFLECTIE
A10: WK35: 24 t/m 28 aug. | B10: TAKEN & OPDRACHTEN | H10: FALSE | I10: FALSE
A11: Luisteren | B11: Waarom groeiden steden juist in de Lage Landen? | G11: FALSE
A12: Lezen | B12: HC 1.1 | G12: FALSE
A13: Maken | B13: Basisvragen en begrippenlijst | G13: FALSE
A14: Oefenen | B14: Oorzaak - gevolg. Leg uit waardoor steden konden groeien | G14: FALSE
A15: Doen | B15: Middeleeuwse stadsrechten analyseren | G15: FALSE
A16: WK36: 31 t/m 4 sep. | B16: TAKEN & OPDRACHTEN | H16: FALSE | I16: FALSE
A17: Luisteren | B17: Wie had de macht in een middeleeuwse stad? | G17: FALSE
A18: Lezen | B18: HC 1.2 | G18: FALSE
A19: Maken | B19: Basisvragen en begrippenlijst | G19: FALSE
A20: Oefenen | B20: Historische vergelijking stad vs vorst | G20: FALSE
A21: Doen | B21: examenvaardigheid; leg uit dag vragen | G21: FALSE
A22: WK37: 7 t/m 11 sep. Examenreisweek | B22: TAKEN & OPDRACHTEN | H22: FALSE | I22: FALSE
A23: Keuzemenu | G23: FALSE
A24: Keuzemenu | G24: FALSE
A25: Keuzemenu | G25: FALSE
A26: Keuzemenu | G26: FALSE
A27: Keuzemenu | G27: FALSE
A28: WK38: 14 t/m 18 sep. | B28: TAKEN & OPDRACHTEN | H28: FALSE | I28: FALSE
A29: Luisteren | B29: Waarom kwamen delen van de Nederlanden in opstand? | G29: FALSE
A30: Maken | B30: tijdlijn, oorzaak gevolgschema Opstand | G30: FALSE
A31: Oefenen | B31: Meerder oorzaken afwegen, welke oorzaak is het belangrijkst? | G31: FALSE
A32: Doen | B32: Propaganda herkennen | G32: FALSE
A33: Keuzemenu | G33: FALSE
A34: WK39: 21 t/m 25 sep. | B34: TAKEN & OPDRACHTEN | H34: FALSE | I34: FALSE
A35: Luisteren | B35: Hoe werd een opstandige provincie een wereldmacht? | G35: FALSE
A36: Lezen | B36: HC.1.3 | G36: FALSE
A37: Maken | B37: Basisopdrachten | G37: FALSE
A38: Oefenen | B38: oorzaak gevolg + continuiteit / verandering | G38: FALSE
A39: Keuzemenu | G39: FALSE
A40: WK40: 28 t/m 2 okt. | B40: TAKEN & OPDRACHTEN | H40: FALSE | I40: FALSE
A41: Luisteren | B41: Waarom werd de Republiek economisch zo succesvol | G41: FALSE
A42: Doen | B42: Bronnenpracticum voc bron, kaart handelsroutes | G42: FALSE
...

Sheet IN
B1: INFORMATICA (IN) | K1: PERIODE 1
A3: ALGEMENE INFORMATIE
A4: Leermethode: werkboek
A9: VAKINHOUD | H9: IK HEB HET GEDAAN | I9: IK BEHEERS HET | J9: RUIMTE VOOR REFLECTIE
A10: WK35: 24 t/m 28 aug. | B10: TAKEN & OPDRACHTEN | H10: FALSE | I10: FALSE
B11: Geen les | G11: FALSE
G12: FALSE
G13: FALSE
G14: FALSE
G15: FALSE
A16: WK36: 31 t/m 4 sep. | B16: TAKEN & OPDRACHTEN | H16: FALSE | I16: FALSE
A17: Kijken & Luisteren | B17: (1) Kennismaking + Introductie domein F (H1 t/m H5) | G17: FALSE
A18: Maken | B18: (2) Opdrachten Usability | G18: FALSE
A19: Maken & Nakijken | B19: Nabespreken F1 | G19: FALSE
A20: Lezen | B20: Domein F1: H1 t/m H5 | G20: FALSE
A21: Maken | B21: Opdrachten uit de les | G21: FALSE
A22: WK37: 7 t/m 11 sep. | B22: TAKEN & OPDRACHTEN | H22: FALSE | I22: FALSE
A23: Kijken & Luisteren | B23: Introductie B1: Algoritmen | G23: FALSE
G24: FALSE
G25: FALSE
G26: FALSE
A27: Maken | B27: Opdrachten uit de les | G27: FALSE
A28: WK38: 14 t/m 18 sep. | B28: TAKEN & OPDRACHTEN | H28: FALSE | I28: FALSE
A29: Luisteren & Maken | B29: Domein B2 | G29: FALSE
G30: FALSE
G31: FALSE
G32: FALSE
A33: Maken | B33: Opdrachten uit de les | G33: FALSE
A34: WK39: 21 t/m 25 sep. | B34: TAKEN & OPDRACHTEN | H34: FALSE | I34: FALSE
A35: Luisteren & Maken | B35: Domein B3 | G35: FALSE
A36: Maken | G36: FALSE
G37: FALSE
G38: FALSE
A39: Maken | B39: Opdrachten uit de les | G39: FALSE
A40: WK40: 28 t/m 2 okt. | B40: TAKEN & OPDRACHTEN | H40: FALSE | I40: FALSE
A41: Kijken & Luisteren | B41: Theorie B4 | G41: FALSE
G42: FALSE
G43: FALSE
G44: FALSE
A45: Maken | B45: Opdrachten uit de les | G45: FALSE
...

Sheet NAT
B1: NATUURKUNDE (NAT) | K1: PERIODE 1
A3: ALGEMENE INFORMATIE
A4: Welkom in 6 vwo natuurkunde. We gebruiken dit jaar een andere methode.
A5: Jullie hebben daardoor helaas alleen een 6 vwo boek van deze methode. Voor herhaling van andere hoofdstukken maken we gebruik van kopiën en wetenschapsschool.nl
A6: In deze eerste periode starten we met katern C: Kernfysica.
A7: Dit boekje haal je gedurende de eerste les bij de mediatheek. Antwoorden Kernfysica en Hst 14: ON5-UP1-V6-H14-Uitwerkingen.pdf SN8_vwo_KC_Kerndeeltjes uitwerkingen.pdf
A9: VAKINHOUD | H9: IK HEB HET GEDAAN | I9: IK BEHEERS HET | J9: RUIMTE VOOR REFLECTIE
A10: WK35: 24 t/m 28 aug. | B10: TAKEN & OPDRACHTEN | H10: FALSE | I10: FALSE
A11: Lezen | B11: Kernfysica C.1 geheel en Kernfysica C.2 geheel Leerdoel: Opstellen van vervalvergelijkingen en berekenen van het massadefect | G11: FALSE
A12: Maken & Nakijken | B12: Opgaven 1, 4 en 5 boekje blz 8, 9 en 10 | G12: FALSE
A13: Maken & Nakijken | B13: Opgaven 6 t/m 9 boekje blz 16 en 17 | G13: FALSE
A14: Test jezelf | B14: Googleformulier Kernfysica https://docs.google.com/forms/d/e/1FAIpQLSfvl9JfEUfaiDGCQIwUpciEn_KzzBuLDJ8Wvx_Y2hu5UwHqhQ/viewform?usp=sharing&ouid=113409162088996448164 | G14: FALSE
A15: Kijken & Luisteren | B15: Powerpoint massadefect massadefect.pptx | G15: FALSE
A16: WK36: 31 t/m 4 sep. | B16: TAKEN & OPDRACHTEN | H16: FALSE | I16: FALSE
A17: Lezen | B17: Kernfysica C.3 geheel en C.4 geheel Leerdoel: Opstellen vervalvergelijking met neutrino's en leptongetal en rekenen met impuls | G17: FALSE
A18: Maken | B18: Werkblad vervalvergelijkingen deeltjesfysica oefenopgaven.docx | G18: FALSE
A19: Maken & Nakijken | B19: Opgaven 6 t/m 9 boekje blz 16 en 17 | G19: FALSE
A20: Maken & Nakijken | B20: Opgaven 11 t/m 13 boekje blz 22, 23 | G20: FALSE
A21: Keuzemenu | G21: FALSE
A22: WK37: 7 t/m 11 sep. Examenreisweek | B22: TAKEN & OPDRACHTEN | H22: FALSE | I22: FALSE
A23: Keuzemenu | G23: FALSE
A24: Keuzemenu | G24: FALSE
A25: Keuzemenu | G25: FALSE
A26: Keuzemenu | G26: FALSE
A27: Keuzemenu | G27: FALSE
A28: WK38: 14 t/m 18 sep. | B28: TAKEN & OPDRACHTEN | H28: FALSE | I28: FALSE
A29: Lezen | B29: Kernfysica C.5 geheel Leerdoel: Begrijpen van en rekenen aan de lineaire versneller | G29: FALSE
A30: Maken & Nakijken | B30: Opgaven 22 en 24 boekje blz 34 en 36 | G30: FALSE
A31: Lezen | B31: Paragraaf 14.1 Leerdoel: Coordinatentransformatie kunnen toepassen en de raaklijkmethode kunnen koppelen aan de afgeleide | G31: FALSE
A32: Maken | B32: Oefenblad coördinatentransformatie Opgaven coordinatentransformatie en afgeleide.docx | G32: FALSE
A33: Maken & Nakijken | B33: Opgaven 14.1: 3, 4, 5, 6, 7 en 10 | G33: FALSE
A34: WK39: 21 t/m 25 sep. | B34: TAKEN & OPDRACHTEN | H34: FALSE | I34: FALSE
A35: Lezen | B35: Paragraaf 14.3 Leerdoel: Model kunnen aanvullen en juiste startwaardes kunnen invullen | G35: FALSE
A36: Kijken & Luisteren | B36: Voorbeelden Modellen in Coach | G36: FALSE
A37: Maken & Nakijken | B37: Opgave 37 blz 89 | G37: FALSE
A38: Maken | B38: Oefenblad modelleren | G38: FALSE
A39: Keuzemenu | G39: FALSE
A40: WK40: 28 t/m 2 okt. | B40: TAKEN & OPDRACHTEN | H40: FALSE | I40: FALSE
A41: Lezen | B41: Paragraaf 14.4 en paragraaf 14.5 Leerdoel: Rekenen met de wet van behoud van energie en met de wet van arbeid en kinetische energie | G41: FALSE
A42: Maken & Nakijken | B42: Opgaven 14.4: 43 en 44 | G42: FALSE
...

Sheet NE
B1: NEDERLANDS (NE) | K1: PERIODE 1
A3: ALGEMENE INFORMATIE
A4: Welkom in de studiewijzer Nederlands V6
A5: Deze periode ga jij je bezighouden met het lezen van leesboek, oefeningen spelling en formuleren en schrijfvaardigheid (beschouwing schrijven) en leesvaardigheid op examenniveau
A6: je hebt nodig: pen, schrift/snelhechter en lesmateriaal dat door de docent wordt verstrekt. Het leesboek kun je weer lenen in de mediatheek ( niet vertaald en een bovenbouwboek van 2 of 3 punten)
A7: Je hebt na afloop van deze periode nog meer kennis over romantheorie/literatuur , spelling en formulering ,schrijfvaardigheid en leesvaardigheid
A9: VAKINHOUD | H9: IK HEB HET GEDAAN | I9: IK BEHEERS HET | J9: RUIMTE VOOR REFLECTIE
A10: WK35: 24 t/m 28 aug. | B10: TAKEN & OPDRACHTEN | H10: FALSE | I10: FALSE
A11: Doen | B11: leen in de mediatheek een leesboek ( 2 of 3 punten/niet vertaald) | G11: FALSE
A12: Maken & Nakijken | B12: oefeningen reader spelling/formuleren | G12: FALSE
A13: Doen | B13: lees 20 % in je leesboek 1 | G13: FALSE
A14: Doen | B14: Tekst 1 + vragen op examenniveau maken | G14: FALSE
A15: Daltontaak (optioneel) | B15: lezen in je leesboek/oefeningen reader spelling/formuleren | G15: FALSE
A16: WK36: 31 t/m 4 sep. | B16: TAKEN & OPDRACHTEN | H16: FALSE | I16: FALSE
A17: Doen | B17: lees 20% in je leesboek 1 | G17: FALSE
A18: Maken & Nakijken | B18: oefeningen reader spelling/formuleren | G18: FALSE
A19: Doen | B19: Tekst 2 + vragen op examenniveau maken | G19: FALSE
A20: Keuzemenu | G20: FALSE
A21: Daltontaak (optioneel) | B21: lezen in je leesboek/oefeningen reader spelling/formuleren | G21: FALSE
A22: WK37: 7 t/m 11 sep. Examenreisweek | B22: TAKEN & OPDRACHTEN | H22: FALSE | I22: FALSE
A23: Keuzemenu | B23: Veel gezelligheid en plezier! | G23: FALSE
A24: Keuzemenu | G24: FALSE
A25: Keuzemenu | G25: FALSE
A26: Keuzemenu | G26: FALSE
A27: Keuzemenu | B27: lezen in je leesboek | G27: FALSE
A28: WK38: 14 t/m 18 sep. | B28: TAKEN & OPDRACHTEN | H28: FALSE | I28: FALSE
A29: Doen | B29: lees 20% in je leesboek 1 | G29: FALSE
A30: Luisteren & Maken | B30: theorie/uitleg beschouwing schrijven ( voor toetsweek1) | G30: FALSE
A31: Maken & Nakijken | B31: oefeningen reader spelling/formuleren | G31: FALSE
A32: Doen | B32: Tekst 3+ vragen op examenniveau maken | G32: FALSE
A33: Daltontaak (optioneel) | B33: lezen in je leesboek/opdrachten reader spelling/formuleren | G33: FALSE
A34: WK39: 21 t/m 25 sep. | B34: TAKEN & OPDRACHTEN | H34: FALSE | I34: FALSE
A35: Doen | B35: lees 20% in je leesboek 1 | G35: FALSE
A36: Maken | B36: oefenbeschouwing 1 | G36: FALSE
A37: Doen | B37: Tekst 4+ vragen op examenniveau maken | G37: FALSE
A38: Keuzemenu | G38: FALSE
A39: Daltontaak (optioneel) | B39: lezen in je leesboek/opdrachten reader spelling/formuleren | G39: FALSE
A40: WK40: 28 t/m 2 okt. | B40: TAKEN & OPDRACHTEN | H40: FALSE | I40: FALSE
A41: Doen | B41: laatste 20 % lezen in je leesboek 1 | G41: FALSE
A42: Maken | B42: oefenbeschouwing 1 | G42: FALSE
...

Sheet NLT
B1: NATUUR, LEVEN EN TECHNIEK (NLT) | K1: PERIODE 1
A3: ALGEMENE INFORMATIE
A4: Welkomswoordje
A5: Wat gaan we deze periode doen? Wat is de Daltontaak? Wat houd de Daltontaak in?
A6: Welke boeken/spullen/materialen zijn er nodig?
A7: Wat moet je geleerd hebben na deze periode?
A9: VAKINHOUD | H9: IK HEB HET GEDAAN | I9: IK BEHEERS HET | J9: RUIMTE VOOR REFLECTIE
A10: WK35: 24 t/m 28 aug. | B10: TAKEN & OPDRACHTEN | H10: FALSE | I10: FALSE
A11: Lezen | B11: Lezen blz. 1 t/m 7 | G11: FALSE
A12: Maken | B12: Maken opdracht 1 | G12: FALSE
A13: Lezen | B13: Lezen blz. 3 | G13: FALSE
A14: Maken | B14: Beschrijf hoe een nieuw medicijn gemaakt wordt, vanaf target finding tot en met lead optimization. | G14: FALSE
A15: Keuzemenu | G15: FALSE
A16: WK36: 31 t/m 4 sep. | B16: TAKEN & OPDRACHTEN | H16: FALSE | I16: FALSE
A17: Practicum | B17: Uitvoeren experiment "oplosbaarheid van geneesmiddelen" | G17: FALSE
A18: Maken | B18: Opstarten "Wie is de beste dokter" invullen Googleformulier deel 1 | G18: FALSE
A19: Lezen | B19: Lezen blz. 8 t/m 12 | G19: FALSE
A20: Maken | B20: Maken opdrachten 3.1, 3.2, 4.1, 5, 6.1 en 6.2 | G20: FALSE
A21: Daltontaak (verplicht) | B21: (tabel, grafiek, theoretische en empirische bepaling oplosbaarheid en foutendiscussie aftekenen eind | G21: FALSE
A22: WK37: 7 t/m 11 sep. Examenreisweek | B22: TAKEN & OPDRACHTEN | H22: FALSE | I22: FALSE
A23: Lezen | B23: Lezen paragraaf 1.4 | G23: FALSE
A24: Maken | B24: Maken opdracht 8 en 9 | G24: FALSE
A25: Luisteren | B25: Klassikale uitleg chemische communicatie | G25: FALSE
A26: Kijken & Luisteren | B26: Filmpje kijken signaaltransductie https://www.youtube.com/watch?v=qOVkedxDqQo | G26: FALSE
A27: Maken | B27: Maken en aftekenen opdracht signaaltransductie | G27: FALSE
A28: WK38: 14 t/m 18 sep. | B28: TAKEN & OPDRACHTEN | H28: FALSE | I28: FALSE
A29: Lezen | B29: lezen blz. 18 t/m 28 | G29: FALSE
A30: Kijken & Luisteren | B30: Filmpje kijken https://www.youtube.com/watch?v=ubYXN3AsdIE | G30: FALSE
A31: Maken | B31: Maken opdrachten 13.1 en 14.1 mbv bovenstaande filmpje | G31: FALSE
A32: Maken | B32: Maken opdracht "Botuline" | G32: FALSE
A33: Keuzemenu | G33: FALSE
A34: WK39: 21 t/m 25 sep. | B34: TAKEN & OPDRACHTEN | H34: FALSE | I34: FALSE
A35: Lezen | B35: Lezen blz 30 t/m 33 | G35: FALSE
A36: Maken | B36: Maken opgave 16 | G36: FALSE
A37: Practicum | B37: Uitvoeren experiment 18, inleveren vragen b t/m d | G37: FALSE
A38: Luisteren | B38: Klasssikale uitleg Ligand - Receptor evenwicht | G38: FALSE
A39: Maken | B39: Klassikaal maken opdracht 19.1 | G39: FALSE
A40: WK40: 28 t/m 2 okt. | B40: TAKEN & OPDRACHTEN | H40: FALSE | I40: FALSE
A41: Maken | B41: "Wie is de beste dokter" invullen Googleformulier deel 2 | G41: FALSE
A42: Maken | B42: Klassikaal maken en bespreken opgave 19.2 en 20 a, b en c | G42: FALSE
...

Sheet SK
B1: SCHEIKUNDE (SK) | K1: PERIODE 1
A3: ALGEMENE INFORMATIE
A4: Welkomswoordje
A5: Wat gaan we deze periode doen? Wat is de Daltontaak? Wat houd de Daltontaak in?
A6: Welke boeken/spullen/materialen zijn er nodig?
A7: Wat moet je geleerd hebben na deze periode?
A9: VAKINHOUD | H9: IK HEB HET GEDAAN | I9: IK BEHEERS HET | J9: RUIMTE VOOR REFLECTIE
A10: WK35: 24 t/m 28 aug. | B10: TAKEN & OPDRACHTEN | H10: FALSE | I10: FALSE
A11: Kijken & Luisteren | B11: Powerpoint 4e en 5e klas bespreken | G11: FALSE
A12: Maken | B12: Diagnostische toets 4e klasstof maken | G12: FALSE
A13: Herhalen | B13: Klassikale herhaling 4e klasstof | G13: FALSE
A14: Daltontaak (optioneel) | B14: Doornemen samenvattingen 4e klasstof | G14: FALSE
A15: Keuzemenu | G15: FALSE
A16: WK36: 31 t/m 4 sep. | B16: TAKEN & OPDRACHTEN | H16: FALSE | I16: FALSE
A17: Maken | B17: Diagnostische toets 5e klasstof maken | G17: FALSE
A18: Kijken & Luisteren | B18: Klassikale herhaling 5e klasstof | G18: FALSE
A19: Test jezelf | B19: Doornemen samenvattingen 5e klasstof | G19: FALSE
A20: Daltontaak (optioneel) | B20: Bepalen aan de hand van de afgelopen lessen welke zwakke punten er nog zijn | G20: FALSE
A21: Keuzemenu | G21: FALSE
A22: WK37: 7 t/m 11 sep. Examenreisweek | B22: TAKEN & OPDRACHTEN | H22: FALSE | I22: FALSE
A23: Maken | B23: 2e diagnostische toets 5e klasstof maken | G23: FALSE
A24: Kijken & Luisteren | B24: Klassikale herhaling 5e klasstof | G24: FALSE
A25: Kijken & Luisteren | B25: Klassikale uitleg atoomeconomie, E-factor en rendement | G25: FALSE
A26: Maken | B26: Maken opgaven par. 15.1 1 t/m 7 (aanbevolen 3, 5 en 6) | G26: FALSE
A27: Daltontaak (verplicht) | B27: Doorlopen "Virtuele fabriek" zie link http://chemistry.jackdaw.nl/zoutzuur_atoomeconomie_rendement_en_efactor.html | G27: FALSE
A28: WK38: 14 t/m 18 sep. | B28: TAKEN & OPDRACHTEN | H28: FALSE | I28: FALSE
A29: Luisteren | B29: Klassikale uitleg energiebalans | G29: FALSE
A30: Maken | B30: Maken opgaven par. 15.2 8 t/m 18 (aanbevolen 11, 16 en 17) | G30: FALSE
A31: Maken | B31: Maken expertopgaven energiebalans, wees dus bij!!!! | G31: FALSE
A32: Luisteren | B32: Klassikale uitleg reactiesnelheid | G32: FALSE
A33: Maken | B33: Maken opgaven 19 t/m 25 (aanbevolen 20, 22 en 23) | G33: FALSE
A34: WK39: 21 t/m 25 sep. | B34: TAKEN & OPDRACHTEN | H34: FALSE | I34: FALSE
A35: Luisteren | B35: Klassikale uitleg blokschema's | G35: FALSE
A36: Maken | B36: Maken opgave 12, 13 en 15 eindexamen 2013 tv1 | G36: FALSE
A37: Luisteren | B37: Klassikale uitleg rekenvoorbeeld, uitleg continu- en batchproces | G37: FALSE
A38: Luisteren | B38: Klassikale uitleg koolhydraten | G38: FALSE
A39: Maken | B39: Maken opgaven 16.1 (aanbevolen 2 t/m 5) | G39: FALSE
A40: WK40: 28 t/m 2 okt. | B40: TAKEN & OPDRACHTEN | H40: FALSE | I40: FALSE
A41: Kijken & Luisteren | B41: Klassikale uitleg Vetten | G41: FALSE
A42: Maken | B42: Maken opgaven par. 16.2 7 t/m 12 (aanbevolen 8, 11 en 12) | G42: FALSE
...

Sheet SP
B1: SPAANS (SP) | K1: PERIODE 1
A3: ALGEMENE INFORMATIE
A4: Hola chicos, bienvenidos al último año de Español.
A5: - In periode 1 toetsen we schrijfvaardigheid (25%). Je schrijft een opiniestuk waarin je je mening onderbouwt over het thema multiculturaliteit. Maak de (schrijf)opdrachten en oefen je woordenschat zodat je hier goed op voorbereid bent. Laat regelmatig je werk zien aan je profesora, en aan compañeros voor feedback. Woordenschat oefen je via Quizlet, en natuurlijk via de Powerpoint, de digitale leeromgeving en met je aantekeningen die je tijdens de les maakt.
A6: - We werken met het boek van Compañeros 4, unidad 7: Multiculturalidad. Werk de opdrachten uit in je schrift of map en neem ook elke les pennen, een tablet en een oplader mee.
A7: - Leesvaardigheid is het grootste examenonderdeel, dat in mei getoetst wordt in het Centraal Schriftelijk Eindexamen. Oefen hiervoor ook regelmatig via www.examenblad.nl Maak bijvoorbeeld wekelijks een korte en een lange tekst tijdens het Daltonuur. Probeer in ieder geval een heel examen te maken voor het einde van periode 1, zodat je een nulmeting hebt.
A9: VAKINHOUD | H9: IK HEB HET GEDAAN | I9: IK BEHEERS HET | J9: RUIMTE VOOR REFLECTIE
A10: WK35: 24 t/m 28 aug. | B10: TAKEN & OPDRACHTEN | H10: FALSE | I10: FALSE
A11: Onderzoeken | B11: ¿Qué significa Multiculturalidad? Investiga este tema y descríbelo en tus propias palabras (50 palabras como mínimo) en español. Empieza tu relato con una pequeña introducción de ti mismo. ¿Cuáles experiencias tienes tú? | G11: FALSE
A12: Maken | B12: Les 1: Introductie op het examenjaar en het thema Multiculturalidad. Maak de onderzoeksopdracht. | G12: FALSE
A13: Maken | B13: Les 2: unidad 7 p.78-79 (zie audio) opg. 1 tm. 4. Maak een mindmap met min. 15 belangrijke Spaanse termen rondom het thema Multiculturalidad. | G13: FALSE
A14: Kijken & Luisteren | B14: Video: Multiculturalidad | G14: FALSE
A15: Luisteren | B15: Audio TB 7.2 p.78 | G15: FALSE
A16: WK36: 31 t/m 4 sep. | B16: TAKEN & OPDRACHTEN | H16: FALSE | I16: FALSE
A17: Onderzoeken | B17: Bespreken beleefdheidsvormen in Nederland vs. Spaanstalige landen. | G17: FALSE
A18: Maken | B18: les 1: vocabulario pag. 79-80 opg. 5,6,7 | G18: FALSE
A19: Maken | B19: les 2: Uitleg Condicional pag. 81 opg. 1+2. | G19: FALSE
A20: Lezen | B20: Maak tekst 1+2 van het examen Spaans 2026 tijdvak 1 | G20: FALSE
A21: Keuzemenu | G21: FALSE
A22: WK37: 7 t/m 11 sep. Examenreisweek | B22: TAKEN & OPDRACHTEN | H22: FALSE | I22: FALSE
A23: Keuzemenu | B23: Geen lessen, iedereen op reis! | G23: FALSE
A24: Keuzemenu | G24: FALSE
A25: Keuzemenu | G25: FALSE
A26: Keuzemenu | G26: FALSE
A27: Keuzemenu | G27: FALSE
A28: WK38: 14 t/m 18 sep. | B28: TAKEN & OPDRACHTEN | H28: FALSE | I28: FALSE
A29: Onderzoeken | B29: Bespreken culturele verschillen in afstand (begroeten), gastvrijeheid en relaties tussen mensen. Je eigen ervaringen met andere gebruiken beschrijven, welke stereotyperingen ken je? Zijn die gegrond? | G29: FALSE
A30: Maken | B30: les 1: pag. 84 Comunicación opg. 1,2,3. | G30: FALSE
A31: Maken | B31: Les 2: pag. 85 Comunicación opg. 4,5,6. | G31: FALSE
A32: Lezen | B32: Maak tekst 3+4 van het examen Spaans 2026 tijdvak 1 | G32: FALSE
A33: Kijken & Luisteren | B33: Video Wat Nederlanders denken over Latino's | G33: FALSE
A34: WK39: 21 t/m 25 sep. | B34: TAKEN & OPDRACHTEN | H34: FALSE | I34: FALSE
A35: Onderzoeken | B35: Bespreken wat gevaren zijn binnen een multiculturele samenleving: rascisme, ongelijkhied, xenofobie. En wat we moeten doen om dit op te lossen. Als dit, dan dat... (+SUBJ) | G35: FALSE
A36: Maken | B36: Les 1: pag. 82 opg. 3,4,5. Voorwaardelijke bijzinnen en de SUBJUNTIVO of de PRESENTE. Zie ook: pag. 113-115. | G36: FALSE
A37: Maken | B37: Les 2: Oefenen met reële en minder reële scenario's. Wat zou er gebeuren, als...? Schrijf 10 zinnen over een lastige situatie rondom het thema multiculturaliteit. | G37: FALSE
A38: Lezen | B38: Maak tekst 5+6 van het examen Spaans 2026 tijdvak 1 | G38: FALSE
A39: Keuzemenu | G39: FALSE
A40: WK40: 28 t/m 2 okt. | B40: TAKEN & OPDRACHTEN | H40: FALSE | I40: FALSE
A41: Onderzoeken | B41: Wat doen ONG's? Hoe heten die in het Nederlands? Waarom zijn ze belangrijk? Waar zou jij een donatie aan geven en waarom? Herhalen van de belangrijkste uitdrukkingen van de SUBJUNTIVO en wanneer je je mening onderbouwt met een indicativo of een infinitivo. (verschil duidelijk maken in PPT, verwijzen naar V5) | G41: FALSE
A42: Maken | B42: Les 1: Destrezas pag. 86 opg. 1,2,3. Leer de uitdrukkingen van opg. 3. | G42: FALSE
...

Sheet WISA
B1: WISKUNDE A (WISA) | K1: PERIODE 1
A3: ALGEMENE INFORMATIE
A4: Wat neem je mee: - 1 leerboek Deel 3 en 4 - Ruitjesschrift (A4, 1 cm ruit) - iPad (opgeladen) - Grafische Rekenmachine - Etui met daarin: Blauwe of zwarte pennen, potlood (HB) of vulpotlood, gum, geodriehoek, kleurpotloden en puntenslijper.
A9: VAKINHOUD | H9: IK HEB HET GEDAAN | I9: IK BEHEERS HET | J9: RUIMTE VOOR REFLECTIE
A10: WK35: 24 t/m 28 aug. | B10: TAKEN & OPDRACHTEN | H10: FALSE | I10: FALSE
A11: Maken & Nakijken | B11: Voorkennis H17 | G11: FALSE
A12: Maken & Nakijken | B12: §17.1 Hypothesen | G12: FALSE
A13: Maken & Nakijken | B13: §17.2 | G13: FALSE
A14: Keuzemenu | G14: FALSE
A15: Keuzemenu | G15: FALSE
A16: WK36: 31 t/m 4 sep. | B16: TAKEN & OPDRACHTEN | H16: FALSE | I16: FALSE
A17: Maken & Nakijken | B17: §17.3 | G17: FALSE
A18: Maken & Nakijken | B18: §17.4 | G18: FALSE
A19: Maken & Nakijken | B19: §17.5 | G19: FALSE
A20: Keuzemenu | G20: FALSE
A21: Keuzemenu | G21: FALSE
A22: WK37: 7 t/m 11 sep. Examenreisweek | B22: TAKEN & OPDRACHTEN | H22: FALSE | I22: FALSE
A23: Keuzemenu | G23: FALSE
A24: Keuzemenu | G24: FALSE
A25: Keuzemenu | G25: FALSE
A26: Keuzemenu | G26: FALSE
A27: Keuzemenu | G27: FALSE
A28: WK38: 14 t/m 18 sep. | B28: TAKEN & OPDRACHTEN | H28: FALSE | I28: FALSE
A29: Maken & Nakijken | B29: §17.6 | G29: FALSE
A30: Maken & Nakijken | B30: Voorkennis H18 (deel 4) | G30: FALSE
A31: Maken & Nakijken | B31: §18.1 | G31: FALSE
A32: Keuzemenu | G32: FALSE
A33: Keuzemenu | G33: FALSE
A34: WK39: 21 t/m 25 sep. | B34: TAKEN & OPDRACHTEN | H34: FALSE | I34: FALSE
A35: Maken & Nakijken | B35: §18.2 | G35: FALSE
A36: Maken & Nakijken | B36: §18.3 | G36: FALSE
A37: Maken & Nakijken | B37: §18.4 | G37: FALSE
A38: Keuzemenu | G38: FALSE
A39: Keuzemenu | G39: FALSE
A40: WK40: 28 t/m 2 okt. | B40: TAKEN & OPDRACHTEN | H40: FALSE | I40: FALSE
A41: Maken & Nakijken | B41: §18.5 | G41: FALSE
A42: Maken & Nakijken | B42: Voorkennis H19 | G42: FALSE
A43: Maken & Nakijken | B43: §19.1 | G43: FALSE
A44: Keuzemenu | G44: FALSE
A45: Keuzemenu | G45: FALSE
...

Sheet WISB
B1: WISKUNDE B (WISB) | K1: PERIODE 1
A3: ALGEMENE INFORMATIE
A4: Welkom!
A5: Wat gaan we doen deze periode? - TW1 --> H17 Goniometrische functies en H18 Toepassingen van integreren + Vaardigheden 9 (deel 3)
A6: Wat neem je mee: - Leerboek Deel 3 in Periode 1, Deel 4 in Periode 2 en 3. - Ruitjesschrift (A4, 1 cm ruit) - iPad (opgeladen) - Grafische Rekenmachine - Etui met daarin: Blauwe of zwarte pennen, potlood (HB) of vulpotlood, gum, geodriehoek, kleurpotloden, passer en puntenslijper.
A9: VAKINHOUD | H9: IK HEB HET GEDAAN | I9: IK BEHEERS HET | J9: RUIMTE VOOR REFLECTIE
A10: WK35: 24 t/m 28 aug. | B10: TAKEN & OPDRACHTEN | H10: FALSE | I10: FALSE
A11: Maken & Nakijken | B11: Voorkennis H17 Goniometrische functies | G11: FALSE
A12: Maken & Nakijken | B12: §17.1 Harmonische trillingen | G12: FALSE
A13: Maken & Nakijken | B13: §17.2 Goniometrische formules | G13: FALSE
A14: Daltontaak (verplicht) | B14: Vaardigheden 9, blz. 238 | G14: FALSE
A15: Keuzemenu | G15: FALSE
A16: WK36: 31 t/m 4 sep. | B16: TAKEN & OPDRACHTEN | H16: FALSE | I16: FALSE
A17: Maken & Nakijken | B17: §17.3 Vergelijkingen oplossen | G17: FALSE
A18: Maken & Nakijken | B18: §17.4 Differentiëren | G18: FALSE
A19: Maken & Nakijken | B19: §17.5 Integreren | G19: FALSE
A20: Daltontaak (verplicht) | B20: Vaardigheden 9, blz. 239 | G20: FALSE
A21: Keuzemenu | G21: FALSE
A22: WK37: 7 t/m 11 sep. Examenreisweek | B22: TAKEN & OPDRACHTEN | H22: FALSE | I22: FALSE
A23: Maken & Nakijken | B23: §17.6 Tangensfunctie | G23: FALSE
A24: Keuzemenu | G24: FALSE
A25: Keuzemenu | G25: FALSE
A26: Daltontaak (verplicht) | B26: Vaardigheden 9, blz. 240 | G26: FALSE
A27: Keuzemenu | G27: FALSE
A28: WK38: 14 t/m 18 sep. | B28: TAKEN & OPDRACHTEN | H28: FALSE | I28: FALSE
A29: Maken & Nakijken | B29: §17.7 Gemengde opdrachten | G29: FALSE
A30: Maken & Nakijken | B30: H17 Test jezelf T1 t/m T5 | G30: FALSE
A31: Daltontaak (verplicht) | B31: H17 §17.1 t/m §17.6 afmaken | G31: FALSE
A32: Keuzemenu | G32: FALSE
A33: Keuzemenu | G33: FALSE
A34: WK39: 21 t/m 25 sep. | B34: TAKEN & OPDRACHTEN | H34: FALSE | I34: FALSE
A35: Maken & Nakijken | B35: H17 Test jezelf T6 t/m T10 | G35: FALSE
A36: Maken & Nakijken | B36: §18.1 Integraal en oppervlakte | G36: FALSE
A37: Maken & Nakijken | B37: §18.2 Omwentelingslichamen | G37: FALSE
A38: Daltontaak (verplicht) | B38: Vaardigheden 9, blz. 241 | G38: FALSE
A39: Keuzemenu | G39: FALSE
A40: WK40: 28 t/m 2 okt. | B40: TAKEN & OPDRACHTEN | H40: FALSE | I40: FALSE
A41: Maken & Nakijken | B41: §18.3 Wentelen om de y-as | G41: FALSE
A42: Maken & Nakijken | B42: §18.4 Variabele grenzen | G42: FALSE
A43: Maken & Nakijken | B43: §18.5 Gemengde opdrachten | G43: FALSE
...
